BEGIN:VCALENDAR
VERSION:2.0
PRODID:icalendar-ruby
CALSCALE:GREGORIAN
METHOD:PUBLISH
BEGIN:VEVENT
DTSTAMP:20260423T090341Z
UID:event-12155-2024-08-02T20:00:00+02:00-none
DTSTART;TZID=Europe/Madrid:20240802T200000
DESCRIPTION:Un poemario que aglutina cerca de "mil versos que conforman poe
 mas largos"\, en tono de "poesía crítica"\, a la que se suma la poesía 
 mística que tanto ha acompañado y acompaña a esta poeta abulense a lo l
 argo de los años.
SUMMARY:Presentación del poemario "Fuga Mundi"\, con Laura García de Luca
 s
END:VEVENT
END:VCALENDAR
