BEGIN:VCALENDAR
VERSION:2.0
PRODID:icalendar-ruby
CALSCALE:GREGORIAN
METHOD:PUBLISH
BEGIN:VEVENT
DTSTAMP:20260423T102126Z
UID:event-12231-2024-08-02T17:30:00+02:00-none
DTSTART;TZID=Europe/Madrid:20240802T173000
DESCRIPTION:Año 2006. El reino de Bután camina hacia la democracia. De ca
 ra a la celebración de elecciones\, el gobierno organiza simulacros de vo
 taciones con la idea de preparar a la población para algo que desconoce. 
SUMMARY:"El monje y el rifle"\, de Pawo Choyning Dorji (V.O.S.E)
END:VEVENT
BEGIN:VEVENT
DTSTAMP:20260423T102126Z
UID:event-12231-2024-08-03T17:30:00+02:00-none
DTSTART;TZID=Europe/Madrid:20240803T173000
DESCRIPTION:Año 2006. El reino de Bután camina hacia la democracia. De ca
 ra a la celebración de elecciones\, el gobierno organiza simulacros de vo
 taciones con la idea de preparar a la población para algo que desconoce. 
SUMMARY:"El monje y el rifle"\, de Pawo Choyning Dorji (V.O.S.E)
END:VEVENT
BEGIN:VEVENT
DTSTAMP:20260423T102126Z
UID:event-12231-2024-08-04T17:30:00+02:00-none
DTSTART;TZID=Europe/Madrid:20240804T173000
DESCRIPTION:Año 2006. El reino de Bután camina hacia la democracia. De ca
 ra a la celebración de elecciones\, el gobierno organiza simulacros de vo
 taciones con la idea de preparar a la población para algo que desconoce. 
SUMMARY:"El monje y el rifle"\, de Pawo Choyning Dorji (V.O.S.E)
END:VEVENT
BEGIN:VEVENT
DTSTAMP:20260423T102126Z
UID:event-12231-2024-08-05T17:30:00+02:00-none
DTSTART;TZID=Europe/Madrid:20240805T173000
DESCRIPTION:Año 2006. El reino de Bután camina hacia la democracia. De ca
 ra a la celebración de elecciones\, el gobierno organiza simulacros de vo
 taciones con la idea de preparar a la población para algo que desconoce. 
SUMMARY:"El monje y el rifle"\, de Pawo Choyning Dorji (V.O.S.E)
END:VEVENT
BEGIN:VEVENT
DTSTAMP:20260423T102126Z
UID:event-12231-2024-08-06T17:30:00+02:00-none
DTSTART;TZID=Europe/Madrid:20240806T173000
DESCRIPTION:Año 2006. El reino de Bután camina hacia la democracia. De ca
 ra a la celebración de elecciones\, el gobierno organiza simulacros de vo
 taciones con la idea de preparar a la población para algo que desconoce. 
SUMMARY:"El monje y el rifle"\, de Pawo Choyning Dorji (V.O.S.E)
END:VEVENT
BEGIN:VEVENT
DTSTAMP:20260423T102126Z
UID:event-12231-2024-08-07T17:30:00+02:00-none
DTSTART;TZID=Europe/Madrid:20240807T173000
DESCRIPTION:Año 2006. El reino de Bután camina hacia la democracia. De ca
 ra a la celebración de elecciones\, el gobierno organiza simulacros de vo
 taciones con la idea de preparar a la población para algo que desconoce. 
SUMMARY:"El monje y el rifle"\, de Pawo Choyning Dorji (V.O.S.E)
END:VEVENT
BEGIN:VEVENT
DTSTAMP:20260423T102126Z
UID:event-12231-2024-08-08T17:30:00+02:00-none
DTSTART;TZID=Europe/Madrid:20240808T173000
DESCRIPTION:Año 2006. El reino de Bután camina hacia la democracia. De ca
 ra a la celebración de elecciones\, el gobierno organiza simulacros de vo
 taciones con la idea de preparar a la población para algo que desconoce. 
SUMMARY:"El monje y el rifle"\, de Pawo Choyning Dorji (V.O.S.E)
END:VEVENT
END:VCALENDAR
