BEGIN:VCALENDAR
VERSION:2.0
PRODID:icalendar-ruby
CALSCALE:GREGORIAN
METHOD:PUBLISH
BEGIN:VEVENT
DTSTAMP:20260419T135654Z
UID:event-12442-2024-07-26T09:00:00+02:00-2024-07-26T21:00:00+02:00
DTSTART;TZID=Europe/Madrid:20240726T090000
DTEND;TZID=Europe/Madrid:20240726T210000
DESCRIPTION:Este viernes 26 de julio a las 19:00 h en el Espacio “Los Are
 nales” de la Biblioteca Central de Cantabria\, tendrá lugar la Inaugura
 ción de la exposición “Wonderland”\, en la que se podrán admirar ob
 ras del artista Eloy Velázquez.
SUMMARY:"Wonderland"\, exposición de Eloy Velázquez
END:VEVENT
BEGIN:VEVENT
DTSTAMP:20260419T135654Z
UID:event-12442-2024-07-27T11:00:00+02:00-2024-07-27T20:00:00+02:00
DTSTART;TZID=Europe/Madrid:20240727T110000
DTEND;TZID=Europe/Madrid:20240727T200000
DESCRIPTION:Este viernes 26 de julio a las 19:00 h en el Espacio “Los Are
 nales” de la Biblioteca Central de Cantabria\, tendrá lugar la Inaugura
 ción de la exposición “Wonderland”\, en la que se podrán admirar ob
 ras del artista Eloy Velázquez.
SUMMARY:"Wonderland"\, exposición de Eloy Velázquez
END:VEVENT
BEGIN:VEVENT
DTSTAMP:20260419T135654Z
UID:event-12442-2024-07-28T11:00:00+02:00-2024-07-28T20:00:00+02:00
DTSTART;TZID=Europe/Madrid:20240728T110000
DTEND;TZID=Europe/Madrid:20240728T200000
DESCRIPTION:Este viernes 26 de julio a las 19:00 h en el Espacio “Los Are
 nales” de la Biblioteca Central de Cantabria\, tendrá lugar la Inaugura
 ción de la exposición “Wonderland”\, en la que se podrán admirar ob
 ras del artista Eloy Velázquez.
SUMMARY:"Wonderland"\, exposición de Eloy Velázquez
END:VEVENT
BEGIN:VEVENT
DTSTAMP:20260419T135654Z
UID:event-12442-2024-07-29T09:00:00+02:00-2024-07-29T21:00:00+02:00
DTSTART;TZID=Europe/Madrid:20240729T090000
DTEND;TZID=Europe/Madrid:20240729T210000
DESCRIPTION:Este viernes 26 de julio a las 19:00 h en el Espacio “Los Are
 nales” de la Biblioteca Central de Cantabria\, tendrá lugar la Inaugura
 ción de la exposición “Wonderland”\, en la que se podrán admirar ob
 ras del artista Eloy Velázquez.
SUMMARY:"Wonderland"\, exposición de Eloy Velázquez
END:VEVENT
BEGIN:VEVENT
DTSTAMP:20260419T135654Z
UID:event-12442-2024-07-30T09:00:00+02:00-2024-07-30T21:00:00+02:00
DTSTART;TZID=Europe/Madrid:20240730T090000
DTEND;TZID=Europe/Madrid:20240730T210000
DESCRIPTION:Este viernes 26 de julio a las 19:00 h en el Espacio “Los Are
 nales” de la Biblioteca Central de Cantabria\, tendrá lugar la Inaugura
 ción de la exposición “Wonderland”\, en la que se podrán admirar ob
 ras del artista Eloy Velázquez.
SUMMARY:"Wonderland"\, exposición de Eloy Velázquez
END:VEVENT
BEGIN:VEVENT
DTSTAMP:20260419T135654Z
UID:event-12442-2024-07-31T09:00:00+02:00-2024-07-31T21:00:00+02:00
DTSTART;TZID=Europe/Madrid:20240731T090000
DTEND;TZID=Europe/Madrid:20240731T210000
DESCRIPTION:Este viernes 26 de julio a las 19:00 h en el Espacio “Los Are
 nales” de la Biblioteca Central de Cantabria\, tendrá lugar la Inaugura
 ción de la exposición “Wonderland”\, en la que se podrán admirar ob
 ras del artista Eloy Velázquez.
SUMMARY:"Wonderland"\, exposición de Eloy Velázquez
END:VEVENT
BEGIN:VEVENT
DTSTAMP:20260419T135654Z
UID:event-12442-2024-08-01T09:00:00+02:00-2024-08-01T21:00:00+02:00
DTSTART;TZID=Europe/Madrid:20240801T090000
DTEND;TZID=Europe/Madrid:20240801T210000
DESCRIPTION:Este viernes 26 de julio a las 19:00 h en el Espacio “Los Are
 nales” de la Biblioteca Central de Cantabria\, tendrá lugar la Inaugura
 ción de la exposición “Wonderland”\, en la que se podrán admirar ob
 ras del artista Eloy Velázquez.
SUMMARY:"Wonderland"\, exposición de Eloy Velázquez
END:VEVENT
BEGIN:VEVENT
DTSTAMP:20260419T135654Z
UID:event-12442-2024-08-02T09:00:00+02:00-2024-08-02T21:00:00+02:00
DTSTART;TZID=Europe/Madrid:20240802T090000
DTEND;TZID=Europe/Madrid:20240802T210000
DESCRIPTION:Este viernes 26 de julio a las 19:00 h en el Espacio “Los Are
 nales” de la Biblioteca Central de Cantabria\, tendrá lugar la Inaugura
 ción de la exposición “Wonderland”\, en la que se podrán admirar ob
 ras del artista Eloy Velázquez.
SUMMARY:"Wonderland"\, exposición de Eloy Velázquez
END:VEVENT
BEGIN:VEVENT
DTSTAMP:20260419T135654Z
UID:event-12442-2024-08-03T11:00:00+02:00-2024-08-03T20:00:00+02:00
DTSTART;TZID=Europe/Madrid:20240803T110000
DTEND;TZID=Europe/Madrid:20240803T200000
DESCRIPTION:Este viernes 26 de julio a las 19:00 h en el Espacio “Los Are
 nales” de la Biblioteca Central de Cantabria\, tendrá lugar la Inaugura
 ción de la exposición “Wonderland”\, en la que se podrán admirar ob
 ras del artista Eloy Velázquez.
SUMMARY:"Wonderland"\, exposición de Eloy Velázquez
END:VEVENT
BEGIN:VEVENT
DTSTAMP:20260419T135654Z
UID:event-12442-2024-08-04T11:00:00+02:00-2024-08-04T20:00:00+02:00
DTSTART;TZID=Europe/Madrid:20240804T110000
DTEND;TZID=Europe/Madrid:20240804T200000
DESCRIPTION:Este viernes 26 de julio a las 19:00 h en el Espacio “Los Are
 nales” de la Biblioteca Central de Cantabria\, tendrá lugar la Inaugura
 ción de la exposición “Wonderland”\, en la que se podrán admirar ob
 ras del artista Eloy Velázquez.
SUMMARY:"Wonderland"\, exposición de Eloy Velázquez
END:VEVENT
BEGIN:VEVENT
DTSTAMP:20260419T135654Z
UID:event-12442-2024-08-05T09:00:00+02:00-2024-08-05T21:00:00+02:00
DTSTART;TZID=Europe/Madrid:20240805T090000
DTEND;TZID=Europe/Madrid:20240805T210000
DESCRIPTION:Este viernes 26 de julio a las 19:00 h en el Espacio “Los Are
 nales” de la Biblioteca Central de Cantabria\, tendrá lugar la Inaugura
 ción de la exposición “Wonderland”\, en la que se podrán admirar ob
 ras del artista Eloy Velázquez.
SUMMARY:"Wonderland"\, exposición de Eloy Velázquez
END:VEVENT
BEGIN:VEVENT
DTSTAMP:20260419T135654Z
UID:event-12442-2024-08-06T09:00:00+02:00-2024-08-06T21:00:00+02:00
DTSTART;TZID=Europe/Madrid:20240806T090000
DTEND;TZID=Europe/Madrid:20240806T210000
DESCRIPTION:Este viernes 26 de julio a las 19:00 h en el Espacio “Los Are
 nales” de la Biblioteca Central de Cantabria\, tendrá lugar la Inaugura
 ción de la exposición “Wonderland”\, en la que se podrán admirar ob
 ras del artista Eloy Velázquez.
SUMMARY:"Wonderland"\, exposición de Eloy Velázquez
END:VEVENT
BEGIN:VEVENT
DTSTAMP:20260419T135654Z
UID:event-12442-2024-08-07T09:00:00+02:00-2024-08-07T21:00:00+02:00
DTSTART;TZID=Europe/Madrid:20240807T090000
DTEND;TZID=Europe/Madrid:20240807T210000
DESCRIPTION:Este viernes 26 de julio a las 19:00 h en el Espacio “Los Are
 nales” de la Biblioteca Central de Cantabria\, tendrá lugar la Inaugura
 ción de la exposición “Wonderland”\, en la que se podrán admirar ob
 ras del artista Eloy Velázquez.
SUMMARY:"Wonderland"\, exposición de Eloy Velázquez
END:VEVENT
BEGIN:VEVENT
DTSTAMP:20260419T135654Z
UID:event-12442-2024-08-08T09:00:00+02:00-2024-08-08T21:00:00+02:00
DTSTART;TZID=Europe/Madrid:20240808T090000
DTEND;TZID=Europe/Madrid:20240808T210000
DESCRIPTION:Este viernes 26 de julio a las 19:00 h en el Espacio “Los Are
 nales” de la Biblioteca Central de Cantabria\, tendrá lugar la Inaugura
 ción de la exposición “Wonderland”\, en la que se podrán admirar ob
 ras del artista Eloy Velázquez.
SUMMARY:"Wonderland"\, exposición de Eloy Velázquez
END:VEVENT
BEGIN:VEVENT
DTSTAMP:20260419T135654Z
UID:event-12442-2024-08-09T09:00:00+02:00-2024-08-09T21:00:00+02:00
DTSTART;TZID=Europe/Madrid:20240809T090000
DTEND;TZID=Europe/Madrid:20240809T210000
DESCRIPTION:Este viernes 26 de julio a las 19:00 h en el Espacio “Los Are
 nales” de la Biblioteca Central de Cantabria\, tendrá lugar la Inaugura
 ción de la exposición “Wonderland”\, en la que se podrán admirar ob
 ras del artista Eloy Velázquez.
SUMMARY:"Wonderland"\, exposición de Eloy Velázquez
END:VEVENT
BEGIN:VEVENT
DTSTAMP:20260419T135654Z
UID:event-12442-2024-08-10T11:00:00+02:00-2024-08-10T20:00:00+02:00
DTSTART;TZID=Europe/Madrid:20240810T110000
DTEND;TZID=Europe/Madrid:20240810T200000
DESCRIPTION:Este viernes 26 de julio a las 19:00 h en el Espacio “Los Are
 nales” de la Biblioteca Central de Cantabria\, tendrá lugar la Inaugura
 ción de la exposición “Wonderland”\, en la que se podrán admirar ob
 ras del artista Eloy Velázquez.
SUMMARY:"Wonderland"\, exposición de Eloy Velázquez
END:VEVENT
BEGIN:VEVENT
DTSTAMP:20260419T135654Z
UID:event-12442-2024-08-11T11:00:00+02:00-2024-08-11T20:00:00+02:00
DTSTART;TZID=Europe/Madrid:20240811T110000
DTEND;TZID=Europe/Madrid:20240811T200000
DESCRIPTION:Este viernes 26 de julio a las 19:00 h en el Espacio “Los Are
 nales” de la Biblioteca Central de Cantabria\, tendrá lugar la Inaugura
 ción de la exposición “Wonderland”\, en la que se podrán admirar ob
 ras del artista Eloy Velázquez.
SUMMARY:"Wonderland"\, exposición de Eloy Velázquez
END:VEVENT
BEGIN:VEVENT
DTSTAMP:20260419T135654Z
UID:event-12442-2024-08-12T09:00:00+02:00-2024-08-12T21:00:00+02:00
DTSTART;TZID=Europe/Madrid:20240812T090000
DTEND;TZID=Europe/Madrid:20240812T210000
DESCRIPTION:Este viernes 26 de julio a las 19:00 h en el Espacio “Los Are
 nales” de la Biblioteca Central de Cantabria\, tendrá lugar la Inaugura
 ción de la exposición “Wonderland”\, en la que se podrán admirar ob
 ras del artista Eloy Velázquez.
SUMMARY:"Wonderland"\, exposición de Eloy Velázquez
END:VEVENT
BEGIN:VEVENT
DTSTAMP:20260419T135654Z
UID:event-12442-2024-08-13T09:00:00+02:00-2024-08-13T21:00:00+02:00
DTSTART;TZID=Europe/Madrid:20240813T090000
DTEND;TZID=Europe/Madrid:20240813T210000
DESCRIPTION:Este viernes 26 de julio a las 19:00 h en el Espacio “Los Are
 nales” de la Biblioteca Central de Cantabria\, tendrá lugar la Inaugura
 ción de la exposición “Wonderland”\, en la que se podrán admirar ob
 ras del artista Eloy Velázquez.
SUMMARY:"Wonderland"\, exposición de Eloy Velázquez
END:VEVENT
BEGIN:VEVENT
DTSTAMP:20260419T135654Z
UID:event-12442-2024-08-14T09:00:00+02:00-2024-08-14T21:00:00+02:00
DTSTART;TZID=Europe/Madrid:20240814T090000
DTEND;TZID=Europe/Madrid:20240814T210000
DESCRIPTION:Este viernes 26 de julio a las 19:00 h en el Espacio “Los Are
 nales” de la Biblioteca Central de Cantabria\, tendrá lugar la Inaugura
 ción de la exposición “Wonderland”\, en la que se podrán admirar ob
 ras del artista Eloy Velázquez.
SUMMARY:"Wonderland"\, exposición de Eloy Velázquez
END:VEVENT
BEGIN:VEVENT
DTSTAMP:20260419T135654Z
UID:event-12442-2024-08-15T09:00:00+02:00-2024-08-15T21:00:00+02:00
DTSTART;TZID=Europe/Madrid:20240815T090000
DTEND;TZID=Europe/Madrid:20240815T210000
DESCRIPTION:Este viernes 26 de julio a las 19:00 h en el Espacio “Los Are
 nales” de la Biblioteca Central de Cantabria\, tendrá lugar la Inaugura
 ción de la exposición “Wonderland”\, en la que se podrán admirar ob
 ras del artista Eloy Velázquez.
SUMMARY:"Wonderland"\, exposición de Eloy Velázquez
END:VEVENT
BEGIN:VEVENT
DTSTAMP:20260419T135654Z
UID:event-12442-2024-08-16T09:00:00+02:00-2024-08-16T21:00:00+02:00
DTSTART;TZID=Europe/Madrid:20240816T090000
DTEND;TZID=Europe/Madrid:20240816T210000
DESCRIPTION:Este viernes 26 de julio a las 19:00 h en el Espacio “Los Are
 nales” de la Biblioteca Central de Cantabria\, tendrá lugar la Inaugura
 ción de la exposición “Wonderland”\, en la que se podrán admirar ob
 ras del artista Eloy Velázquez.
SUMMARY:"Wonderland"\, exposición de Eloy Velázquez
END:VEVENT
BEGIN:VEVENT
DTSTAMP:20260419T135654Z
UID:event-12442-2024-08-17T11:00:00+02:00-2024-08-17T20:00:00+02:00
DTSTART;TZID=Europe/Madrid:20240817T110000
DTEND;TZID=Europe/Madrid:20240817T200000
DESCRIPTION:Este viernes 26 de julio a las 19:00 h en el Espacio “Los Are
 nales” de la Biblioteca Central de Cantabria\, tendrá lugar la Inaugura
 ción de la exposición “Wonderland”\, en la que se podrán admirar ob
 ras del artista Eloy Velázquez.
SUMMARY:"Wonderland"\, exposición de Eloy Velázquez
END:VEVENT
BEGIN:VEVENT
DTSTAMP:20260419T135654Z
UID:event-12442-2024-08-18T11:00:00+02:00-2024-08-18T20:00:00+02:00
DTSTART;TZID=Europe/Madrid:20240818T110000
DTEND;TZID=Europe/Madrid:20240818T200000
DESCRIPTION:Este viernes 26 de julio a las 19:00 h en el Espacio “Los Are
 nales” de la Biblioteca Central de Cantabria\, tendrá lugar la Inaugura
 ción de la exposición “Wonderland”\, en la que se podrán admirar ob
 ras del artista Eloy Velázquez.
SUMMARY:"Wonderland"\, exposición de Eloy Velázquez
END:VEVENT
BEGIN:VEVENT
DTSTAMP:20260419T135654Z
UID:event-12442-2024-08-19T09:00:00+02:00-2024-08-19T21:00:00+02:00
DTSTART;TZID=Europe/Madrid:20240819T090000
DTEND;TZID=Europe/Madrid:20240819T210000
DESCRIPTION:Este viernes 26 de julio a las 19:00 h en el Espacio “Los Are
 nales” de la Biblioteca Central de Cantabria\, tendrá lugar la Inaugura
 ción de la exposición “Wonderland”\, en la que se podrán admirar ob
 ras del artista Eloy Velázquez.
SUMMARY:"Wonderland"\, exposición de Eloy Velázquez
END:VEVENT
BEGIN:VEVENT
DTSTAMP:20260419T135654Z
UID:event-12442-2024-08-20T09:00:00+02:00-2024-08-20T21:00:00+02:00
DTSTART;TZID=Europe/Madrid:20240820T090000
DTEND;TZID=Europe/Madrid:20240820T210000
DESCRIPTION:Este viernes 26 de julio a las 19:00 h en el Espacio “Los Are
 nales” de la Biblioteca Central de Cantabria\, tendrá lugar la Inaugura
 ción de la exposición “Wonderland”\, en la que se podrán admirar ob
 ras del artista Eloy Velázquez.
SUMMARY:"Wonderland"\, exposición de Eloy Velázquez
END:VEVENT
BEGIN:VEVENT
DTSTAMP:20260419T135654Z
UID:event-12442-2024-08-21T09:00:00+02:00-2024-08-21T21:00:00+02:00
DTSTART;TZID=Europe/Madrid:20240821T090000
DTEND;TZID=Europe/Madrid:20240821T210000
DESCRIPTION:Este viernes 26 de julio a las 19:00 h en el Espacio “Los Are
 nales” de la Biblioteca Central de Cantabria\, tendrá lugar la Inaugura
 ción de la exposición “Wonderland”\, en la que se podrán admirar ob
 ras del artista Eloy Velázquez.
SUMMARY:"Wonderland"\, exposición de Eloy Velázquez
END:VEVENT
BEGIN:VEVENT
DTSTAMP:20260419T135654Z
UID:event-12442-2024-08-22T09:00:00+02:00-2024-08-22T21:00:00+02:00
DTSTART;TZID=Europe/Madrid:20240822T090000
DTEND;TZID=Europe/Madrid:20240822T210000
DESCRIPTION:Este viernes 26 de julio a las 19:00 h en el Espacio “Los Are
 nales” de la Biblioteca Central de Cantabria\, tendrá lugar la Inaugura
 ción de la exposición “Wonderland”\, en la que se podrán admirar ob
 ras del artista Eloy Velázquez.
SUMMARY:"Wonderland"\, exposición de Eloy Velázquez
END:VEVENT
BEGIN:VEVENT
DTSTAMP:20260419T135654Z
UID:event-12442-2024-08-23T09:00:00+02:00-2024-08-23T21:00:00+02:00
DTSTART;TZID=Europe/Madrid:20240823T090000
DTEND;TZID=Europe/Madrid:20240823T210000
DESCRIPTION:Este viernes 26 de julio a las 19:00 h en el Espacio “Los Are
 nales” de la Biblioteca Central de Cantabria\, tendrá lugar la Inaugura
 ción de la exposición “Wonderland”\, en la que se podrán admirar ob
 ras del artista Eloy Velázquez.
SUMMARY:"Wonderland"\, exposición de Eloy Velázquez
END:VEVENT
BEGIN:VEVENT
DTSTAMP:20260419T135654Z
UID:event-12442-2024-08-24T11:00:00+02:00-2024-08-24T20:00:00+02:00
DTSTART;TZID=Europe/Madrid:20240824T110000
DTEND;TZID=Europe/Madrid:20240824T200000
DESCRIPTION:Este viernes 26 de julio a las 19:00 h en el Espacio “Los Are
 nales” de la Biblioteca Central de Cantabria\, tendrá lugar la Inaugura
 ción de la exposición “Wonderland”\, en la que se podrán admirar ob
 ras del artista Eloy Velázquez.
SUMMARY:"Wonderland"\, exposición de Eloy Velázquez
END:VEVENT
BEGIN:VEVENT
DTSTAMP:20260419T135654Z
UID:event-12442-2024-08-25T11:00:00+02:00-2024-08-25T20:00:00+02:00
DTSTART;TZID=Europe/Madrid:20240825T110000
DTEND;TZID=Europe/Madrid:20240825T200000
DESCRIPTION:Este viernes 26 de julio a las 19:00 h en el Espacio “Los Are
 nales” de la Biblioteca Central de Cantabria\, tendrá lugar la Inaugura
 ción de la exposición “Wonderland”\, en la que se podrán admirar ob
 ras del artista Eloy Velázquez.
SUMMARY:"Wonderland"\, exposición de Eloy Velázquez
END:VEVENT
BEGIN:VEVENT
DTSTAMP:20260419T135654Z
UID:event-12442-2024-08-26T09:00:00+02:00-2024-08-26T21:00:00+02:00
DTSTART;TZID=Europe/Madrid:20240826T090000
DTEND;TZID=Europe/Madrid:20240826T210000
DESCRIPTION:Este viernes 26 de julio a las 19:00 h en el Espacio “Los Are
 nales” de la Biblioteca Central de Cantabria\, tendrá lugar la Inaugura
 ción de la exposición “Wonderland”\, en la que se podrán admirar ob
 ras del artista Eloy Velázquez.
SUMMARY:"Wonderland"\, exposición de Eloy Velázquez
END:VEVENT
BEGIN:VEVENT
DTSTAMP:20260419T135654Z
UID:event-12442-2024-08-27T09:00:00+02:00-2024-08-27T21:00:00+02:00
DTSTART;TZID=Europe/Madrid:20240827T090000
DTEND;TZID=Europe/Madrid:20240827T210000
DESCRIPTION:Este viernes 26 de julio a las 19:00 h en el Espacio “Los Are
 nales” de la Biblioteca Central de Cantabria\, tendrá lugar la Inaugura
 ción de la exposición “Wonderland”\, en la que se podrán admirar ob
 ras del artista Eloy Velázquez.
SUMMARY:"Wonderland"\, exposición de Eloy Velázquez
END:VEVENT
BEGIN:VEVENT
DTSTAMP:20260419T135654Z
UID:event-12442-2024-08-28T09:00:00+02:00-2024-08-28T21:00:00+02:00
DTSTART;TZID=Europe/Madrid:20240828T090000
DTEND;TZID=Europe/Madrid:20240828T210000
DESCRIPTION:Este viernes 26 de julio a las 19:00 h en el Espacio “Los Are
 nales” de la Biblioteca Central de Cantabria\, tendrá lugar la Inaugura
 ción de la exposición “Wonderland”\, en la que se podrán admirar ob
 ras del artista Eloy Velázquez.
SUMMARY:"Wonderland"\, exposición de Eloy Velázquez
END:VEVENT
BEGIN:VEVENT
DTSTAMP:20260419T135654Z
UID:event-12442-2024-08-29T09:00:00+02:00-2024-08-29T21:00:00+02:00
DTSTART;TZID=Europe/Madrid:20240829T090000
DTEND;TZID=Europe/Madrid:20240829T210000
DESCRIPTION:Este viernes 26 de julio a las 19:00 h en el Espacio “Los Are
 nales” de la Biblioteca Central de Cantabria\, tendrá lugar la Inaugura
 ción de la exposición “Wonderland”\, en la que se podrán admirar ob
 ras del artista Eloy Velázquez.
SUMMARY:"Wonderland"\, exposición de Eloy Velázquez
END:VEVENT
BEGIN:VEVENT
DTSTAMP:20260419T135654Z
UID:event-12442-2024-08-30T09:00:00+02:00-2024-08-30T21:00:00+02:00
DTSTART;TZID=Europe/Madrid:20240830T090000
DTEND;TZID=Europe/Madrid:20240830T210000
DESCRIPTION:Este viernes 26 de julio a las 19:00 h en el Espacio “Los Are
 nales” de la Biblioteca Central de Cantabria\, tendrá lugar la Inaugura
 ción de la exposición “Wonderland”\, en la que se podrán admirar ob
 ras del artista Eloy Velázquez.
SUMMARY:"Wonderland"\, exposición de Eloy Velázquez
END:VEVENT
BEGIN:VEVENT
DTSTAMP:20260419T135654Z
UID:event-12442-2024-08-31T11:00:00+02:00-2024-08-31T20:00:00+02:00
DTSTART;TZID=Europe/Madrid:20240831T110000
DTEND;TZID=Europe/Madrid:20240831T200000
DESCRIPTION:Este viernes 26 de julio a las 19:00 h en el Espacio “Los Are
 nales” de la Biblioteca Central de Cantabria\, tendrá lugar la Inaugura
 ción de la exposición “Wonderland”\, en la que se podrán admirar ob
 ras del artista Eloy Velázquez.
SUMMARY:"Wonderland"\, exposición de Eloy Velázquez
END:VEVENT
BEGIN:VEVENT
DTSTAMP:20260419T135654Z
UID:event-12442-2024-09-01T11:00:00+02:00-2024-09-01T20:00:00+02:00
DTSTART;TZID=Europe/Madrid:20240901T110000
DTEND;TZID=Europe/Madrid:20240901T200000
DESCRIPTION:Este viernes 26 de julio a las 19:00 h en el Espacio “Los Are
 nales” de la Biblioteca Central de Cantabria\, tendrá lugar la Inaugura
 ción de la exposición “Wonderland”\, en la que se podrán admirar ob
 ras del artista Eloy Velázquez.
SUMMARY:"Wonderland"\, exposición de Eloy Velázquez
END:VEVENT
BEGIN:VEVENT
DTSTAMP:20260419T135654Z
UID:event-12442-2024-09-02T09:00:00+02:00-2024-09-02T21:00:00+02:00
DTSTART;TZID=Europe/Madrid:20240902T090000
DTEND;TZID=Europe/Madrid:20240902T210000
DESCRIPTION:Este viernes 26 de julio a las 19:00 h en el Espacio “Los Are
 nales” de la Biblioteca Central de Cantabria\, tendrá lugar la Inaugura
 ción de la exposición “Wonderland”\, en la que se podrán admirar ob
 ras del artista Eloy Velázquez.
SUMMARY:"Wonderland"\, exposición de Eloy Velázquez
END:VEVENT
BEGIN:VEVENT
DTSTAMP:20260419T135654Z
UID:event-12442-2024-09-03T09:00:00+02:00-2024-09-03T21:00:00+02:00
DTSTART;TZID=Europe/Madrid:20240903T090000
DTEND;TZID=Europe/Madrid:20240903T210000
DESCRIPTION:Este viernes 26 de julio a las 19:00 h en el Espacio “Los Are
 nales” de la Biblioteca Central de Cantabria\, tendrá lugar la Inaugura
 ción de la exposición “Wonderland”\, en la que se podrán admirar ob
 ras del artista Eloy Velázquez.
SUMMARY:"Wonderland"\, exposición de Eloy Velázquez
END:VEVENT
BEGIN:VEVENT
DTSTAMP:20260419T135654Z
UID:event-12442-2024-09-04T09:00:00+02:00-2024-09-04T21:00:00+02:00
DTSTART;TZID=Europe/Madrid:20240904T090000
DTEND;TZID=Europe/Madrid:20240904T210000
DESCRIPTION:Este viernes 26 de julio a las 19:00 h en el Espacio “Los Are
 nales” de la Biblioteca Central de Cantabria\, tendrá lugar la Inaugura
 ción de la exposición “Wonderland”\, en la que se podrán admirar ob
 ras del artista Eloy Velázquez.
SUMMARY:"Wonderland"\, exposición de Eloy Velázquez
END:VEVENT
BEGIN:VEVENT
DTSTAMP:20260419T135654Z
UID:event-12442-2024-09-05T09:00:00+02:00-2024-09-05T21:00:00+02:00
DTSTART;TZID=Europe/Madrid:20240905T090000
DTEND;TZID=Europe/Madrid:20240905T210000
DESCRIPTION:Este viernes 26 de julio a las 19:00 h en el Espacio “Los Are
 nales” de la Biblioteca Central de Cantabria\, tendrá lugar la Inaugura
 ción de la exposición “Wonderland”\, en la que se podrán admirar ob
 ras del artista Eloy Velázquez.
SUMMARY:"Wonderland"\, exposición de Eloy Velázquez
END:VEVENT
BEGIN:VEVENT
DTSTAMP:20260419T135654Z
UID:event-12442-2024-09-06T09:00:00+02:00-2024-09-06T21:00:00+02:00
DTSTART;TZID=Europe/Madrid:20240906T090000
DTEND;TZID=Europe/Madrid:20240906T210000
DESCRIPTION:Este viernes 26 de julio a las 19:00 h en el Espacio “Los Are
 nales” de la Biblioteca Central de Cantabria\, tendrá lugar la Inaugura
 ción de la exposición “Wonderland”\, en la que se podrán admirar ob
 ras del artista Eloy Velázquez.
SUMMARY:"Wonderland"\, exposición de Eloy Velázquez
END:VEVENT
BEGIN:VEVENT
DTSTAMP:20260419T135654Z
UID:event-12442-2024-09-07T11:00:00+02:00-2024-09-07T20:00:00+02:00
DTSTART;TZID=Europe/Madrid:20240907T110000
DTEND;TZID=Europe/Madrid:20240907T200000
DESCRIPTION:Este viernes 26 de julio a las 19:00 h en el Espacio “Los Are
 nales” de la Biblioteca Central de Cantabria\, tendrá lugar la Inaugura
 ción de la exposición “Wonderland”\, en la que se podrán admirar ob
 ras del artista Eloy Velázquez.
SUMMARY:"Wonderland"\, exposición de Eloy Velázquez
END:VEVENT
BEGIN:VEVENT
DTSTAMP:20260419T135654Z
UID:event-12442-2024-09-08T11:00:00+02:00-2024-09-08T20:00:00+02:00
DTSTART;TZID=Europe/Madrid:20240908T110000
DTEND;TZID=Europe/Madrid:20240908T200000
DESCRIPTION:Este viernes 26 de julio a las 19:00 h en el Espacio “Los Are
 nales” de la Biblioteca Central de Cantabria\, tendrá lugar la Inaugura
 ción de la exposición “Wonderland”\, en la que se podrán admirar ob
 ras del artista Eloy Velázquez.
SUMMARY:"Wonderland"\, exposición de Eloy Velázquez
END:VEVENT
END:VCALENDAR
