BEGIN:VCALENDAR
VERSION:2.0
PRODID:icalendar-ruby
CALSCALE:GREGORIAN
METHOD:PUBLISH
BEGIN:VEVENT
DTSTAMP:20260423T090359Z
UID:event-12998-2024-10-02T19:30:00+02:00-none
DTSTART;TZID=Europe/Madrid:20241002T193000
DESCRIPTION:Marco Cubillas Bolado y Francisco San Emeterio Santos ofrecen u
 n recital en el que la trompeta va a desplegar una rica paleta de colores 
 y dictados melódicos.
SUMMARY:Recital de trompeta y piano. Marco Cubillas y Francisco San Emeteri
 o
END:VEVENT
END:VCALENDAR
