BEGIN:VCALENDAR
VERSION:2.0
PRODID:icalendar-ruby
CALSCALE:GREGORIAN
METHOD:PUBLISH
BEGIN:VEVENT
DTSTAMP:20260419T130644Z
UID:event-13039-2024-10-05T22:00:00+02:00-none
DTSTART;TZID=Europe/Madrid:20241005T220000
DESCRIPTION:Imagina caminar por la Plaza Porticada\, pensando en la histori
 a escénica que se respira en cada piedra. Pero esta vez\, algo es diferen
 te. El aire se impregna de un aura mágica\, una atmósfera de luz que des
 pierta los sentidos del paseante.
SUMMARY:"Soportar/soportal"\, intervención de luz y sonido
END:VEVENT
END:VCALENDAR
