BEGIN:VCALENDAR
VERSION:2.0
PRODID:icalendar-ruby
CALSCALE:GREGORIAN
METHOD:PUBLISH
BEGIN:VEVENT
DTSTAMP:20260422T211314Z
UID:event-14289-2024-12-09T19:30:00+01:00-none
DTSTART;TZID=Europe/Madrid:20241209T193000
DESCRIPTION:El lunes 9 de diciembre a las 19\,30 h en el Hotel Silken Colis
 eum tendrá lugar la Presentación del libro “El octavo caballo” con s
 u autor\, Antonio Sarabia Gómez.
SUMMARY:Presentación del libro "El octavo caballo"\, con su autor Antonio 
 Sarabia Gómez
END:VEVENT
END:VCALENDAR
