BEGIN:VCALENDAR
VERSION:2.0
PRODID:icalendar-ruby
CALSCALE:GREGORIAN
METHOD:PUBLISH
BEGIN:VEVENT
DTSTAMP:20260419T130521Z
UID:event-14498-2025-01-03T18:00:00+01:00-none
DTSTART;TZID=Europe/Madrid:20250103T180000
DESCRIPTION:Basada en una historia real sucedida durante la Navidad de 1914
 \, cuando en diferentes zonas del frente soldados alemanes\, franceses y e
 scoceses enterraron sus diferencias y sus muertos y celebraron la Nochebue
 na juntos.
SUMMARY:Proyección de la película "Feliz Navidad"\, de Christian Carion
END:VEVENT
END:VCALENDAR
