BEGIN:VCALENDAR
VERSION:2.0
PRODID:icalendar-ruby
CALSCALE:GREGORIAN
METHOD:PUBLISH
BEGIN:VEVENT
DTSTAMP:20260422T201528Z
UID:event-15163-2025-10-03T17:30:00+02:00-none
DTSTART;TZID=Europe/Madrid:20251003T173000
DESCRIPTION:Todos los viernes a las 17.30 h\, el Club de Lectura Francés s
 e reúne en la librería Gil de la Plaza de Pombo.
SUMMARY:Club de Lectura Francés
END:VEVENT
BEGIN:VEVENT
DTSTAMP:20260422T201528Z
UID:event-15163-2025-10-10T17:30:00+02:00-none
DTSTART;TZID=Europe/Madrid:20251010T173000
DESCRIPTION:Todos los viernes a las 17.30 h\, el Club de Lectura Francés s
 e reúne en la librería Gil de la Plaza de Pombo.
SUMMARY:Club de Lectura Francés
END:VEVENT
BEGIN:VEVENT
DTSTAMP:20260422T201528Z
UID:event-15163-2025-10-17T17:30:00+02:00-none
DTSTART;TZID=Europe/Madrid:20251017T173000
DESCRIPTION:Todos los viernes a las 17.30 h\, el Club de Lectura Francés s
 e reúne en la librería Gil de la Plaza de Pombo.
SUMMARY:Club de Lectura Francés
END:VEVENT
BEGIN:VEVENT
DTSTAMP:20260422T201528Z
UID:event-15163-2025-10-24T17:30:00+02:00-none
DTSTART;TZID=Europe/Madrid:20251024T173000
DESCRIPTION:Todos los viernes a las 17.30 h\, el Club de Lectura Francés s
 e reúne en la librería Gil de la Plaza de Pombo.
SUMMARY:Club de Lectura Francés
END:VEVENT
BEGIN:VEVENT
DTSTAMP:20260422T201528Z
UID:event-15163-2025-10-31T17:30:00+01:00-none
DTSTART;TZID=Europe/Madrid:20251031T173000
DESCRIPTION:Todos los viernes a las 17.30 h\, el Club de Lectura Francés s
 e reúne en la librería Gil de la Plaza de Pombo.
SUMMARY:Club de Lectura Francés
END:VEVENT
BEGIN:VEVENT
DTSTAMP:20260422T201528Z
UID:event-15163-2025-11-07T17:30:00+01:00-none
DTSTART;TZID=Europe/Madrid:20251107T173000
DESCRIPTION:Todos los viernes a las 17.30 h\, el Club de Lectura Francés s
 e reúne en la librería Gil de la Plaza de Pombo.
SUMMARY:Club de Lectura Francés
END:VEVENT
BEGIN:VEVENT
DTSTAMP:20260422T201528Z
UID:event-15163-2025-11-14T17:30:00+01:00-none
DTSTART;TZID=Europe/Madrid:20251114T173000
DESCRIPTION:Todos los viernes a las 17.30 h\, el Club de Lectura Francés s
 e reúne en la librería Gil de la Plaza de Pombo.
SUMMARY:Club de Lectura Francés
END:VEVENT
BEGIN:VEVENT
DTSTAMP:20260422T201528Z
UID:event-15163-2025-11-21T17:30:00+01:00-none
DTSTART;TZID=Europe/Madrid:20251121T173000
DESCRIPTION:Todos los viernes a las 17.30 h\, el Club de Lectura Francés s
 e reúne en la librería Gil de la Plaza de Pombo.
SUMMARY:Club de Lectura Francés
END:VEVENT
BEGIN:VEVENT
DTSTAMP:20260422T201528Z
UID:event-15163-2025-11-28T17:30:00+01:00-none
DTSTART;TZID=Europe/Madrid:20251128T173000
DESCRIPTION:Todos los viernes a las 17.30 h\, el Club de Lectura Francés s
 e reúne en la librería Gil de la Plaza de Pombo.
SUMMARY:Club de Lectura Francés
END:VEVENT
BEGIN:VEVENT
DTSTAMP:20260422T201528Z
UID:event-15163-2025-12-05T17:30:00+01:00-none
DTSTART;TZID=Europe/Madrid:20251205T173000
DESCRIPTION:Todos los viernes a las 17.30 h\, el Club de Lectura Francés s
 e reúne en la librería Gil de la Plaza de Pombo.
SUMMARY:Club de Lectura Francés
END:VEVENT
BEGIN:VEVENT
DTSTAMP:20260422T201528Z
UID:event-15163-2025-12-12T17:30:00+01:00-none
DTSTART;TZID=Europe/Madrid:20251212T173000
DESCRIPTION:Todos los viernes a las 17.30 h\, el Club de Lectura Francés s
 e reúne en la librería Gil de la Plaza de Pombo.
SUMMARY:Club de Lectura Francés
END:VEVENT
BEGIN:VEVENT
DTSTAMP:20260422T201528Z
UID:event-15163-2025-12-19T17:30:00+01:00-none
DTSTART;TZID=Europe/Madrid:20251219T173000
DESCRIPTION:Todos los viernes a las 17.30 h\, el Club de Lectura Francés s
 e reúne en la librería Gil de la Plaza de Pombo.
SUMMARY:Club de Lectura Francés
END:VEVENT
BEGIN:VEVENT
DTSTAMP:20260422T201528Z
UID:event-15163-2025-12-26T17:30:00+01:00-none
DTSTART;TZID=Europe/Madrid:20251226T173000
DESCRIPTION:Todos los viernes a las 17.30 h\, el Club de Lectura Francés s
 e reúne en la librería Gil de la Plaza de Pombo.
SUMMARY:Club de Lectura Francés
END:VEVENT
BEGIN:VEVENT
DTSTAMP:20260422T201528Z
UID:event-15163-2026-01-02T17:30:00+01:00-none
DTSTART;TZID=Europe/Madrid:20260102T173000
DESCRIPTION:Todos los viernes a las 17.30 h\, el Club de Lectura Francés s
 e reúne en la librería Gil de la Plaza de Pombo.
SUMMARY:Club de Lectura Francés
END:VEVENT
BEGIN:VEVENT
DTSTAMP:20260422T201528Z
UID:event-15163-2026-01-09T17:30:00+01:00-none
DTSTART;TZID=Europe/Madrid:20260109T173000
DESCRIPTION:Todos los viernes a las 17.30 h\, el Club de Lectura Francés s
 e reúne en la librería Gil de la Plaza de Pombo.
SUMMARY:Club de Lectura Francés
END:VEVENT
BEGIN:VEVENT
DTSTAMP:20260422T201528Z
UID:event-15163-2026-01-16T17:30:00+01:00-none
DTSTART;TZID=Europe/Madrid:20260116T173000
DESCRIPTION:Todos los viernes a las 17.30 h\, el Club de Lectura Francés s
 e reúne en la librería Gil de la Plaza de Pombo.
SUMMARY:Club de Lectura Francés
END:VEVENT
BEGIN:VEVENT
DTSTAMP:20260422T201528Z
UID:event-15163-2026-01-23T17:30:00+01:00-none
DTSTART;TZID=Europe/Madrid:20260123T173000
DESCRIPTION:Todos los viernes a las 17.30 h\, el Club de Lectura Francés s
 e reúne en la librería Gil de la Plaza de Pombo.
SUMMARY:Club de Lectura Francés
END:VEVENT
BEGIN:VEVENT
DTSTAMP:20260422T201528Z
UID:event-15163-2026-01-30T17:30:00+01:00-none
DTSTART;TZID=Europe/Madrid:20260130T173000
DESCRIPTION:Todos los viernes a las 17.30 h\, el Club de Lectura Francés s
 e reúne en la librería Gil de la Plaza de Pombo.
SUMMARY:Club de Lectura Francés
END:VEVENT
BEGIN:VEVENT
DTSTAMP:20260422T201528Z
UID:event-15163-2026-02-06T17:30:00+01:00-none
DTSTART;TZID=Europe/Madrid:20260206T173000
DESCRIPTION:Todos los viernes a las 17.30 h\, el Club de Lectura Francés s
 e reúne en la librería Gil de la Plaza de Pombo.
SUMMARY:Club de Lectura Francés
END:VEVENT
BEGIN:VEVENT
DTSTAMP:20260422T201528Z
UID:event-15163-2026-02-13T17:30:00+01:00-none
DTSTART;TZID=Europe/Madrid:20260213T173000
DESCRIPTION:Todos los viernes a las 17.30 h\, el Club de Lectura Francés s
 e reúne en la librería Gil de la Plaza de Pombo.
SUMMARY:Club de Lectura Francés
END:VEVENT
BEGIN:VEVENT
DTSTAMP:20260422T201528Z
UID:event-15163-2026-02-27T17:30:00+01:00-none
DTSTART;TZID=Europe/Madrid:20260227T173000
DESCRIPTION:Todos los viernes a las 17.30 h\, el Club de Lectura Francés s
 e reúne en la librería Gil de la Plaza de Pombo.
SUMMARY:Club de Lectura Francés
END:VEVENT
BEGIN:VEVENT
DTSTAMP:20260422T201528Z
UID:event-15163-2026-03-06T17:30:00+01:00-none
DTSTART;TZID=Europe/Madrid:20260306T173000
DESCRIPTION:Todos los viernes a las 17.30 h\, el Club de Lectura Francés s
 e reúne en la librería Gil de la Plaza de Pombo.
SUMMARY:Club de Lectura Francés
END:VEVENT
BEGIN:VEVENT
DTSTAMP:20260422T201528Z
UID:event-15163-2026-03-13T17:30:00+01:00-none
DTSTART;TZID=Europe/Madrid:20260313T173000
DESCRIPTION:Todos los viernes a las 17.30 h\, el Club de Lectura Francés s
 e reúne en la librería Gil de la Plaza de Pombo.
SUMMARY:Club de Lectura Francés
END:VEVENT
BEGIN:VEVENT
DTSTAMP:20260422T201528Z
UID:event-15163-2026-03-20T17:30:00+01:00-none
DTSTART;TZID=Europe/Madrid:20260320T173000
DESCRIPTION:Todos los viernes a las 17.30 h\, el Club de Lectura Francés s
 e reúne en la librería Gil de la Plaza de Pombo.
SUMMARY:Club de Lectura Francés
END:VEVENT
BEGIN:VEVENT
DTSTAMP:20260422T201528Z
UID:event-15163-2026-03-27T17:30:00+01:00-none
DTSTART;TZID=Europe/Madrid:20260327T173000
DESCRIPTION:Todos los viernes a las 17.30 h\, el Club de Lectura Francés s
 e reúne en la librería Gil de la Plaza de Pombo.
SUMMARY:Club de Lectura Francés
END:VEVENT
BEGIN:VEVENT
DTSTAMP:20260422T201528Z
UID:event-15163-2026-04-03T17:30:00+02:00-none
DTSTART;TZID=Europe/Madrid:20260403T173000
DESCRIPTION:Todos los viernes a las 17.30 h\, el Club de Lectura Francés s
 e reúne en la librería Gil de la Plaza de Pombo.
SUMMARY:Club de Lectura Francés
END:VEVENT
BEGIN:VEVENT
DTSTAMP:20260422T201528Z
UID:event-15163-2026-04-10T17:30:00+02:00-none
DTSTART;TZID=Europe/Madrid:20260410T173000
DESCRIPTION:Todos los viernes a las 17.30 h\, el Club de Lectura Francés s
 e reúne en la librería Gil de la Plaza de Pombo.
SUMMARY:Club de Lectura Francés
END:VEVENT
BEGIN:VEVENT
DTSTAMP:20260422T201528Z
UID:event-15163-2026-04-17T17:30:00+02:00-none
DTSTART;TZID=Europe/Madrid:20260417T173000
DESCRIPTION:Todos los viernes a las 17.30 h\, el Club de Lectura Francés s
 e reúne en la librería Gil de la Plaza de Pombo.
SUMMARY:Club de Lectura Francés
END:VEVENT
BEGIN:VEVENT
DTSTAMP:20260422T201528Z
UID:event-15163-2026-04-24T17:30:00+02:00-none
DTSTART;TZID=Europe/Madrid:20260424T173000
DESCRIPTION:Todos los viernes a las 17.30 h\, el Club de Lectura Francés s
 e reúne en la librería Gil de la Plaza de Pombo.
SUMMARY:Club de Lectura Francés
END:VEVENT
BEGIN:VEVENT
DTSTAMP:20260422T201528Z
UID:event-15163-2026-05-01T17:30:00+02:00-none
DTSTART;TZID=Europe/Madrid:20260501T173000
DESCRIPTION:Todos los viernes a las 17.30 h\, el Club de Lectura Francés s
 e reúne en la librería Gil de la Plaza de Pombo.
SUMMARY:Club de Lectura Francés
END:VEVENT
BEGIN:VEVENT
DTSTAMP:20260422T201528Z
UID:event-15163-2026-05-08T17:30:00+02:00-none
DTSTART;TZID=Europe/Madrid:20260508T173000
DESCRIPTION:Todos los viernes a las 17.30 h\, el Club de Lectura Francés s
 e reúne en la librería Gil de la Plaza de Pombo.
SUMMARY:Club de Lectura Francés
END:VEVENT
BEGIN:VEVENT
DTSTAMP:20260422T201528Z
UID:event-15163-2026-05-15T17:30:00+02:00-none
DTSTART;TZID=Europe/Madrid:20260515T173000
DESCRIPTION:Todos los viernes a las 17.30 h\, el Club de Lectura Francés s
 e reúne en la librería Gil de la Plaza de Pombo.
SUMMARY:Club de Lectura Francés
END:VEVENT
BEGIN:VEVENT
DTSTAMP:20260422T201528Z
UID:event-15163-2026-05-22T17:30:00+02:00-none
DTSTART;TZID=Europe/Madrid:20260522T173000
DESCRIPTION:Todos los viernes a las 17.30 h\, el Club de Lectura Francés s
 e reúne en la librería Gil de la Plaza de Pombo.
SUMMARY:Club de Lectura Francés
END:VEVENT
BEGIN:VEVENT
DTSTAMP:20260422T201528Z
UID:event-15163-2026-05-29T17:30:00+02:00-none
DTSTART;TZID=Europe/Madrid:20260529T173000
DESCRIPTION:Todos los viernes a las 17.30 h\, el Club de Lectura Francés s
 e reúne en la librería Gil de la Plaza de Pombo.
SUMMARY:Club de Lectura Francés
END:VEVENT
BEGIN:VEVENT
DTSTAMP:20260422T201528Z
UID:event-15163-2026-06-05T17:30:00+02:00-none
DTSTART;TZID=Europe/Madrid:20260605T173000
DESCRIPTION:Todos los viernes a las 17.30 h\, el Club de Lectura Francés s
 e reúne en la librería Gil de la Plaza de Pombo.
SUMMARY:Club de Lectura Francés
END:VEVENT
BEGIN:VEVENT
DTSTAMP:20260422T201528Z
UID:event-15163-2026-06-12T17:30:00+02:00-none
DTSTART;TZID=Europe/Madrid:20260612T173000
DESCRIPTION:Todos los viernes a las 17.30 h\, el Club de Lectura Francés s
 e reúne en la librería Gil de la Plaza de Pombo.
SUMMARY:Club de Lectura Francés
END:VEVENT
BEGIN:VEVENT
DTSTAMP:20260422T201528Z
UID:event-15163-2026-06-19T17:30:00+02:00-none
DTSTART;TZID=Europe/Madrid:20260619T173000
DESCRIPTION:Todos los viernes a las 17.30 h\, el Club de Lectura Francés s
 e reúne en la librería Gil de la Plaza de Pombo.
SUMMARY:Club de Lectura Francés
END:VEVENT
BEGIN:VEVENT
DTSTAMP:20260422T201528Z
UID:event-15163-2026-06-26T17:30:00+02:00-none
DTSTART;TZID=Europe/Madrid:20260626T173000
DESCRIPTION:Todos los viernes a las 17.30 h\, el Club de Lectura Francés s
 e reúne en la librería Gil de la Plaza de Pombo.
SUMMARY:Club de Lectura Francés
END:VEVENT
END:VCALENDAR
