BEGIN:VCALENDAR
VERSION:2.0
PRODID:icalendar-ruby
CALSCALE:GREGORIAN
METHOD:PUBLISH
BEGIN:VEVENT
DTSTAMP:20260425T170954Z
UID:event-15334-2025-03-02T11:00:00+01:00-2025-03-02T14:00:00+01:00
DTSTART;TZID=Europe/Madrid:20250302T110000
DTEND;TZID=Europe/Madrid:20250302T140000
DESCRIPTION:El domingo\, el Carnaval regresará al Palacio de Deportes. Des
 de las 11.00 horas y hasta las 14.00 horas habrá hinchables\, pintacaras 
 y talleres infantiles. También se celebrará el espectáculo familiar ‘
 Mago de Oz’ con Latin Dance.
SUMMARY:Carnaval infantil y entierro de la Sardina
END:VEVENT
BEGIN:VEVENT
DTSTAMP:20260425T170954Z
UID:event-15334-2025-03-02T17:00:00+01:00-2025-03-02T20:00:00+01:00
DTSTART;TZID=Europe/Madrid:20250302T170000
DTEND;TZID=Europe/Madrid:20250302T200000
DESCRIPTION:El domingo\, el Carnaval regresará al Palacio de Deportes. Des
 de las 11.00 horas y hasta las 14.00 horas habrá hinchables\, pintacaras 
 y talleres infantiles. También se celebrará el espectáculo familiar ‘
 Mago de Oz’ con Latin Dance.
SUMMARY:Carnaval infantil y entierro de la Sardina
END:VEVENT
END:VCALENDAR
