BEGIN:VCALENDAR
VERSION:2.0
PRODID:icalendar-ruby
CALSCALE:GREGORIAN
METHOD:PUBLISH
BEGIN:VEVENT
DTSTAMP:20260424T164019Z
UID:event-16194-2025-04-23T19:40:00+02:00-none
DTSTART;TZID=Europe/Madrid:20250423T194000
DESCRIPTION:Cuando Kathryn\, la esposa de George Woodhouse\, un legendario 
 agente de inteligencia\, es acusada de traición\, su mundo se tambalea. 
SUMMARY:"Confidencial (Black Bag)"\, de Steven Soderbergh (V.O.S.E.)
END:VEVENT
BEGIN:VEVENT
DTSTAMP:20260424T164019Z
UID:event-16194-2025-04-24T22:30:00+02:00-none
DTSTART;TZID=Europe/Madrid:20250424T223000
DESCRIPTION:Cuando Kathryn\, la esposa de George Woodhouse\, un legendario 
 agente de inteligencia\, es acusada de traición\, su mundo se tambalea. 
SUMMARY:"Confidencial (Black Bag)"\, de Steven Soderbergh (V.O.S.E.)
END:VEVENT
BEGIN:VEVENT
DTSTAMP:20260424T164019Z
UID:event-16194-2025-04-25T20:10:00+02:00-none
DTSTART;TZID=Europe/Madrid:20250425T201000
DESCRIPTION:Cuando Kathryn\, la esposa de George Woodhouse\, un legendario 
 agente de inteligencia\, es acusada de traición\, su mundo se tambalea. 
SUMMARY:"Confidencial (Black Bag)"\, de Steven Soderbergh (V.O.S.E.)
END:VEVENT
BEGIN:VEVENT
DTSTAMP:20260424T164019Z
UID:event-16194-2025-04-27T20:00:00+02:00-none
DTSTART;TZID=Europe/Madrid:20250427T200000
DESCRIPTION:Cuando Kathryn\, la esposa de George Woodhouse\, un legendario 
 agente de inteligencia\, es acusada de traición\, su mundo se tambalea. 
SUMMARY:"Confidencial (Black Bag)"\, de Steven Soderbergh (V.O.S.E.)
END:VEVENT
BEGIN:VEVENT
DTSTAMP:20260424T164019Z
UID:event-16194-2025-04-28T21:15:00+02:00-none
DTSTART;TZID=Europe/Madrid:20250428T211500
DESCRIPTION:Cuando Kathryn\, la esposa de George Woodhouse\, un legendario 
 agente de inteligencia\, es acusada de traición\, su mundo se tambalea. 
SUMMARY:"Confidencial (Black Bag)"\, de Steven Soderbergh (V.O.S.E.)
END:VEVENT
BEGIN:VEVENT
DTSTAMP:20260424T164019Z
UID:event-16194-2025-04-29T21:45:00+02:00-none
DTSTART;TZID=Europe/Madrid:20250429T214500
DESCRIPTION:Cuando Kathryn\, la esposa de George Woodhouse\, un legendario 
 agente de inteligencia\, es acusada de traición\, su mundo se tambalea. 
SUMMARY:"Confidencial (Black Bag)"\, de Steven Soderbergh (V.O.S.E.)
END:VEVENT
BEGIN:VEVENT
DTSTAMP:20260424T164019Z
UID:event-16194-2025-04-26T22:15:00+02:00-none
DTSTART;TZID=Europe/Madrid:20250426T221500
DESCRIPTION:Cuando Kathryn\, la esposa de George Woodhouse\, un legendario 
 agente de inteligencia\, es acusada de traición\, su mundo se tambalea. 
SUMMARY:"Confidencial (Black Bag)"\, de Steven Soderbergh (V.O.S.E.)
END:VEVENT
END:VCALENDAR
