BEGIN:VCALENDAR
VERSION:2.0
PRODID:icalendar-ruby
CALSCALE:GREGORIAN
METHOD:PUBLISH
BEGIN:VEVENT
DTSTAMP:20260425T164412Z
UID:event-16512-2025-05-23T18:00:00+02:00-none
DTSTART;TZID=Europe/Madrid:20250523T180000
DESCRIPTION:Monsters Inc. es la mayor empresa de miedo del mundo\, y James 
 P. Sullivan es uno de sus mejores empleados. Asustar a los niños no es un
  trabajo fácil\, ya que todos creen que los niños son tóxicos y no pued
 en tener contacto con ellos.
SUMMARY:Cine familiar: "Monstruos S.A."
END:VEVENT
END:VCALENDAR
