BEGIN:VCALENDAR
VERSION:2.0
PRODID:icalendar-ruby
CALSCALE:GREGORIAN
METHOD:PUBLISH
BEGIN:VEVENT
DTSTAMP:20260423T084841Z
UID:event-16661-2025-06-04T16:15:00+02:00-none
DTSTART;TZID=Europe/Madrid:20250604T161500
DESCRIPTION:Agathe\, irremediablemente torpe pero encantadora y llena de co
 ntradicciones\, se encuentra en un desesperado estado de soltería. Su sue
 ño es vivir un amor digno de una novela de Jane Austen\, y su máxima asp
 iración es convertirse en escritora
SUMMARY:"Jane Austen arruinó mi vida"\, de Laura Piani
END:VEVENT
BEGIN:VEVENT
DTSTAMP:20260423T084841Z
UID:event-16661-2025-06-05T22:20:00+02:00-none
DTSTART;TZID=Europe/Madrid:20250605T222000
DESCRIPTION:Agathe\, irremediablemente torpe pero encantadora y llena de co
 ntradicciones\, se encuentra en un desesperado estado de soltería. Su sue
 ño es vivir un amor digno de una novela de Jane Austen\, y su máxima asp
 iración es convertirse en escritora
SUMMARY:"Jane Austen arruinó mi vida"\, de Laura Piani
END:VEVENT
END:VCALENDAR
