BEGIN:VCALENDAR
VERSION:2.0
PRODID:icalendar-ruby
CALSCALE:GREGORIAN
METHOD:PUBLISH
BEGIN:VEVENT
DTSTAMP:20260425T164304Z
UID:event-17321-2025-06-28T08:30:00+02:00-2025-06-28T13:30:00+02:00
DTSTART;TZID=Europe/Madrid:20250628T083000
DTEND;TZID=Europe/Madrid:20250628T133000
DESCRIPTION:Dentro de las actividades culturales de la UIMP\, tendrá lugar
  la emisión en directo del programa de radio "No es un día cualquiera" d
 e Radio Nacional de España\, presentado por la periodista Pepa Fernández
 .
SUMMARY:Emisión en directo del programa de radio "No es un día cualquiera
 " (RNE)
END:VEVENT
BEGIN:VEVENT
DTSTAMP:20260425T164304Z
UID:event-17321-2025-06-29T08:30:00+02:00-2025-06-29T13:30:00+02:00
DTSTART;TZID=Europe/Madrid:20250629T083000
DTEND;TZID=Europe/Madrid:20250629T133000
DESCRIPTION:Dentro de las actividades culturales de la UIMP\, tendrá lugar
  la emisión en directo del programa de radio "No es un día cualquiera" d
 e Radio Nacional de España\, presentado por la periodista Pepa Fernández
 .
SUMMARY:Emisión en directo del programa de radio "No es un día cualquiera
 " (RNE)
END:VEVENT
END:VCALENDAR
