BEGIN:VCALENDAR
VERSION:2.0
PRODID:icalendar-ruby
CALSCALE:GREGORIAN
METHOD:PUBLISH
BEGIN:VEVENT
DTSTAMP:20260423T004715Z
UID:event-18399-2025-10-01T19:30:00+02:00-2025-10-01T21:30:00+02:00
DTSTART;TZID=Europe/Madrid:20251001T193000
DTEND;TZID=Europe/Madrid:20251001T213000
DESCRIPTION:El Centro de Formación en Música Moderna (Musiquea) propone a
 cercar este tipo de música a los participantes a través de un formato de
  agrupación coral. 
SUMMARY:Apúntate al Coro de Música Moderna de Musiquea
END:VEVENT
BEGIN:VEVENT
DTSTAMP:20260423T004715Z
UID:event-18399-2025-10-08T19:30:00+02:00-2025-10-08T21:30:00+02:00
DTSTART;TZID=Europe/Madrid:20251008T193000
DTEND;TZID=Europe/Madrid:20251008T213000
DESCRIPTION:El Centro de Formación en Música Moderna (Musiquea) propone a
 cercar este tipo de música a los participantes a través de un formato de
  agrupación coral. 
SUMMARY:Apúntate al Coro de Música Moderna de Musiquea
END:VEVENT
BEGIN:VEVENT
DTSTAMP:20260423T004715Z
UID:event-18399-2025-10-15T19:30:00+02:00-2025-10-15T21:30:00+02:00
DTSTART;TZID=Europe/Madrid:20251015T193000
DTEND;TZID=Europe/Madrid:20251015T213000
DESCRIPTION:El Centro de Formación en Música Moderna (Musiquea) propone a
 cercar este tipo de música a los participantes a través de un formato de
  agrupación coral. 
SUMMARY:Apúntate al Coro de Música Moderna de Musiquea
END:VEVENT
BEGIN:VEVENT
DTSTAMP:20260423T004715Z
UID:event-18399-2025-10-22T19:30:00+02:00-2025-10-22T21:30:00+02:00
DTSTART;TZID=Europe/Madrid:20251022T193000
DTEND;TZID=Europe/Madrid:20251022T213000
DESCRIPTION:El Centro de Formación en Música Moderna (Musiquea) propone a
 cercar este tipo de música a los participantes a través de un formato de
  agrupación coral. 
SUMMARY:Apúntate al Coro de Música Moderna de Musiquea
END:VEVENT
BEGIN:VEVENT
DTSTAMP:20260423T004715Z
UID:event-18399-2025-10-29T19:30:00+01:00-2025-10-29T21:30:00+01:00
DTSTART;TZID=Europe/Madrid:20251029T193000
DTEND;TZID=Europe/Madrid:20251029T213000
DESCRIPTION:El Centro de Formación en Música Moderna (Musiquea) propone a
 cercar este tipo de música a los participantes a través de un formato de
  agrupación coral. 
SUMMARY:Apúntate al Coro de Música Moderna de Musiquea
END:VEVENT
BEGIN:VEVENT
DTSTAMP:20260423T004715Z
UID:event-18399-2025-11-05T19:30:00+01:00-2025-11-05T21:30:00+01:00
DTSTART;TZID=Europe/Madrid:20251105T193000
DTEND;TZID=Europe/Madrid:20251105T213000
DESCRIPTION:El Centro de Formación en Música Moderna (Musiquea) propone a
 cercar este tipo de música a los participantes a través de un formato de
  agrupación coral. 
SUMMARY:Apúntate al Coro de Música Moderna de Musiquea
END:VEVENT
BEGIN:VEVENT
DTSTAMP:20260423T004715Z
UID:event-18399-2025-11-12T19:30:00+01:00-2025-11-12T21:30:00+01:00
DTSTART;TZID=Europe/Madrid:20251112T193000
DTEND;TZID=Europe/Madrid:20251112T213000
DESCRIPTION:El Centro de Formación en Música Moderna (Musiquea) propone a
 cercar este tipo de música a los participantes a través de un formato de
  agrupación coral. 
SUMMARY:Apúntate al Coro de Música Moderna de Musiquea
END:VEVENT
BEGIN:VEVENT
DTSTAMP:20260423T004715Z
UID:event-18399-2025-11-19T19:30:00+01:00-2025-11-19T21:30:00+01:00
DTSTART;TZID=Europe/Madrid:20251119T193000
DTEND;TZID=Europe/Madrid:20251119T213000
DESCRIPTION:El Centro de Formación en Música Moderna (Musiquea) propone a
 cercar este tipo de música a los participantes a través de un formato de
  agrupación coral. 
SUMMARY:Apúntate al Coro de Música Moderna de Musiquea
END:VEVENT
BEGIN:VEVENT
DTSTAMP:20260423T004715Z
UID:event-18399-2025-11-26T19:30:00+01:00-2025-11-26T21:30:00+01:00
DTSTART;TZID=Europe/Madrid:20251126T193000
DTEND;TZID=Europe/Madrid:20251126T213000
DESCRIPTION:El Centro de Formación en Música Moderna (Musiquea) propone a
 cercar este tipo de música a los participantes a través de un formato de
  agrupación coral. 
SUMMARY:Apúntate al Coro de Música Moderna de Musiquea
END:VEVENT
BEGIN:VEVENT
DTSTAMP:20260423T004715Z
UID:event-18399-2025-12-03T19:30:00+01:00-2025-12-03T21:30:00+01:00
DTSTART;TZID=Europe/Madrid:20251203T193000
DTEND;TZID=Europe/Madrid:20251203T213000
DESCRIPTION:El Centro de Formación en Música Moderna (Musiquea) propone a
 cercar este tipo de música a los participantes a través de un formato de
  agrupación coral. 
SUMMARY:Apúntate al Coro de Música Moderna de Musiquea
END:VEVENT
BEGIN:VEVENT
DTSTAMP:20260423T004715Z
UID:event-18399-2025-12-10T19:30:00+01:00-2025-12-10T21:30:00+01:00
DTSTART;TZID=Europe/Madrid:20251210T193000
DTEND;TZID=Europe/Madrid:20251210T213000
DESCRIPTION:El Centro de Formación en Música Moderna (Musiquea) propone a
 cercar este tipo de música a los participantes a través de un formato de
  agrupación coral. 
SUMMARY:Apúntate al Coro de Música Moderna de Musiquea
END:VEVENT
BEGIN:VEVENT
DTSTAMP:20260423T004715Z
UID:event-18399-2025-12-17T19:30:00+01:00-2025-12-17T21:30:00+01:00
DTSTART;TZID=Europe/Madrid:20251217T193000
DTEND;TZID=Europe/Madrid:20251217T213000
DESCRIPTION:El Centro de Formación en Música Moderna (Musiquea) propone a
 cercar este tipo de música a los participantes a través de un formato de
  agrupación coral. 
SUMMARY:Apúntate al Coro de Música Moderna de Musiquea
END:VEVENT
BEGIN:VEVENT
DTSTAMP:20260423T004715Z
UID:event-18399-2025-12-24T19:30:00+01:00-2025-12-24T21:30:00+01:00
DTSTART;TZID=Europe/Madrid:20251224T193000
DTEND;TZID=Europe/Madrid:20251224T213000
DESCRIPTION:El Centro de Formación en Música Moderna (Musiquea) propone a
 cercar este tipo de música a los participantes a través de un formato de
  agrupación coral. 
SUMMARY:Apúntate al Coro de Música Moderna de Musiquea
END:VEVENT
BEGIN:VEVENT
DTSTAMP:20260423T004715Z
UID:event-18399-2025-12-31T19:30:00+01:00-2025-12-31T21:30:00+01:00
DTSTART;TZID=Europe/Madrid:20251231T193000
DTEND;TZID=Europe/Madrid:20251231T213000
DESCRIPTION:El Centro de Formación en Música Moderna (Musiquea) propone a
 cercar este tipo de música a los participantes a través de un formato de
  agrupación coral. 
SUMMARY:Apúntate al Coro de Música Moderna de Musiquea
END:VEVENT
BEGIN:VEVENT
DTSTAMP:20260423T004715Z
UID:event-18399-2026-01-07T19:30:00+01:00-2026-01-07T21:30:00+01:00
DTSTART;TZID=Europe/Madrid:20260107T193000
DTEND;TZID=Europe/Madrid:20260107T213000
DESCRIPTION:El Centro de Formación en Música Moderna (Musiquea) propone a
 cercar este tipo de música a los participantes a través de un formato de
  agrupación coral. 
SUMMARY:Apúntate al Coro de Música Moderna de Musiquea
END:VEVENT
BEGIN:VEVENT
DTSTAMP:20260423T004715Z
UID:event-18399-2026-01-14T19:30:00+01:00-2026-01-14T21:30:00+01:00
DTSTART;TZID=Europe/Madrid:20260114T193000
DTEND;TZID=Europe/Madrid:20260114T213000
DESCRIPTION:El Centro de Formación en Música Moderna (Musiquea) propone a
 cercar este tipo de música a los participantes a través de un formato de
  agrupación coral. 
SUMMARY:Apúntate al Coro de Música Moderna de Musiquea
END:VEVENT
BEGIN:VEVENT
DTSTAMP:20260423T004715Z
UID:event-18399-2026-01-21T19:30:00+01:00-2026-01-21T21:30:00+01:00
DTSTART;TZID=Europe/Madrid:20260121T193000
DTEND;TZID=Europe/Madrid:20260121T213000
DESCRIPTION:El Centro de Formación en Música Moderna (Musiquea) propone a
 cercar este tipo de música a los participantes a través de un formato de
  agrupación coral. 
SUMMARY:Apúntate al Coro de Música Moderna de Musiquea
END:VEVENT
BEGIN:VEVENT
DTSTAMP:20260423T004715Z
UID:event-18399-2026-01-28T19:30:00+01:00-2026-01-28T21:30:00+01:00
DTSTART;TZID=Europe/Madrid:20260128T193000
DTEND;TZID=Europe/Madrid:20260128T213000
DESCRIPTION:El Centro de Formación en Música Moderna (Musiquea) propone a
 cercar este tipo de música a los participantes a través de un formato de
  agrupación coral. 
SUMMARY:Apúntate al Coro de Música Moderna de Musiquea
END:VEVENT
BEGIN:VEVENT
DTSTAMP:20260423T004715Z
UID:event-18399-2026-02-04T19:30:00+01:00-2026-02-04T21:30:00+01:00
DTSTART;TZID=Europe/Madrid:20260204T193000
DTEND;TZID=Europe/Madrid:20260204T213000
DESCRIPTION:El Centro de Formación en Música Moderna (Musiquea) propone a
 cercar este tipo de música a los participantes a través de un formato de
  agrupación coral. 
SUMMARY:Apúntate al Coro de Música Moderna de Musiquea
END:VEVENT
BEGIN:VEVENT
DTSTAMP:20260423T004715Z
UID:event-18399-2026-02-11T19:30:00+01:00-2026-02-11T21:30:00+01:00
DTSTART;TZID=Europe/Madrid:20260211T193000
DTEND;TZID=Europe/Madrid:20260211T213000
DESCRIPTION:El Centro de Formación en Música Moderna (Musiquea) propone a
 cercar este tipo de música a los participantes a través de un formato de
  agrupación coral. 
SUMMARY:Apúntate al Coro de Música Moderna de Musiquea
END:VEVENT
BEGIN:VEVENT
DTSTAMP:20260423T004715Z
UID:event-18399-2026-02-18T19:30:00+01:00-2026-02-18T21:30:00+01:00
DTSTART;TZID=Europe/Madrid:20260218T193000
DTEND;TZID=Europe/Madrid:20260218T213000
DESCRIPTION:El Centro de Formación en Música Moderna (Musiquea) propone a
 cercar este tipo de música a los participantes a través de un formato de
  agrupación coral. 
SUMMARY:Apúntate al Coro de Música Moderna de Musiquea
END:VEVENT
BEGIN:VEVENT
DTSTAMP:20260423T004715Z
UID:event-18399-2026-02-25T19:30:00+01:00-2026-02-25T21:30:00+01:00
DTSTART;TZID=Europe/Madrid:20260225T193000
DTEND;TZID=Europe/Madrid:20260225T213000
DESCRIPTION:El Centro de Formación en Música Moderna (Musiquea) propone a
 cercar este tipo de música a los participantes a través de un formato de
  agrupación coral. 
SUMMARY:Apúntate al Coro de Música Moderna de Musiquea
END:VEVENT
BEGIN:VEVENT
DTSTAMP:20260423T004715Z
UID:event-18399-2026-03-04T19:30:00+01:00-2026-03-04T21:30:00+01:00
DTSTART;TZID=Europe/Madrid:20260304T193000
DTEND;TZID=Europe/Madrid:20260304T213000
DESCRIPTION:El Centro de Formación en Música Moderna (Musiquea) propone a
 cercar este tipo de música a los participantes a través de un formato de
  agrupación coral. 
SUMMARY:Apúntate al Coro de Música Moderna de Musiquea
END:VEVENT
BEGIN:VEVENT
DTSTAMP:20260423T004715Z
UID:event-18399-2026-03-11T19:30:00+01:00-2026-03-11T21:30:00+01:00
DTSTART;TZID=Europe/Madrid:20260311T193000
DTEND;TZID=Europe/Madrid:20260311T213000
DESCRIPTION:El Centro de Formación en Música Moderna (Musiquea) propone a
 cercar este tipo de música a los participantes a través de un formato de
  agrupación coral. 
SUMMARY:Apúntate al Coro de Música Moderna de Musiquea
END:VEVENT
BEGIN:VEVENT
DTSTAMP:20260423T004715Z
UID:event-18399-2026-03-18T19:30:00+01:00-2026-03-18T21:30:00+01:00
DTSTART;TZID=Europe/Madrid:20260318T193000
DTEND;TZID=Europe/Madrid:20260318T213000
DESCRIPTION:El Centro de Formación en Música Moderna (Musiquea) propone a
 cercar este tipo de música a los participantes a través de un formato de
  agrupación coral. 
SUMMARY:Apúntate al Coro de Música Moderna de Musiquea
END:VEVENT
BEGIN:VEVENT
DTSTAMP:20260423T004715Z
UID:event-18399-2026-03-25T19:30:00+01:00-2026-03-25T21:30:00+01:00
DTSTART;TZID=Europe/Madrid:20260325T193000
DTEND;TZID=Europe/Madrid:20260325T213000
DESCRIPTION:El Centro de Formación en Música Moderna (Musiquea) propone a
 cercar este tipo de música a los participantes a través de un formato de
  agrupación coral. 
SUMMARY:Apúntate al Coro de Música Moderna de Musiquea
END:VEVENT
BEGIN:VEVENT
DTSTAMP:20260423T004715Z
UID:event-18399-2026-04-01T19:30:00+02:00-2026-04-01T21:30:00+02:00
DTSTART;TZID=Europe/Madrid:20260401T193000
DTEND;TZID=Europe/Madrid:20260401T213000
DESCRIPTION:El Centro de Formación en Música Moderna (Musiquea) propone a
 cercar este tipo de música a los participantes a través de un formato de
  agrupación coral. 
SUMMARY:Apúntate al Coro de Música Moderna de Musiquea
END:VEVENT
BEGIN:VEVENT
DTSTAMP:20260423T004715Z
UID:event-18399-2026-04-08T19:30:00+02:00-2026-04-08T21:30:00+02:00
DTSTART;TZID=Europe/Madrid:20260408T193000
DTEND;TZID=Europe/Madrid:20260408T213000
DESCRIPTION:El Centro de Formación en Música Moderna (Musiquea) propone a
 cercar este tipo de música a los participantes a través de un formato de
  agrupación coral. 
SUMMARY:Apúntate al Coro de Música Moderna de Musiquea
END:VEVENT
BEGIN:VEVENT
DTSTAMP:20260423T004715Z
UID:event-18399-2026-04-15T19:30:00+02:00-2026-04-15T21:30:00+02:00
DTSTART;TZID=Europe/Madrid:20260415T193000
DTEND;TZID=Europe/Madrid:20260415T213000
DESCRIPTION:El Centro de Formación en Música Moderna (Musiquea) propone a
 cercar este tipo de música a los participantes a través de un formato de
  agrupación coral. 
SUMMARY:Apúntate al Coro de Música Moderna de Musiquea
END:VEVENT
BEGIN:VEVENT
DTSTAMP:20260423T004715Z
UID:event-18399-2026-04-22T19:30:00+02:00-2026-04-22T21:30:00+02:00
DTSTART;TZID=Europe/Madrid:20260422T193000
DTEND;TZID=Europe/Madrid:20260422T213000
DESCRIPTION:El Centro de Formación en Música Moderna (Musiquea) propone a
 cercar este tipo de música a los participantes a través de un formato de
  agrupación coral. 
SUMMARY:Apúntate al Coro de Música Moderna de Musiquea
END:VEVENT
BEGIN:VEVENT
DTSTAMP:20260423T004715Z
UID:event-18399-2026-04-29T19:30:00+02:00-2026-04-29T21:30:00+02:00
DTSTART;TZID=Europe/Madrid:20260429T193000
DTEND;TZID=Europe/Madrid:20260429T213000
DESCRIPTION:El Centro de Formación en Música Moderna (Musiquea) propone a
 cercar este tipo de música a los participantes a través de un formato de
  agrupación coral. 
SUMMARY:Apúntate al Coro de Música Moderna de Musiquea
END:VEVENT
BEGIN:VEVENT
DTSTAMP:20260423T004715Z
UID:event-18399-2026-05-06T19:30:00+02:00-2026-05-06T21:30:00+02:00
DTSTART;TZID=Europe/Madrid:20260506T193000
DTEND;TZID=Europe/Madrid:20260506T213000
DESCRIPTION:El Centro de Formación en Música Moderna (Musiquea) propone a
 cercar este tipo de música a los participantes a través de un formato de
  agrupación coral. 
SUMMARY:Apúntate al Coro de Música Moderna de Musiquea
END:VEVENT
BEGIN:VEVENT
DTSTAMP:20260423T004715Z
UID:event-18399-2026-05-13T19:30:00+02:00-2026-05-13T21:30:00+02:00
DTSTART;TZID=Europe/Madrid:20260513T193000
DTEND;TZID=Europe/Madrid:20260513T213000
DESCRIPTION:El Centro de Formación en Música Moderna (Musiquea) propone a
 cercar este tipo de música a los participantes a través de un formato de
  agrupación coral. 
SUMMARY:Apúntate al Coro de Música Moderna de Musiquea
END:VEVENT
BEGIN:VEVENT
DTSTAMP:20260423T004715Z
UID:event-18399-2026-05-20T19:30:00+02:00-2026-05-20T21:30:00+02:00
DTSTART;TZID=Europe/Madrid:20260520T193000
DTEND;TZID=Europe/Madrid:20260520T213000
DESCRIPTION:El Centro de Formación en Música Moderna (Musiquea) propone a
 cercar este tipo de música a los participantes a través de un formato de
  agrupación coral. 
SUMMARY:Apúntate al Coro de Música Moderna de Musiquea
END:VEVENT
BEGIN:VEVENT
DTSTAMP:20260423T004715Z
UID:event-18399-2026-05-27T19:30:00+02:00-2026-05-27T21:30:00+02:00
DTSTART;TZID=Europe/Madrid:20260527T193000
DTEND;TZID=Europe/Madrid:20260527T213000
DESCRIPTION:El Centro de Formación en Música Moderna (Musiquea) propone a
 cercar este tipo de música a los participantes a través de un formato de
  agrupación coral. 
SUMMARY:Apúntate al Coro de Música Moderna de Musiquea
END:VEVENT
BEGIN:VEVENT
DTSTAMP:20260423T004715Z
UID:event-18399-2026-06-03T19:30:00+02:00-2026-06-03T21:30:00+02:00
DTSTART;TZID=Europe/Madrid:20260603T193000
DTEND;TZID=Europe/Madrid:20260603T213000
DESCRIPTION:El Centro de Formación en Música Moderna (Musiquea) propone a
 cercar este tipo de música a los participantes a través de un formato de
  agrupación coral. 
SUMMARY:Apúntate al Coro de Música Moderna de Musiquea
END:VEVENT
BEGIN:VEVENT
DTSTAMP:20260423T004715Z
UID:event-18399-2026-06-10T19:30:00+02:00-2026-06-10T21:30:00+02:00
DTSTART;TZID=Europe/Madrid:20260610T193000
DTEND;TZID=Europe/Madrid:20260610T213000
DESCRIPTION:El Centro de Formación en Música Moderna (Musiquea) propone a
 cercar este tipo de música a los participantes a través de un formato de
  agrupación coral. 
SUMMARY:Apúntate al Coro de Música Moderna de Musiquea
END:VEVENT
BEGIN:VEVENT
DTSTAMP:20260423T004715Z
UID:event-18399-2026-06-17T19:30:00+02:00-2026-06-17T21:30:00+02:00
DTSTART;TZID=Europe/Madrid:20260617T193000
DTEND;TZID=Europe/Madrid:20260617T213000
DESCRIPTION:El Centro de Formación en Música Moderna (Musiquea) propone a
 cercar este tipo de música a los participantes a través de un formato de
  agrupación coral. 
SUMMARY:Apúntate al Coro de Música Moderna de Musiquea
END:VEVENT
BEGIN:VEVENT
DTSTAMP:20260423T004715Z
UID:event-18399-2026-06-24T19:30:00+02:00-2026-06-24T21:30:00+02:00
DTSTART;TZID=Europe/Madrid:20260624T193000
DTEND;TZID=Europe/Madrid:20260624T213000
DESCRIPTION:El Centro de Formación en Música Moderna (Musiquea) propone a
 cercar este tipo de música a los participantes a través de un formato de
  agrupación coral. 
SUMMARY:Apúntate al Coro de Música Moderna de Musiquea
END:VEVENT
END:VCALENDAR
