BEGIN:VCALENDAR
VERSION:2.0
PRODID:icalendar-ruby
CALSCALE:GREGORIAN
METHOD:PUBLISH
BEGIN:VEVENT
DTSTAMP:20260422T182231Z
UID:event-19438-2026-02-03T17:00:00+01:00-2026-02-03T18:30:00+01:00
DTSTART;TZID=Europe/Madrid:20260203T170000
DTEND;TZID=Europe/Madrid:20260203T183000
DESCRIPTION:Se centrará en el desarrollo de la voz y herramientas actorale
 s para recrear textos de obras elegidas y autores inmortales de manera aut
 éntica y emocionante. Habrá una puesta en escena final ante un público 
 invitado.
SUMMARY:Club de Lectura Dramatizada con Miguel Meca
END:VEVENT
BEGIN:VEVENT
DTSTAMP:20260422T182231Z
UID:event-19438-2026-02-10T17:00:00+01:00-2026-02-10T18:30:00+01:00
DTSTART;TZID=Europe/Madrid:20260210T170000
DTEND;TZID=Europe/Madrid:20260210T183000
DESCRIPTION:Se centrará en el desarrollo de la voz y herramientas actorale
 s para recrear textos de obras elegidas y autores inmortales de manera aut
 éntica y emocionante. Habrá una puesta en escena final ante un público 
 invitado.
SUMMARY:Club de Lectura Dramatizada con Miguel Meca
END:VEVENT
BEGIN:VEVENT
DTSTAMP:20260422T182231Z
UID:event-19438-2026-02-17T17:00:00+01:00-2026-02-17T18:30:00+01:00
DTSTART;TZID=Europe/Madrid:20260217T170000
DTEND;TZID=Europe/Madrid:20260217T183000
DESCRIPTION:Se centrará en el desarrollo de la voz y herramientas actorale
 s para recrear textos de obras elegidas y autores inmortales de manera aut
 éntica y emocionante. Habrá una puesta en escena final ante un público 
 invitado.
SUMMARY:Club de Lectura Dramatizada con Miguel Meca
END:VEVENT
BEGIN:VEVENT
DTSTAMP:20260422T182231Z
UID:event-19438-2026-02-24T17:00:00+01:00-2026-02-24T18:30:00+01:00
DTSTART;TZID=Europe/Madrid:20260224T170000
DTEND;TZID=Europe/Madrid:20260224T183000
DESCRIPTION:Se centrará en el desarrollo de la voz y herramientas actorale
 s para recrear textos de obras elegidas y autores inmortales de manera aut
 éntica y emocionante. Habrá una puesta en escena final ante un público 
 invitado.
SUMMARY:Club de Lectura Dramatizada con Miguel Meca
END:VEVENT
BEGIN:VEVENT
DTSTAMP:20260422T182231Z
UID:event-19438-2026-03-03T17:00:00+01:00-2026-03-03T18:30:00+01:00
DTSTART;TZID=Europe/Madrid:20260303T170000
DTEND;TZID=Europe/Madrid:20260303T183000
DESCRIPTION:Se centrará en el desarrollo de la voz y herramientas actorale
 s para recrear textos de obras elegidas y autores inmortales de manera aut
 éntica y emocionante. Habrá una puesta en escena final ante un público 
 invitado.
SUMMARY:Club de Lectura Dramatizada con Miguel Meca
END:VEVENT
BEGIN:VEVENT
DTSTAMP:20260422T182231Z
UID:event-19438-2026-03-10T17:00:00+01:00-2026-03-10T18:30:00+01:00
DTSTART;TZID=Europe/Madrid:20260310T170000
DTEND;TZID=Europe/Madrid:20260310T183000
DESCRIPTION:Se centrará en el desarrollo de la voz y herramientas actorale
 s para recrear textos de obras elegidas y autores inmortales de manera aut
 éntica y emocionante. Habrá una puesta en escena final ante un público 
 invitado.
SUMMARY:Club de Lectura Dramatizada con Miguel Meca
END:VEVENT
BEGIN:VEVENT
DTSTAMP:20260422T182231Z
UID:event-19438-2026-03-17T17:00:00+01:00-2026-03-17T18:30:00+01:00
DTSTART;TZID=Europe/Madrid:20260317T170000
DTEND;TZID=Europe/Madrid:20260317T183000
DESCRIPTION:Se centrará en el desarrollo de la voz y herramientas actorale
 s para recrear textos de obras elegidas y autores inmortales de manera aut
 éntica y emocionante. Habrá una puesta en escena final ante un público 
 invitado.
SUMMARY:Club de Lectura Dramatizada con Miguel Meca
END:VEVENT
BEGIN:VEVENT
DTSTAMP:20260422T182231Z
UID:event-19438-2026-03-24T17:00:00+01:00-2026-03-24T18:30:00+01:00
DTSTART;TZID=Europe/Madrid:20260324T170000
DTEND;TZID=Europe/Madrid:20260324T183000
DESCRIPTION:Se centrará en el desarrollo de la voz y herramientas actorale
 s para recrear textos de obras elegidas y autores inmortales de manera aut
 éntica y emocionante. Habrá una puesta en escena final ante un público 
 invitado.
SUMMARY:Club de Lectura Dramatizada con Miguel Meca
END:VEVENT
BEGIN:VEVENT
DTSTAMP:20260422T182231Z
UID:event-19438-2026-03-31T17:00:00+02:00-2026-03-31T18:30:00+02:00
DTSTART;TZID=Europe/Madrid:20260331T170000
DTEND;TZID=Europe/Madrid:20260331T183000
DESCRIPTION:Se centrará en el desarrollo de la voz y herramientas actorale
 s para recrear textos de obras elegidas y autores inmortales de manera aut
 éntica y emocionante. Habrá una puesta en escena final ante un público 
 invitado.
SUMMARY:Club de Lectura Dramatizada con Miguel Meca
END:VEVENT
BEGIN:VEVENT
DTSTAMP:20260422T182231Z
UID:event-19438-2026-04-07T17:00:00+02:00-2026-04-07T18:30:00+02:00
DTSTART;TZID=Europe/Madrid:20260407T170000
DTEND;TZID=Europe/Madrid:20260407T183000
DESCRIPTION:Se centrará en el desarrollo de la voz y herramientas actorale
 s para recrear textos de obras elegidas y autores inmortales de manera aut
 éntica y emocionante. Habrá una puesta en escena final ante un público 
 invitado.
SUMMARY:Club de Lectura Dramatizada con Miguel Meca
END:VEVENT
BEGIN:VEVENT
DTSTAMP:20260422T182231Z
UID:event-19438-2026-04-14T17:00:00+02:00-2026-04-14T18:30:00+02:00
DTSTART;TZID=Europe/Madrid:20260414T170000
DTEND;TZID=Europe/Madrid:20260414T183000
DESCRIPTION:Se centrará en el desarrollo de la voz y herramientas actorale
 s para recrear textos de obras elegidas y autores inmortales de manera aut
 éntica y emocionante. Habrá una puesta en escena final ante un público 
 invitado.
SUMMARY:Club de Lectura Dramatizada con Miguel Meca
END:VEVENT
BEGIN:VEVENT
DTSTAMP:20260422T182231Z
UID:event-19438-2026-04-21T17:00:00+02:00-2026-04-21T18:30:00+02:00
DTSTART;TZID=Europe/Madrid:20260421T170000
DTEND;TZID=Europe/Madrid:20260421T183000
DESCRIPTION:Se centrará en el desarrollo de la voz y herramientas actorale
 s para recrear textos de obras elegidas y autores inmortales de manera aut
 éntica y emocionante. Habrá una puesta en escena final ante un público 
 invitado.
SUMMARY:Club de Lectura Dramatizada con Miguel Meca
END:VEVENT
BEGIN:VEVENT
DTSTAMP:20260422T182231Z
UID:event-19438-2026-04-28T17:00:00+02:00-2026-04-28T18:30:00+02:00
DTSTART;TZID=Europe/Madrid:20260428T170000
DTEND;TZID=Europe/Madrid:20260428T183000
DESCRIPTION:Se centrará en el desarrollo de la voz y herramientas actorale
 s para recrear textos de obras elegidas y autores inmortales de manera aut
 éntica y emocionante. Habrá una puesta en escena final ante un público 
 invitado.
SUMMARY:Club de Lectura Dramatizada con Miguel Meca
END:VEVENT
BEGIN:VEVENT
DTSTAMP:20260422T182231Z
UID:event-19438-2026-05-05T17:00:00+02:00-2026-05-05T18:30:00+02:00
DTSTART;TZID=Europe/Madrid:20260505T170000
DTEND;TZID=Europe/Madrid:20260505T183000
DESCRIPTION:Se centrará en el desarrollo de la voz y herramientas actorale
 s para recrear textos de obras elegidas y autores inmortales de manera aut
 éntica y emocionante. Habrá una puesta en escena final ante un público 
 invitado.
SUMMARY:Club de Lectura Dramatizada con Miguel Meca
END:VEVENT
END:VCALENDAR
