BEGIN:VCALENDAR
VERSION:2.0
PRODID:icalendar-ruby
CALSCALE:GREGORIAN
METHOD:PUBLISH
BEGIN:VEVENT
DTSTAMP:20260424T210242Z
UID:event-20239-2026-04-24T23:30:00+02:00-none
DTSTART;TZID=Europe/Madrid:20260424T233000
DESCRIPTION:Su principal influencia siempre ha sido el trap pasando por la 
 que reconoce como su mayor influencia: sus amigas\, mujeres empoderadas\, 
 artistas y trabajadoras.
SUMMARY: Lorna\, la reina del punto
END:VEVENT
END:VCALENDAR
