BEGIN:VCALENDAR
VERSION:2.0
PRODID:icalendar-ruby
CALSCALE:GREGORIAN
METHOD:PUBLISH
BEGIN:VEVENT
DTSTAMP:20260425T155606Z
UID:event-20799-2026-05-09T12:00:00+02:00-none
DTSTART;TZID=Europe/Madrid:20260509T120000
DESCRIPTION:Vuelve al Palacio de Festivales la cita con la música independ
 iente de la mano de Indiferente Festival. En esta edición el cartel lo co
 mponen Dorian\, Vangoura\, Joseluis\, Baloncesto y Eva McBel.
SUMMARY:Vuelve Indiferente Festival
END:VEVENT
END:VCALENDAR
