BEGIN:VCALENDAR
VERSION:2.0
PRODID:icalendar-ruby
CALSCALE:GREGORIAN
METHOD:PUBLISH
BEGIN:VEVENT
DTSTAMP:20260423T035629Z
UID:event-21132-2026-11-20T19:00:00+01:00-none
DTSTART;TZID=Europe/Madrid:20261120T190000
DESCRIPTION:Tras más de una década sobre los escenarios\, Lázaro arranca
  una carrera en solitario en la que mantiene las señas de identidad de su
  anterior etapa\, con un pop-rock de melodías brillantes y métrica muy c
 uidadas.
SUMMARY:Lost in covers en Santander Sonoro 2026
END:VEVENT
END:VCALENDAR
