BEGIN:VCALENDAR
VERSION:2.0
PRODID:icalendar-ruby
CALSCALE:GREGORIAN
METHOD:PUBLISH
BEGIN:VEVENT
DTSTAMP:20260421T122826Z
UID:event-21444-2026-03-17T18:00:00+01:00-2026-03-17T21:00:00+01:00
DTSTART;TZID=Europe/Madrid:20260317T180000
DTEND;TZID=Europe/Madrid:20260317T210000
DESCRIPTION:Para conmemorar el Día del Cómic y del Tebeo 2026\, la Biblio
 teca Central de Cantabria organiza el taller de Fanzine DIY (Do It Yoursel
 f)\, impartido por Eva Gárate.
SUMMARY:Taller de Fanzine DIY (Do It Yourself) con Eva Gárate
END:VEVENT
END:VCALENDAR
