BEGIN:VCALENDAR
VERSION:2.0
PRODID:icalendar-ruby
CALSCALE:GREGORIAN
METHOD:PUBLISH
BEGIN:VEVENT
DTSTAMP:20260422T225119Z
UID:event-21548-2026-04-10T17:00:00+02:00-2026-04-10T19:00:00+02:00
DTSTART;TZID=Europe/Madrid:20260410T170000
DTEND;TZID=Europe/Madrid:20260410T190000
DESCRIPTION:La Concejalía de Cultura de Ayuntamiento de Santander pone en 
 marcha en 2026 una nueva edición de “El cine en tus manos”\, un talle
 r en el que se podrá aprender a grabar un cortometraje de ficción o docu
 mental de forma práctica  y amena.
SUMMARY:Nueva edición del taller de cortometrajes “El cine en tus manos
 ”\,
END:VEVENT
BEGIN:VEVENT
DTSTAMP:20260422T225119Z
UID:event-21548-2026-04-17T17:00:00+02:00-2026-04-17T19:00:00+02:00
DTSTART;TZID=Europe/Madrid:20260417T170000
DTEND;TZID=Europe/Madrid:20260417T190000
DESCRIPTION:La Concejalía de Cultura de Ayuntamiento de Santander pone en 
 marcha en 2026 una nueva edición de “El cine en tus manos”\, un talle
 r en el que se podrá aprender a grabar un cortometraje de ficción o docu
 mental de forma práctica  y amena.
SUMMARY:Nueva edición del taller de cortometrajes “El cine en tus manos
 ”\,
END:VEVENT
BEGIN:VEVENT
DTSTAMP:20260422T225119Z
UID:event-21548-2026-04-24T17:00:00+02:00-2026-04-24T19:00:00+02:00
DTSTART;TZID=Europe/Madrid:20260424T170000
DTEND;TZID=Europe/Madrid:20260424T190000
DESCRIPTION:La Concejalía de Cultura de Ayuntamiento de Santander pone en 
 marcha en 2026 una nueva edición de “El cine en tus manos”\, un talle
 r en el que se podrá aprender a grabar un cortometraje de ficción o docu
 mental de forma práctica  y amena.
SUMMARY:Nueva edición del taller de cortometrajes “El cine en tus manos
 ”\,
END:VEVENT
BEGIN:VEVENT
DTSTAMP:20260422T225119Z
UID:event-21548-2026-05-08T17:00:00+02:00-2026-05-08T19:00:00+02:00
DTSTART;TZID=Europe/Madrid:20260508T170000
DTEND;TZID=Europe/Madrid:20260508T190000
DESCRIPTION:La Concejalía de Cultura de Ayuntamiento de Santander pone en 
 marcha en 2026 una nueva edición de “El cine en tus manos”\, un talle
 r en el que se podrá aprender a grabar un cortometraje de ficción o docu
 mental de forma práctica  y amena.
SUMMARY:Nueva edición del taller de cortometrajes “El cine en tus manos
 ”\,
END:VEVENT
BEGIN:VEVENT
DTSTAMP:20260422T225119Z
UID:event-21548-2026-05-15T17:00:00+02:00-2026-05-15T19:00:00+02:00
DTSTART;TZID=Europe/Madrid:20260515T170000
DTEND;TZID=Europe/Madrid:20260515T190000
DESCRIPTION:La Concejalía de Cultura de Ayuntamiento de Santander pone en 
 marcha en 2026 una nueva edición de “El cine en tus manos”\, un talle
 r en el que se podrá aprender a grabar un cortometraje de ficción o docu
 mental de forma práctica  y amena.
SUMMARY:Nueva edición del taller de cortometrajes “El cine en tus manos
 ”\,
END:VEVENT
BEGIN:VEVENT
DTSTAMP:20260422T225119Z
UID:event-21548-2026-05-22T17:00:00+02:00-2026-05-22T19:00:00+02:00
DTSTART;TZID=Europe/Madrid:20260522T170000
DTEND;TZID=Europe/Madrid:20260522T190000
DESCRIPTION:La Concejalía de Cultura de Ayuntamiento de Santander pone en 
 marcha en 2026 una nueva edición de “El cine en tus manos”\, un talle
 r en el que se podrá aprender a grabar un cortometraje de ficción o docu
 mental de forma práctica  y amena.
SUMMARY:Nueva edición del taller de cortometrajes “El cine en tus manos
 ”\,
END:VEVENT
BEGIN:VEVENT
DTSTAMP:20260422T225119Z
UID:event-21548-2026-05-29T17:00:00+02:00-2026-05-29T19:00:00+02:00
DTSTART;TZID=Europe/Madrid:20260529T170000
DTEND;TZID=Europe/Madrid:20260529T190000
DESCRIPTION:La Concejalía de Cultura de Ayuntamiento de Santander pone en 
 marcha en 2026 una nueva edición de “El cine en tus manos”\, un talle
 r en el que se podrá aprender a grabar un cortometraje de ficción o docu
 mental de forma práctica  y amena.
SUMMARY:Nueva edición del taller de cortometrajes “El cine en tus manos
 ”\,
END:VEVENT
BEGIN:VEVENT
DTSTAMP:20260422T225119Z
UID:event-21548-2026-06-05T17:00:00+02:00-2026-06-05T19:00:00+02:00
DTSTART;TZID=Europe/Madrid:20260605T170000
DTEND;TZID=Europe/Madrid:20260605T190000
DESCRIPTION:La Concejalía de Cultura de Ayuntamiento de Santander pone en 
 marcha en 2026 una nueva edición de “El cine en tus manos”\, un talle
 r en el que se podrá aprender a grabar un cortometraje de ficción o docu
 mental de forma práctica  y amena.
SUMMARY:Nueva edición del taller de cortometrajes “El cine en tus manos
 ”\,
END:VEVENT
BEGIN:VEVENT
DTSTAMP:20260422T225119Z
UID:event-21548-2026-06-12T17:00:00+02:00-2026-06-12T19:00:00+02:00
DTSTART;TZID=Europe/Madrid:20260612T170000
DTEND;TZID=Europe/Madrid:20260612T190000
DESCRIPTION:La Concejalía de Cultura de Ayuntamiento de Santander pone en 
 marcha en 2026 una nueva edición de “El cine en tus manos”\, un talle
 r en el que se podrá aprender a grabar un cortometraje de ficción o docu
 mental de forma práctica  y amena.
SUMMARY:Nueva edición del taller de cortometrajes “El cine en tus manos
 ”\,
END:VEVENT
BEGIN:VEVENT
DTSTAMP:20260422T225119Z
UID:event-21548-2026-06-19T17:00:00+02:00-2026-06-19T19:00:00+02:00
DTSTART;TZID=Europe/Madrid:20260619T170000
DTEND;TZID=Europe/Madrid:20260619T190000
DESCRIPTION:La Concejalía de Cultura de Ayuntamiento de Santander pone en 
 marcha en 2026 una nueva edición de “El cine en tus manos”\, un talle
 r en el que se podrá aprender a grabar un cortometraje de ficción o docu
 mental de forma práctica  y amena.
SUMMARY:Nueva edición del taller de cortometrajes “El cine en tus manos
 ”\,
END:VEVENT
END:VCALENDAR
