BEGIN:VCALENDAR
VERSION:2.0
PRODID:icalendar-ruby
CALSCALE:GREGORIAN
METHOD:PUBLISH
BEGIN:VEVENT
DTSTAMP:20260423T090359Z
UID:event-21577-2026-03-12T19:00:00+01:00-2026-03-12T20:00:00+01:00
DTSTART;TZID=Europe/Madrid:20260312T190000
DTEND;TZID=Europe/Madrid:20260312T200000
DESCRIPTION:Te esperan en la oficina en Santander para una sesión presenci
 al donde te explicarán qué es el Cuerpo Europeo de Solidaridad\, aclarar
 án todas tus dudas y podrás hablar con personas que realmente han partic
 ipado en el programa.
SUMMARY:Charla informativa sobre el Cuerpo Europeo de Solidaridad
END:VEVENT
END:VCALENDAR
