BEGIN:VCALENDAR
VERSION:2.0
PRODID:icalendar-ruby
CALSCALE:GREGORIAN
METHOD:PUBLISH
BEGIN:VEVENT
DTSTAMP:20260421T224830Z
UID:event-21589-2026-05-08T16:00:00+02:00-none
DTSTART;TZID=Europe/Madrid:20260508T160000
DESCRIPTION:El Planetario es un medio de enseñanza excelente para iniciar 
 a las personas que lo visitan en el mundo de la astronomía\, para fines d
 idácticos de los centros de enseñanza y para escuelas de náutica y de a
 eronáutica.
SUMMARY:Planetario de la UC. Sesiones de mayo
END:VEVENT
BEGIN:VEVENT
DTSTAMP:20260421T224830Z
UID:event-21589-2026-05-08T17:00:00+02:00-none
DTSTART;TZID=Europe/Madrid:20260508T170000
DESCRIPTION:El Planetario es un medio de enseñanza excelente para iniciar 
 a las personas que lo visitan en el mundo de la astronomía\, para fines d
 idácticos de los centros de enseñanza y para escuelas de náutica y de a
 eronáutica.
SUMMARY:Planetario de la UC. Sesiones de mayo
END:VEVENT
BEGIN:VEVENT
DTSTAMP:20260421T224830Z
UID:event-21589-2026-05-08T18:00:00+02:00-none
DTSTART;TZID=Europe/Madrid:20260508T180000
DESCRIPTION:El Planetario es un medio de enseñanza excelente para iniciar 
 a las personas que lo visitan en el mundo de la astronomía\, para fines d
 idácticos de los centros de enseñanza y para escuelas de náutica y de a
 eronáutica.
SUMMARY:Planetario de la UC. Sesiones de mayo
END:VEVENT
BEGIN:VEVENT
DTSTAMP:20260421T224830Z
UID:event-21589-2026-05-08T19:00:00+02:00-none
DTSTART;TZID=Europe/Madrid:20260508T190000
DESCRIPTION:El Planetario es un medio de enseñanza excelente para iniciar 
 a las personas que lo visitan en el mundo de la astronomía\, para fines d
 idácticos de los centros de enseñanza y para escuelas de náutica y de a
 eronáutica.
SUMMARY:Planetario de la UC. Sesiones de mayo
END:VEVENT
BEGIN:VEVENT
DTSTAMP:20260421T224830Z
UID:event-21589-2026-05-15T16:00:00+02:00-none
DTSTART;TZID=Europe/Madrid:20260515T160000
DESCRIPTION:El Planetario es un medio de enseñanza excelente para iniciar 
 a las personas que lo visitan en el mundo de la astronomía\, para fines d
 idácticos de los centros de enseñanza y para escuelas de náutica y de a
 eronáutica.
SUMMARY:Planetario de la UC. Sesiones de mayo
END:VEVENT
BEGIN:VEVENT
DTSTAMP:20260421T224830Z
UID:event-21589-2026-05-15T17:00:00+02:00-none
DTSTART;TZID=Europe/Madrid:20260515T170000
DESCRIPTION:El Planetario es un medio de enseñanza excelente para iniciar 
 a las personas que lo visitan en el mundo de la astronomía\, para fines d
 idácticos de los centros de enseñanza y para escuelas de náutica y de a
 eronáutica.
SUMMARY:Planetario de la UC. Sesiones de mayo
END:VEVENT
BEGIN:VEVENT
DTSTAMP:20260421T224830Z
UID:event-21589-2026-05-15T18:00:00+02:00-none
DTSTART;TZID=Europe/Madrid:20260515T180000
DESCRIPTION:El Planetario es un medio de enseñanza excelente para iniciar 
 a las personas que lo visitan en el mundo de la astronomía\, para fines d
 idácticos de los centros de enseñanza y para escuelas de náutica y de a
 eronáutica.
SUMMARY:Planetario de la UC. Sesiones de mayo
END:VEVENT
BEGIN:VEVENT
DTSTAMP:20260421T224830Z
UID:event-21589-2026-05-15T19:00:00+02:00-none
DTSTART;TZID=Europe/Madrid:20260515T190000
DESCRIPTION:El Planetario es un medio de enseñanza excelente para iniciar 
 a las personas que lo visitan en el mundo de la astronomía\, para fines d
 idácticos de los centros de enseñanza y para escuelas de náutica y de a
 eronáutica.
SUMMARY:Planetario de la UC. Sesiones de mayo
END:VEVENT
BEGIN:VEVENT
DTSTAMP:20260421T224830Z
UID:event-21589-2026-05-22T16:00:00+02:00-none
DTSTART;TZID=Europe/Madrid:20260522T160000
DESCRIPTION:El Planetario es un medio de enseñanza excelente para iniciar 
 a las personas que lo visitan en el mundo de la astronomía\, para fines d
 idácticos de los centros de enseñanza y para escuelas de náutica y de a
 eronáutica.
SUMMARY:Planetario de la UC. Sesiones de mayo
END:VEVENT
BEGIN:VEVENT
DTSTAMP:20260421T224830Z
UID:event-21589-2026-05-22T17:00:00+02:00-none
DTSTART;TZID=Europe/Madrid:20260522T170000
DESCRIPTION:El Planetario es un medio de enseñanza excelente para iniciar 
 a las personas que lo visitan en el mundo de la astronomía\, para fines d
 idácticos de los centros de enseñanza y para escuelas de náutica y de a
 eronáutica.
SUMMARY:Planetario de la UC. Sesiones de mayo
END:VEVENT
BEGIN:VEVENT
DTSTAMP:20260421T224830Z
UID:event-21589-2026-05-22T18:00:00+02:00-none
DTSTART;TZID=Europe/Madrid:20260522T180000
DESCRIPTION:El Planetario es un medio de enseñanza excelente para iniciar 
 a las personas que lo visitan en el mundo de la astronomía\, para fines d
 idácticos de los centros de enseñanza y para escuelas de náutica y de a
 eronáutica.
SUMMARY:Planetario de la UC. Sesiones de mayo
END:VEVENT
BEGIN:VEVENT
DTSTAMP:20260421T224830Z
UID:event-21589-2026-05-22T19:00:00+02:00-none
DTSTART;TZID=Europe/Madrid:20260522T190000
DESCRIPTION:El Planetario es un medio de enseñanza excelente para iniciar 
 a las personas que lo visitan en el mundo de la astronomía\, para fines d
 idácticos de los centros de enseñanza y para escuelas de náutica y de a
 eronáutica.
SUMMARY:Planetario de la UC. Sesiones de mayo
END:VEVENT
BEGIN:VEVENT
DTSTAMP:20260421T224830Z
UID:event-21589-2026-05-29T16:00:00+02:00-none
DTSTART;TZID=Europe/Madrid:20260529T160000
DESCRIPTION:El Planetario es un medio de enseñanza excelente para iniciar 
 a las personas que lo visitan en el mundo de la astronomía\, para fines d
 idácticos de los centros de enseñanza y para escuelas de náutica y de a
 eronáutica.
SUMMARY:Planetario de la UC. Sesiones de mayo
END:VEVENT
BEGIN:VEVENT
DTSTAMP:20260421T224830Z
UID:event-21589-2026-05-29T17:00:00+02:00-none
DTSTART;TZID=Europe/Madrid:20260529T170000
DESCRIPTION:El Planetario es un medio de enseñanza excelente para iniciar 
 a las personas que lo visitan en el mundo de la astronomía\, para fines d
 idácticos de los centros de enseñanza y para escuelas de náutica y de a
 eronáutica.
SUMMARY:Planetario de la UC. Sesiones de mayo
END:VEVENT
BEGIN:VEVENT
DTSTAMP:20260421T224830Z
UID:event-21589-2026-05-29T18:00:00+02:00-none
DTSTART;TZID=Europe/Madrid:20260529T180000
DESCRIPTION:El Planetario es un medio de enseñanza excelente para iniciar 
 a las personas que lo visitan en el mundo de la astronomía\, para fines d
 idácticos de los centros de enseñanza y para escuelas de náutica y de a
 eronáutica.
SUMMARY:Planetario de la UC. Sesiones de mayo
END:VEVENT
BEGIN:VEVENT
DTSTAMP:20260421T224830Z
UID:event-21589-2026-05-29T19:00:00+02:00-none
DTSTART;TZID=Europe/Madrid:20260529T190000
DESCRIPTION:El Planetario es un medio de enseñanza excelente para iniciar 
 a las personas que lo visitan en el mundo de la astronomía\, para fines d
 idácticos de los centros de enseñanza y para escuelas de náutica y de a
 eronáutica.
SUMMARY:Planetario de la UC. Sesiones de mayo
END:VEVENT
END:VCALENDAR
