BEGIN:VCALENDAR
VERSION:2.0
PRODID:icalendar-ruby
CALSCALE:GREGORIAN
METHOD:PUBLISH
BEGIN:VEVENT
DTSTAMP:20260422T231525Z
UID:event-21665-2026-04-18T18:00:00+02:00-2026-04-18T20:00:00+02:00
DTSTART;TZID=Europe/Madrid:20260418T180000
DTEND;TZID=Europe/Madrid:20260418T200000
DESCRIPTION:A través de pequeñas acciones creadas por el Centro Botín en
  colaboración con la Universidad de Yale descubrirás las exposiciones de
 l Centro Botín.
SUMMARY:"Claves"\, acción creativa participativa
END:VEVENT
BEGIN:VEVENT
DTSTAMP:20260422T231525Z
UID:event-21665-2026-04-25T18:00:00+02:00-2026-04-25T20:00:00+02:00
DTSTART;TZID=Europe/Madrid:20260425T180000
DTEND;TZID=Europe/Madrid:20260425T200000
DESCRIPTION:A través de pequeñas acciones creadas por el Centro Botín en
  colaboración con la Universidad de Yale descubrirás las exposiciones de
 l Centro Botín.
SUMMARY:"Claves"\, acción creativa participativa
END:VEVENT
END:VCALENDAR
