BEGIN:VCALENDAR
VERSION:2.0
PRODID:icalendar-ruby
CALSCALE:GREGORIAN
METHOD:PUBLISH
BEGIN:VEVENT
DTSTAMP:20260422T214813Z
UID:event-21666-2026-04-22T18:30:00+02:00-none
DTSTART;TZID=Europe/Madrid:20260422T183000
DESCRIPTION:Bárbara Rodríguez Muñoz\, directora de exposiciones y de la 
 colección del Centro Botín\, es la comisaria para la muestra en Santande
 r y durante esta visita comentada nos acercará al trabajo de Yuko Mohri.
SUMMARY:Visita comentada a la exposición "Yuko Mohri: Entrelazamientos"\, 
 con Bárbara Rodríguez Muñoz
END:VEVENT
END:VCALENDAR
