BEGIN:VCALENDAR
VERSION:2.0
PRODID:icalendar-ruby
CALSCALE:GREGORIAN
METHOD:PUBLISH
BEGIN:VEVENT
DTSTAMP:20260424T210618Z
UID:event-21724-2026-05-16T11:00:00+02:00-2026-05-16T14:00:00+02:00
DTSTART;TZID=Europe/Madrid:20260516T110000
DTEND;TZID=Europe/Madrid:20260516T140000
DESCRIPTION:Taller artístico Sumi- E Bambú en la escuela Garanza Arte imp
 artido por Beatriz Hoyos\, artista y analista plástica con 28 años de ex
 periencia docente.
SUMMARY:Taller artístico Sumi- E Bambú
END:VEVENT
END:VCALENDAR
