BEGIN:VCALENDAR
VERSION:2.0
PRODID:icalendar-ruby
CALSCALE:GREGORIAN
METHOD:PUBLISH
BEGIN:VEVENT
DTSTAMP:20260423T025241Z
UID:event-21734-2026-04-24T22:30:00+02:00-none
DTSTART;TZID=Europe/Madrid:20260424T223000
DESCRIPTION:Elsa es una directora de publicidad cuya madre muere durante un
  largo puente del mes de diciembre. Encuentra refugio en el trabajo\, aunq
 ue es más bien una huida hacia adelante. Trabaja sin parar y\, sin darse 
 cuenta (...).
SUMMARY:"Amarga Navidad"\, de Pedro Almodóvar
END:VEVENT
BEGIN:VEVENT
DTSTAMP:20260423T025241Z
UID:event-21734-2026-04-25T22:45:00+02:00-none
DTSTART;TZID=Europe/Madrid:20260425T224500
DESCRIPTION:Elsa es una directora de publicidad cuya madre muere durante un
  largo puente del mes de diciembre. Encuentra refugio en el trabajo\, aunq
 ue es más bien una huida hacia adelante. Trabaja sin parar y\, sin darse 
 cuenta (...).
SUMMARY:"Amarga Navidad"\, de Pedro Almodóvar
END:VEVENT
BEGIN:VEVENT
DTSTAMP:20260423T025241Z
UID:event-21734-2026-04-29T22:30:00+02:00-none
DTSTART;TZID=Europe/Madrid:20260429T223000
DESCRIPTION:Elsa es una directora de publicidad cuya madre muere durante un
  largo puente del mes de diciembre. Encuentra refugio en el trabajo\, aunq
 ue es más bien una huida hacia adelante. Trabaja sin parar y\, sin darse 
 cuenta (...).
SUMMARY:"Amarga Navidad"\, de Pedro Almodóvar
END:VEVENT
END:VCALENDAR
