BEGIN:VCALENDAR
VERSION:2.0
PRODID:icalendar-ruby
CALSCALE:GREGORIAN
METHOD:PUBLISH
BEGIN:VEVENT
DTSTAMP:20260425T124444Z
UID:event-21882-2026-04-25T10:30:00+02:00-none
DTSTART;TZID=Europe/Madrid:20260425T103000
DESCRIPTION:En este taller\, los más pequeños crearán su propia corona c
 ívica con goma eva\, descubriendo de forma divertida el significado de lo
 s honores romanos. 
SUMMARY:"Corona cívica. Honores de Roma"\, actividad didáctica
END:VEVENT
BEGIN:VEVENT
DTSTAMP:20260425T124444Z
UID:event-21882-2026-04-25T12:00:00+02:00-none
DTSTART;TZID=Europe/Madrid:20260425T120000
DESCRIPTION:En este taller\, los más pequeños crearán su propia corona c
 ívica con goma eva\, descubriendo de forma divertida el significado de lo
 s honores romanos. 
SUMMARY:"Corona cívica. Honores de Roma"\, actividad didáctica
END:VEVENT
BEGIN:VEVENT
DTSTAMP:20260425T124444Z
UID:event-21882-2026-04-26T10:30:00+02:00-none
DTSTART;TZID=Europe/Madrid:20260426T103000
DESCRIPTION:En este taller\, los más pequeños crearán su propia corona c
 ívica con goma eva\, descubriendo de forma divertida el significado de lo
 s honores romanos. 
SUMMARY:"Corona cívica. Honores de Roma"\, actividad didáctica
END:VEVENT
BEGIN:VEVENT
DTSTAMP:20260425T124444Z
UID:event-21882-2026-04-26T12:00:00+02:00-none
DTSTART;TZID=Europe/Madrid:20260426T120000
DESCRIPTION:En este taller\, los más pequeños crearán su propia corona c
 ívica con goma eva\, descubriendo de forma divertida el significado de lo
 s honores romanos. 
SUMMARY:"Corona cívica. Honores de Roma"\, actividad didáctica
END:VEVENT
END:VCALENDAR
