BEGIN:VCALENDAR
VERSION:2.0
PRODID:icalendar-ruby
CALSCALE:GREGORIAN
METHOD:PUBLISH
BEGIN:VEVENT
DTSTAMP:20260419T183413Z
UID:event-21896-2026-03-27-2026-03-27
DTSTART;VALUE=DATE:20260327
DTEND;VALUE=DATE:20260327
DESCRIPTION:La Asociación de Artistas Visuales de Cantabria (AAVCA) lanza 
 “atropar”\, un proyecto expositivo de artes visuales que tendrá lugar
  del 2 al 5 de julio en la Fábrica de Creación de Santander. 
SUMMARY:Convocatoria abierta: Atropar\, proyecto expositivo de artes visual
 es
END:VEVENT
BEGIN:VEVENT
DTSTAMP:20260419T183413Z
UID:event-21896-2026-03-28-2026-03-28
DTSTART;VALUE=DATE:20260328
DTEND;VALUE=DATE:20260328
DESCRIPTION:La Asociación de Artistas Visuales de Cantabria (AAVCA) lanza 
 “atropar”\, un proyecto expositivo de artes visuales que tendrá lugar
  del 2 al 5 de julio en la Fábrica de Creación de Santander. 
SUMMARY:Convocatoria abierta: Atropar\, proyecto expositivo de artes visual
 es
END:VEVENT
BEGIN:VEVENT
DTSTAMP:20260419T183413Z
UID:event-21896-2026-03-29-2026-03-29
DTSTART;VALUE=DATE:20260329
DTEND;VALUE=DATE:20260329
DESCRIPTION:La Asociación de Artistas Visuales de Cantabria (AAVCA) lanza 
 “atropar”\, un proyecto expositivo de artes visuales que tendrá lugar
  del 2 al 5 de julio en la Fábrica de Creación de Santander. 
SUMMARY:Convocatoria abierta: Atropar\, proyecto expositivo de artes visual
 es
END:VEVENT
BEGIN:VEVENT
DTSTAMP:20260419T183413Z
UID:event-21896-2026-03-30-2026-03-30
DTSTART;VALUE=DATE:20260330
DTEND;VALUE=DATE:20260330
DESCRIPTION:La Asociación de Artistas Visuales de Cantabria (AAVCA) lanza 
 “atropar”\, un proyecto expositivo de artes visuales que tendrá lugar
  del 2 al 5 de julio en la Fábrica de Creación de Santander. 
SUMMARY:Convocatoria abierta: Atropar\, proyecto expositivo de artes visual
 es
END:VEVENT
BEGIN:VEVENT
DTSTAMP:20260419T183413Z
UID:event-21896-2026-03-31-2026-03-31
DTSTART;VALUE=DATE:20260331
DTEND;VALUE=DATE:20260331
DESCRIPTION:La Asociación de Artistas Visuales de Cantabria (AAVCA) lanza 
 “atropar”\, un proyecto expositivo de artes visuales que tendrá lugar
  del 2 al 5 de julio en la Fábrica de Creación de Santander. 
SUMMARY:Convocatoria abierta: Atropar\, proyecto expositivo de artes visual
 es
END:VEVENT
BEGIN:VEVENT
DTSTAMP:20260419T183413Z
UID:event-21896-2026-04-01-2026-04-01
DTSTART;VALUE=DATE:20260401
DTEND;VALUE=DATE:20260401
DESCRIPTION:La Asociación de Artistas Visuales de Cantabria (AAVCA) lanza 
 “atropar”\, un proyecto expositivo de artes visuales que tendrá lugar
  del 2 al 5 de julio en la Fábrica de Creación de Santander. 
SUMMARY:Convocatoria abierta: Atropar\, proyecto expositivo de artes visual
 es
END:VEVENT
BEGIN:VEVENT
DTSTAMP:20260419T183413Z
UID:event-21896-2026-04-02-2026-04-02
DTSTART;VALUE=DATE:20260402
DTEND;VALUE=DATE:20260402
DESCRIPTION:La Asociación de Artistas Visuales de Cantabria (AAVCA) lanza 
 “atropar”\, un proyecto expositivo de artes visuales que tendrá lugar
  del 2 al 5 de julio en la Fábrica de Creación de Santander. 
SUMMARY:Convocatoria abierta: Atropar\, proyecto expositivo de artes visual
 es
END:VEVENT
BEGIN:VEVENT
DTSTAMP:20260419T183413Z
UID:event-21896-2026-04-03-2026-04-03
DTSTART;VALUE=DATE:20260403
DTEND;VALUE=DATE:20260403
DESCRIPTION:La Asociación de Artistas Visuales de Cantabria (AAVCA) lanza 
 “atropar”\, un proyecto expositivo de artes visuales que tendrá lugar
  del 2 al 5 de julio en la Fábrica de Creación de Santander. 
SUMMARY:Convocatoria abierta: Atropar\, proyecto expositivo de artes visual
 es
END:VEVENT
BEGIN:VEVENT
DTSTAMP:20260419T183413Z
UID:event-21896-2026-04-04-2026-04-04
DTSTART;VALUE=DATE:20260404
DTEND;VALUE=DATE:20260404
DESCRIPTION:La Asociación de Artistas Visuales de Cantabria (AAVCA) lanza 
 “atropar”\, un proyecto expositivo de artes visuales que tendrá lugar
  del 2 al 5 de julio en la Fábrica de Creación de Santander. 
SUMMARY:Convocatoria abierta: Atropar\, proyecto expositivo de artes visual
 es
END:VEVENT
BEGIN:VEVENT
DTSTAMP:20260419T183413Z
UID:event-21896-2026-04-05-2026-04-05
DTSTART;VALUE=DATE:20260405
DTEND;VALUE=DATE:20260405
DESCRIPTION:La Asociación de Artistas Visuales de Cantabria (AAVCA) lanza 
 “atropar”\, un proyecto expositivo de artes visuales que tendrá lugar
  del 2 al 5 de julio en la Fábrica de Creación de Santander. 
SUMMARY:Convocatoria abierta: Atropar\, proyecto expositivo de artes visual
 es
END:VEVENT
BEGIN:VEVENT
DTSTAMP:20260419T183413Z
UID:event-21896-2026-04-06-2026-04-06
DTSTART;VALUE=DATE:20260406
DTEND;VALUE=DATE:20260406
DESCRIPTION:La Asociación de Artistas Visuales de Cantabria (AAVCA) lanza 
 “atropar”\, un proyecto expositivo de artes visuales que tendrá lugar
  del 2 al 5 de julio en la Fábrica de Creación de Santander. 
SUMMARY:Convocatoria abierta: Atropar\, proyecto expositivo de artes visual
 es
END:VEVENT
BEGIN:VEVENT
DTSTAMP:20260419T183413Z
UID:event-21896-2026-04-07-2026-04-07
DTSTART;VALUE=DATE:20260407
DTEND;VALUE=DATE:20260407
DESCRIPTION:La Asociación de Artistas Visuales de Cantabria (AAVCA) lanza 
 “atropar”\, un proyecto expositivo de artes visuales que tendrá lugar
  del 2 al 5 de julio en la Fábrica de Creación de Santander. 
SUMMARY:Convocatoria abierta: Atropar\, proyecto expositivo de artes visual
 es
END:VEVENT
BEGIN:VEVENT
DTSTAMP:20260419T183413Z
UID:event-21896-2026-04-08-2026-04-08
DTSTART;VALUE=DATE:20260408
DTEND;VALUE=DATE:20260408
DESCRIPTION:La Asociación de Artistas Visuales de Cantabria (AAVCA) lanza 
 “atropar”\, un proyecto expositivo de artes visuales que tendrá lugar
  del 2 al 5 de julio en la Fábrica de Creación de Santander. 
SUMMARY:Convocatoria abierta: Atropar\, proyecto expositivo de artes visual
 es
END:VEVENT
BEGIN:VEVENT
DTSTAMP:20260419T183413Z
UID:event-21896-2026-04-09-2026-04-09
DTSTART;VALUE=DATE:20260409
DTEND;VALUE=DATE:20260409
DESCRIPTION:La Asociación de Artistas Visuales de Cantabria (AAVCA) lanza 
 “atropar”\, un proyecto expositivo de artes visuales que tendrá lugar
  del 2 al 5 de julio en la Fábrica de Creación de Santander. 
SUMMARY:Convocatoria abierta: Atropar\, proyecto expositivo de artes visual
 es
END:VEVENT
BEGIN:VEVENT
DTSTAMP:20260419T183413Z
UID:event-21896-2026-04-10-2026-04-10
DTSTART;VALUE=DATE:20260410
DTEND;VALUE=DATE:20260410
DESCRIPTION:La Asociación de Artistas Visuales de Cantabria (AAVCA) lanza 
 “atropar”\, un proyecto expositivo de artes visuales que tendrá lugar
  del 2 al 5 de julio en la Fábrica de Creación de Santander. 
SUMMARY:Convocatoria abierta: Atropar\, proyecto expositivo de artes visual
 es
END:VEVENT
BEGIN:VEVENT
DTSTAMP:20260419T183413Z
UID:event-21896-2026-04-11-2026-04-11
DTSTART;VALUE=DATE:20260411
DTEND;VALUE=DATE:20260411
DESCRIPTION:La Asociación de Artistas Visuales de Cantabria (AAVCA) lanza 
 “atropar”\, un proyecto expositivo de artes visuales que tendrá lugar
  del 2 al 5 de julio en la Fábrica de Creación de Santander. 
SUMMARY:Convocatoria abierta: Atropar\, proyecto expositivo de artes visual
 es
END:VEVENT
BEGIN:VEVENT
DTSTAMP:20260419T183413Z
UID:event-21896-2026-04-12-2026-04-12
DTSTART;VALUE=DATE:20260412
DTEND;VALUE=DATE:20260412
DESCRIPTION:La Asociación de Artistas Visuales de Cantabria (AAVCA) lanza 
 “atropar”\, un proyecto expositivo de artes visuales que tendrá lugar
  del 2 al 5 de julio en la Fábrica de Creación de Santander. 
SUMMARY:Convocatoria abierta: Atropar\, proyecto expositivo de artes visual
 es
END:VEVENT
BEGIN:VEVENT
DTSTAMP:20260419T183413Z
UID:event-21896-2026-04-13-2026-04-13
DTSTART;VALUE=DATE:20260413
DTEND;VALUE=DATE:20260413
DESCRIPTION:La Asociación de Artistas Visuales de Cantabria (AAVCA) lanza 
 “atropar”\, un proyecto expositivo de artes visuales que tendrá lugar
  del 2 al 5 de julio en la Fábrica de Creación de Santander. 
SUMMARY:Convocatoria abierta: Atropar\, proyecto expositivo de artes visual
 es
END:VEVENT
BEGIN:VEVENT
DTSTAMP:20260419T183413Z
UID:event-21896-2026-04-14-2026-04-14
DTSTART;VALUE=DATE:20260414
DTEND;VALUE=DATE:20260414
DESCRIPTION:La Asociación de Artistas Visuales de Cantabria (AAVCA) lanza 
 “atropar”\, un proyecto expositivo de artes visuales que tendrá lugar
  del 2 al 5 de julio en la Fábrica de Creación de Santander. 
SUMMARY:Convocatoria abierta: Atropar\, proyecto expositivo de artes visual
 es
END:VEVENT
BEGIN:VEVENT
DTSTAMP:20260419T183413Z
UID:event-21896-2026-04-15-2026-04-15
DTSTART;VALUE=DATE:20260415
DTEND;VALUE=DATE:20260415
DESCRIPTION:La Asociación de Artistas Visuales de Cantabria (AAVCA) lanza 
 “atropar”\, un proyecto expositivo de artes visuales que tendrá lugar
  del 2 al 5 de julio en la Fábrica de Creación de Santander. 
SUMMARY:Convocatoria abierta: Atropar\, proyecto expositivo de artes visual
 es
END:VEVENT
BEGIN:VEVENT
DTSTAMP:20260419T183413Z
UID:event-21896-2026-04-16-2026-04-16
DTSTART;VALUE=DATE:20260416
DTEND;VALUE=DATE:20260416
DESCRIPTION:La Asociación de Artistas Visuales de Cantabria (AAVCA) lanza 
 “atropar”\, un proyecto expositivo de artes visuales que tendrá lugar
  del 2 al 5 de julio en la Fábrica de Creación de Santander. 
SUMMARY:Convocatoria abierta: Atropar\, proyecto expositivo de artes visual
 es
END:VEVENT
BEGIN:VEVENT
DTSTAMP:20260419T183413Z
UID:event-21896-2026-04-17-2026-04-17
DTSTART;VALUE=DATE:20260417
DTEND;VALUE=DATE:20260417
DESCRIPTION:La Asociación de Artistas Visuales de Cantabria (AAVCA) lanza 
 “atropar”\, un proyecto expositivo de artes visuales que tendrá lugar
  del 2 al 5 de julio en la Fábrica de Creación de Santander. 
SUMMARY:Convocatoria abierta: Atropar\, proyecto expositivo de artes visual
 es
END:VEVENT
BEGIN:VEVENT
DTSTAMP:20260419T183413Z
UID:event-21896-2026-04-18-2026-04-18
DTSTART;VALUE=DATE:20260418
DTEND;VALUE=DATE:20260418
DESCRIPTION:La Asociación de Artistas Visuales de Cantabria (AAVCA) lanza 
 “atropar”\, un proyecto expositivo de artes visuales que tendrá lugar
  del 2 al 5 de julio en la Fábrica de Creación de Santander. 
SUMMARY:Convocatoria abierta: Atropar\, proyecto expositivo de artes visual
 es
END:VEVENT
BEGIN:VEVENT
DTSTAMP:20260419T183413Z
UID:event-21896-2026-04-19-2026-04-19
DTSTART;VALUE=DATE:20260419
DTEND;VALUE=DATE:20260419
DESCRIPTION:La Asociación de Artistas Visuales de Cantabria (AAVCA) lanza 
 “atropar”\, un proyecto expositivo de artes visuales que tendrá lugar
  del 2 al 5 de julio en la Fábrica de Creación de Santander. 
SUMMARY:Convocatoria abierta: Atropar\, proyecto expositivo de artes visual
 es
END:VEVENT
BEGIN:VEVENT
DTSTAMP:20260419T183413Z
UID:event-21896-2026-04-20-2026-04-20
DTSTART;VALUE=DATE:20260420
DTEND;VALUE=DATE:20260420
DESCRIPTION:La Asociación de Artistas Visuales de Cantabria (AAVCA) lanza 
 “atropar”\, un proyecto expositivo de artes visuales que tendrá lugar
  del 2 al 5 de julio en la Fábrica de Creación de Santander. 
SUMMARY:Convocatoria abierta: Atropar\, proyecto expositivo de artes visual
 es
END:VEVENT
BEGIN:VEVENT
DTSTAMP:20260419T183413Z
UID:event-21896-2026-04-21-2026-04-21
DTSTART;VALUE=DATE:20260421
DTEND;VALUE=DATE:20260421
DESCRIPTION:La Asociación de Artistas Visuales de Cantabria (AAVCA) lanza 
 “atropar”\, un proyecto expositivo de artes visuales que tendrá lugar
  del 2 al 5 de julio en la Fábrica de Creación de Santander. 
SUMMARY:Convocatoria abierta: Atropar\, proyecto expositivo de artes visual
 es
END:VEVENT
BEGIN:VEVENT
DTSTAMP:20260419T183413Z
UID:event-21896-2026-04-22-2026-04-22
DTSTART;VALUE=DATE:20260422
DTEND;VALUE=DATE:20260422
DESCRIPTION:La Asociación de Artistas Visuales de Cantabria (AAVCA) lanza 
 “atropar”\, un proyecto expositivo de artes visuales que tendrá lugar
  del 2 al 5 de julio en la Fábrica de Creación de Santander. 
SUMMARY:Convocatoria abierta: Atropar\, proyecto expositivo de artes visual
 es
END:VEVENT
BEGIN:VEVENT
DTSTAMP:20260419T183413Z
UID:event-21896-2026-04-23-2026-04-23
DTSTART;VALUE=DATE:20260423
DTEND;VALUE=DATE:20260423
DESCRIPTION:La Asociación de Artistas Visuales de Cantabria (AAVCA) lanza 
 “atropar”\, un proyecto expositivo de artes visuales que tendrá lugar
  del 2 al 5 de julio en la Fábrica de Creación de Santander. 
SUMMARY:Convocatoria abierta: Atropar\, proyecto expositivo de artes visual
 es
END:VEVENT
BEGIN:VEVENT
DTSTAMP:20260419T183413Z
UID:event-21896-2026-04-24-2026-04-24
DTSTART;VALUE=DATE:20260424
DTEND;VALUE=DATE:20260424
DESCRIPTION:La Asociación de Artistas Visuales de Cantabria (AAVCA) lanza 
 “atropar”\, un proyecto expositivo de artes visuales que tendrá lugar
  del 2 al 5 de julio en la Fábrica de Creación de Santander. 
SUMMARY:Convocatoria abierta: Atropar\, proyecto expositivo de artes visual
 es
END:VEVENT
BEGIN:VEVENT
DTSTAMP:20260419T183413Z
UID:event-21896-2026-04-25-2026-04-25
DTSTART;VALUE=DATE:20260425
DTEND;VALUE=DATE:20260425
DESCRIPTION:La Asociación de Artistas Visuales de Cantabria (AAVCA) lanza 
 “atropar”\, un proyecto expositivo de artes visuales que tendrá lugar
  del 2 al 5 de julio en la Fábrica de Creación de Santander. 
SUMMARY:Convocatoria abierta: Atropar\, proyecto expositivo de artes visual
 es
END:VEVENT
BEGIN:VEVENT
DTSTAMP:20260419T183413Z
UID:event-21896-2026-04-26-2026-04-26
DTSTART;VALUE=DATE:20260426
DTEND;VALUE=DATE:20260426
DESCRIPTION:La Asociación de Artistas Visuales de Cantabria (AAVCA) lanza 
 “atropar”\, un proyecto expositivo de artes visuales que tendrá lugar
  del 2 al 5 de julio en la Fábrica de Creación de Santander. 
SUMMARY:Convocatoria abierta: Atropar\, proyecto expositivo de artes visual
 es
END:VEVENT
END:VCALENDAR
