BEGIN:VCALENDAR
VERSION:2.0
PRODID:icalendar-ruby
CALSCALE:GREGORIAN
METHOD:PUBLISH
BEGIN:VEVENT
DTSTAMP:20260422T231540Z
UID:event-21974-2026-04-02-2026-04-02
DTSTART;VALUE=DATE:20260402
DTEND;VALUE=DATE:20260402
DESCRIPTION:El Freestyle Canino Musical es una coreografía en la que un pe
 rro y un humano se mueven al ritmo de la música. Eligen una canción que 
 les guste a ambos y un vestuario que combine con la letra.
SUMMARY:Bego Antón en abril en el escaparate de La Caverna de la Luz
END:VEVENT
BEGIN:VEVENT
DTSTAMP:20260422T231540Z
UID:event-21974-2026-04-03-2026-04-03
DTSTART;VALUE=DATE:20260403
DTEND;VALUE=DATE:20260403
DESCRIPTION:El Freestyle Canino Musical es una coreografía en la que un pe
 rro y un humano se mueven al ritmo de la música. Eligen una canción que 
 les guste a ambos y un vestuario que combine con la letra.
SUMMARY:Bego Antón en abril en el escaparate de La Caverna de la Luz
END:VEVENT
BEGIN:VEVENT
DTSTAMP:20260422T231540Z
UID:event-21974-2026-04-04-2026-04-04
DTSTART;VALUE=DATE:20260404
DTEND;VALUE=DATE:20260404
DESCRIPTION:El Freestyle Canino Musical es una coreografía en la que un pe
 rro y un humano se mueven al ritmo de la música. Eligen una canción que 
 les guste a ambos y un vestuario que combine con la letra.
SUMMARY:Bego Antón en abril en el escaparate de La Caverna de la Luz
END:VEVENT
BEGIN:VEVENT
DTSTAMP:20260422T231540Z
UID:event-21974-2026-04-05-2026-04-05
DTSTART;VALUE=DATE:20260405
DTEND;VALUE=DATE:20260405
DESCRIPTION:El Freestyle Canino Musical es una coreografía en la que un pe
 rro y un humano se mueven al ritmo de la música. Eligen una canción que 
 les guste a ambos y un vestuario que combine con la letra.
SUMMARY:Bego Antón en abril en el escaparate de La Caverna de la Luz
END:VEVENT
BEGIN:VEVENT
DTSTAMP:20260422T231540Z
UID:event-21974-2026-04-06-2026-04-06
DTSTART;VALUE=DATE:20260406
DTEND;VALUE=DATE:20260406
DESCRIPTION:El Freestyle Canino Musical es una coreografía en la que un pe
 rro y un humano se mueven al ritmo de la música. Eligen una canción que 
 les guste a ambos y un vestuario que combine con la letra.
SUMMARY:Bego Antón en abril en el escaparate de La Caverna de la Luz
END:VEVENT
BEGIN:VEVENT
DTSTAMP:20260422T231540Z
UID:event-21974-2026-04-07-2026-04-07
DTSTART;VALUE=DATE:20260407
DTEND;VALUE=DATE:20260407
DESCRIPTION:El Freestyle Canino Musical es una coreografía en la que un pe
 rro y un humano se mueven al ritmo de la música. Eligen una canción que 
 les guste a ambos y un vestuario que combine con la letra.
SUMMARY:Bego Antón en abril en el escaparate de La Caverna de la Luz
END:VEVENT
BEGIN:VEVENT
DTSTAMP:20260422T231540Z
UID:event-21974-2026-04-08-2026-04-08
DTSTART;VALUE=DATE:20260408
DTEND;VALUE=DATE:20260408
DESCRIPTION:El Freestyle Canino Musical es una coreografía en la que un pe
 rro y un humano se mueven al ritmo de la música. Eligen una canción que 
 les guste a ambos y un vestuario que combine con la letra.
SUMMARY:Bego Antón en abril en el escaparate de La Caverna de la Luz
END:VEVENT
BEGIN:VEVENT
DTSTAMP:20260422T231540Z
UID:event-21974-2026-04-09-2026-04-09
DTSTART;VALUE=DATE:20260409
DTEND;VALUE=DATE:20260409
DESCRIPTION:El Freestyle Canino Musical es una coreografía en la que un pe
 rro y un humano se mueven al ritmo de la música. Eligen una canción que 
 les guste a ambos y un vestuario que combine con la letra.
SUMMARY:Bego Antón en abril en el escaparate de La Caverna de la Luz
END:VEVENT
BEGIN:VEVENT
DTSTAMP:20260422T231540Z
UID:event-21974-2026-04-10-2026-04-10
DTSTART;VALUE=DATE:20260410
DTEND;VALUE=DATE:20260410
DESCRIPTION:El Freestyle Canino Musical es una coreografía en la que un pe
 rro y un humano se mueven al ritmo de la música. Eligen una canción que 
 les guste a ambos y un vestuario que combine con la letra.
SUMMARY:Bego Antón en abril en el escaparate de La Caverna de la Luz
END:VEVENT
BEGIN:VEVENT
DTSTAMP:20260422T231540Z
UID:event-21974-2026-04-11-2026-04-11
DTSTART;VALUE=DATE:20260411
DTEND;VALUE=DATE:20260411
DESCRIPTION:El Freestyle Canino Musical es una coreografía en la que un pe
 rro y un humano se mueven al ritmo de la música. Eligen una canción que 
 les guste a ambos y un vestuario que combine con la letra.
SUMMARY:Bego Antón en abril en el escaparate de La Caverna de la Luz
END:VEVENT
BEGIN:VEVENT
DTSTAMP:20260422T231540Z
UID:event-21974-2026-04-12-2026-04-12
DTSTART;VALUE=DATE:20260412
DTEND;VALUE=DATE:20260412
DESCRIPTION:El Freestyle Canino Musical es una coreografía en la que un pe
 rro y un humano se mueven al ritmo de la música. Eligen una canción que 
 les guste a ambos y un vestuario que combine con la letra.
SUMMARY:Bego Antón en abril en el escaparate de La Caverna de la Luz
END:VEVENT
BEGIN:VEVENT
DTSTAMP:20260422T231540Z
UID:event-21974-2026-04-13-2026-04-13
DTSTART;VALUE=DATE:20260413
DTEND;VALUE=DATE:20260413
DESCRIPTION:El Freestyle Canino Musical es una coreografía en la que un pe
 rro y un humano se mueven al ritmo de la música. Eligen una canción que 
 les guste a ambos y un vestuario que combine con la letra.
SUMMARY:Bego Antón en abril en el escaparate de La Caverna de la Luz
END:VEVENT
BEGIN:VEVENT
DTSTAMP:20260422T231540Z
UID:event-21974-2026-04-14-2026-04-14
DTSTART;VALUE=DATE:20260414
DTEND;VALUE=DATE:20260414
DESCRIPTION:El Freestyle Canino Musical es una coreografía en la que un pe
 rro y un humano se mueven al ritmo de la música. Eligen una canción que 
 les guste a ambos y un vestuario que combine con la letra.
SUMMARY:Bego Antón en abril en el escaparate de La Caverna de la Luz
END:VEVENT
BEGIN:VEVENT
DTSTAMP:20260422T231540Z
UID:event-21974-2026-04-15-2026-04-15
DTSTART;VALUE=DATE:20260415
DTEND;VALUE=DATE:20260415
DESCRIPTION:El Freestyle Canino Musical es una coreografía en la que un pe
 rro y un humano se mueven al ritmo de la música. Eligen una canción que 
 les guste a ambos y un vestuario que combine con la letra.
SUMMARY:Bego Antón en abril en el escaparate de La Caverna de la Luz
END:VEVENT
BEGIN:VEVENT
DTSTAMP:20260422T231540Z
UID:event-21974-2026-04-16-2026-04-16
DTSTART;VALUE=DATE:20260416
DTEND;VALUE=DATE:20260416
DESCRIPTION:El Freestyle Canino Musical es una coreografía en la que un pe
 rro y un humano se mueven al ritmo de la música. Eligen una canción que 
 les guste a ambos y un vestuario que combine con la letra.
SUMMARY:Bego Antón en abril en el escaparate de La Caverna de la Luz
END:VEVENT
BEGIN:VEVENT
DTSTAMP:20260422T231540Z
UID:event-21974-2026-04-17-2026-04-17
DTSTART;VALUE=DATE:20260417
DTEND;VALUE=DATE:20260417
DESCRIPTION:El Freestyle Canino Musical es una coreografía en la que un pe
 rro y un humano se mueven al ritmo de la música. Eligen una canción que 
 les guste a ambos y un vestuario que combine con la letra.
SUMMARY:Bego Antón en abril en el escaparate de La Caverna de la Luz
END:VEVENT
BEGIN:VEVENT
DTSTAMP:20260422T231540Z
UID:event-21974-2026-04-18-2026-04-18
DTSTART;VALUE=DATE:20260418
DTEND;VALUE=DATE:20260418
DESCRIPTION:El Freestyle Canino Musical es una coreografía en la que un pe
 rro y un humano se mueven al ritmo de la música. Eligen una canción que 
 les guste a ambos y un vestuario que combine con la letra.
SUMMARY:Bego Antón en abril en el escaparate de La Caverna de la Luz
END:VEVENT
BEGIN:VEVENT
DTSTAMP:20260422T231540Z
UID:event-21974-2026-04-19-2026-04-19
DTSTART;VALUE=DATE:20260419
DTEND;VALUE=DATE:20260419
DESCRIPTION:El Freestyle Canino Musical es una coreografía en la que un pe
 rro y un humano se mueven al ritmo de la música. Eligen una canción que 
 les guste a ambos y un vestuario que combine con la letra.
SUMMARY:Bego Antón en abril en el escaparate de La Caverna de la Luz
END:VEVENT
BEGIN:VEVENT
DTSTAMP:20260422T231540Z
UID:event-21974-2026-04-20-2026-04-20
DTSTART;VALUE=DATE:20260420
DTEND;VALUE=DATE:20260420
DESCRIPTION:El Freestyle Canino Musical es una coreografía en la que un pe
 rro y un humano se mueven al ritmo de la música. Eligen una canción que 
 les guste a ambos y un vestuario que combine con la letra.
SUMMARY:Bego Antón en abril en el escaparate de La Caverna de la Luz
END:VEVENT
BEGIN:VEVENT
DTSTAMP:20260422T231540Z
UID:event-21974-2026-04-21-2026-04-21
DTSTART;VALUE=DATE:20260421
DTEND;VALUE=DATE:20260421
DESCRIPTION:El Freestyle Canino Musical es una coreografía en la que un pe
 rro y un humano se mueven al ritmo de la música. Eligen una canción que 
 les guste a ambos y un vestuario que combine con la letra.
SUMMARY:Bego Antón en abril en el escaparate de La Caverna de la Luz
END:VEVENT
BEGIN:VEVENT
DTSTAMP:20260422T231540Z
UID:event-21974-2026-04-22-2026-04-22
DTSTART;VALUE=DATE:20260422
DTEND;VALUE=DATE:20260422
DESCRIPTION:El Freestyle Canino Musical es una coreografía en la que un pe
 rro y un humano se mueven al ritmo de la música. Eligen una canción que 
 les guste a ambos y un vestuario que combine con la letra.
SUMMARY:Bego Antón en abril en el escaparate de La Caverna de la Luz
END:VEVENT
BEGIN:VEVENT
DTSTAMP:20260422T231540Z
UID:event-21974-2026-04-23-2026-04-23
DTSTART;VALUE=DATE:20260423
DTEND;VALUE=DATE:20260423
DESCRIPTION:El Freestyle Canino Musical es una coreografía en la que un pe
 rro y un humano se mueven al ritmo de la música. Eligen una canción que 
 les guste a ambos y un vestuario que combine con la letra.
SUMMARY:Bego Antón en abril en el escaparate de La Caverna de la Luz
END:VEVENT
BEGIN:VEVENT
DTSTAMP:20260422T231540Z
UID:event-21974-2026-04-24-2026-04-24
DTSTART;VALUE=DATE:20260424
DTEND;VALUE=DATE:20260424
DESCRIPTION:El Freestyle Canino Musical es una coreografía en la que un pe
 rro y un humano se mueven al ritmo de la música. Eligen una canción que 
 les guste a ambos y un vestuario que combine con la letra.
SUMMARY:Bego Antón en abril en el escaparate de La Caverna de la Luz
END:VEVENT
BEGIN:VEVENT
DTSTAMP:20260422T231540Z
UID:event-21974-2026-04-25-2026-04-25
DTSTART;VALUE=DATE:20260425
DTEND;VALUE=DATE:20260425
DESCRIPTION:El Freestyle Canino Musical es una coreografía en la que un pe
 rro y un humano se mueven al ritmo de la música. Eligen una canción que 
 les guste a ambos y un vestuario que combine con la letra.
SUMMARY:Bego Antón en abril en el escaparate de La Caverna de la Luz
END:VEVENT
BEGIN:VEVENT
DTSTAMP:20260422T231540Z
UID:event-21974-2026-04-26-2026-04-26
DTSTART;VALUE=DATE:20260426
DTEND;VALUE=DATE:20260426
DESCRIPTION:El Freestyle Canino Musical es una coreografía en la que un pe
 rro y un humano se mueven al ritmo de la música. Eligen una canción que 
 les guste a ambos y un vestuario que combine con la letra.
SUMMARY:Bego Antón en abril en el escaparate de La Caverna de la Luz
END:VEVENT
BEGIN:VEVENT
DTSTAMP:20260422T231540Z
UID:event-21974-2026-04-27-2026-04-27
DTSTART;VALUE=DATE:20260427
DTEND;VALUE=DATE:20260427
DESCRIPTION:El Freestyle Canino Musical es una coreografía en la que un pe
 rro y un humano se mueven al ritmo de la música. Eligen una canción que 
 les guste a ambos y un vestuario que combine con la letra.
SUMMARY:Bego Antón en abril en el escaparate de La Caverna de la Luz
END:VEVENT
BEGIN:VEVENT
DTSTAMP:20260422T231540Z
UID:event-21974-2026-04-28-2026-04-28
DTSTART;VALUE=DATE:20260428
DTEND;VALUE=DATE:20260428
DESCRIPTION:El Freestyle Canino Musical es una coreografía en la que un pe
 rro y un humano se mueven al ritmo de la música. Eligen una canción que 
 les guste a ambos y un vestuario que combine con la letra.
SUMMARY:Bego Antón en abril en el escaparate de La Caverna de la Luz
END:VEVENT
BEGIN:VEVENT
DTSTAMP:20260422T231540Z
UID:event-21974-2026-04-29-2026-04-29
DTSTART;VALUE=DATE:20260429
DTEND;VALUE=DATE:20260429
DESCRIPTION:El Freestyle Canino Musical es una coreografía en la que un pe
 rro y un humano se mueven al ritmo de la música. Eligen una canción que 
 les guste a ambos y un vestuario que combine con la letra.
SUMMARY:Bego Antón en abril en el escaparate de La Caverna de la Luz
END:VEVENT
BEGIN:VEVENT
DTSTAMP:20260422T231540Z
UID:event-21974-2026-04-30-2026-04-30
DTSTART;VALUE=DATE:20260430
DTEND;VALUE=DATE:20260430
DESCRIPTION:El Freestyle Canino Musical es una coreografía en la que un pe
 rro y un humano se mueven al ritmo de la música. Eligen una canción que 
 les guste a ambos y un vestuario que combine con la letra.
SUMMARY:Bego Antón en abril en el escaparate de La Caverna de la Luz
END:VEVENT
END:VCALENDAR
