BEGIN:VCALENDAR
VERSION:2.0
PRODID:icalendar-ruby
CALSCALE:GREGORIAN
METHOD:PUBLISH
BEGIN:VEVENT
DTSTAMP:20260423T031639Z
UID:event-21979-2026-03-31-2026-03-31
DTSTART;VALUE=DATE:20260331
DTEND;VALUE=DATE:20260331
DESCRIPTION:Además de rendir homenaje a 'Langarita'\, el galardón trata d
 e destacar aquellos trabajos que capturen la esencia del deporte. 
SUMMARY:III Premio de Periodismo "Langarita"
END:VEVENT
BEGIN:VEVENT
DTSTAMP:20260423T031639Z
UID:event-21979-2026-04-01-2026-04-01
DTSTART;VALUE=DATE:20260401
DTEND;VALUE=DATE:20260401
DESCRIPTION:Además de rendir homenaje a 'Langarita'\, el galardón trata d
 e destacar aquellos trabajos que capturen la esencia del deporte. 
SUMMARY:III Premio de Periodismo "Langarita"
END:VEVENT
BEGIN:VEVENT
DTSTAMP:20260423T031639Z
UID:event-21979-2026-04-02-2026-04-02
DTSTART;VALUE=DATE:20260402
DTEND;VALUE=DATE:20260402
DESCRIPTION:Además de rendir homenaje a 'Langarita'\, el galardón trata d
 e destacar aquellos trabajos que capturen la esencia del deporte. 
SUMMARY:III Premio de Periodismo "Langarita"
END:VEVENT
BEGIN:VEVENT
DTSTAMP:20260423T031639Z
UID:event-21979-2026-04-03-2026-04-03
DTSTART;VALUE=DATE:20260403
DTEND;VALUE=DATE:20260403
DESCRIPTION:Además de rendir homenaje a 'Langarita'\, el galardón trata d
 e destacar aquellos trabajos que capturen la esencia del deporte. 
SUMMARY:III Premio de Periodismo "Langarita"
END:VEVENT
BEGIN:VEVENT
DTSTAMP:20260423T031639Z
UID:event-21979-2026-04-04-2026-04-04
DTSTART;VALUE=DATE:20260404
DTEND;VALUE=DATE:20260404
DESCRIPTION:Además de rendir homenaje a 'Langarita'\, el galardón trata d
 e destacar aquellos trabajos que capturen la esencia del deporte. 
SUMMARY:III Premio de Periodismo "Langarita"
END:VEVENT
BEGIN:VEVENT
DTSTAMP:20260423T031639Z
UID:event-21979-2026-04-05-2026-04-05
DTSTART;VALUE=DATE:20260405
DTEND;VALUE=DATE:20260405
DESCRIPTION:Además de rendir homenaje a 'Langarita'\, el galardón trata d
 e destacar aquellos trabajos que capturen la esencia del deporte. 
SUMMARY:III Premio de Periodismo "Langarita"
END:VEVENT
BEGIN:VEVENT
DTSTAMP:20260423T031639Z
UID:event-21979-2026-04-06-2026-04-06
DTSTART;VALUE=DATE:20260406
DTEND;VALUE=DATE:20260406
DESCRIPTION:Además de rendir homenaje a 'Langarita'\, el galardón trata d
 e destacar aquellos trabajos que capturen la esencia del deporte. 
SUMMARY:III Premio de Periodismo "Langarita"
END:VEVENT
BEGIN:VEVENT
DTSTAMP:20260423T031639Z
UID:event-21979-2026-04-07-2026-04-07
DTSTART;VALUE=DATE:20260407
DTEND;VALUE=DATE:20260407
DESCRIPTION:Además de rendir homenaje a 'Langarita'\, el galardón trata d
 e destacar aquellos trabajos que capturen la esencia del deporte. 
SUMMARY:III Premio de Periodismo "Langarita"
END:VEVENT
BEGIN:VEVENT
DTSTAMP:20260423T031639Z
UID:event-21979-2026-04-08-2026-04-08
DTSTART;VALUE=DATE:20260408
DTEND;VALUE=DATE:20260408
DESCRIPTION:Además de rendir homenaje a 'Langarita'\, el galardón trata d
 e destacar aquellos trabajos que capturen la esencia del deporte. 
SUMMARY:III Premio de Periodismo "Langarita"
END:VEVENT
BEGIN:VEVENT
DTSTAMP:20260423T031639Z
UID:event-21979-2026-04-09-2026-04-09
DTSTART;VALUE=DATE:20260409
DTEND;VALUE=DATE:20260409
DESCRIPTION:Además de rendir homenaje a 'Langarita'\, el galardón trata d
 e destacar aquellos trabajos que capturen la esencia del deporte. 
SUMMARY:III Premio de Periodismo "Langarita"
END:VEVENT
BEGIN:VEVENT
DTSTAMP:20260423T031639Z
UID:event-21979-2026-04-10-2026-04-10
DTSTART;VALUE=DATE:20260410
DTEND;VALUE=DATE:20260410
DESCRIPTION:Además de rendir homenaje a 'Langarita'\, el galardón trata d
 e destacar aquellos trabajos que capturen la esencia del deporte. 
SUMMARY:III Premio de Periodismo "Langarita"
END:VEVENT
BEGIN:VEVENT
DTSTAMP:20260423T031639Z
UID:event-21979-2026-04-11-2026-04-11
DTSTART;VALUE=DATE:20260411
DTEND;VALUE=DATE:20260411
DESCRIPTION:Además de rendir homenaje a 'Langarita'\, el galardón trata d
 e destacar aquellos trabajos que capturen la esencia del deporte. 
SUMMARY:III Premio de Periodismo "Langarita"
END:VEVENT
BEGIN:VEVENT
DTSTAMP:20260423T031639Z
UID:event-21979-2026-04-12-2026-04-12
DTSTART;VALUE=DATE:20260412
DTEND;VALUE=DATE:20260412
DESCRIPTION:Además de rendir homenaje a 'Langarita'\, el galardón trata d
 e destacar aquellos trabajos que capturen la esencia del deporte. 
SUMMARY:III Premio de Periodismo "Langarita"
END:VEVENT
BEGIN:VEVENT
DTSTAMP:20260423T031639Z
UID:event-21979-2026-04-13-2026-04-13
DTSTART;VALUE=DATE:20260413
DTEND;VALUE=DATE:20260413
DESCRIPTION:Además de rendir homenaje a 'Langarita'\, el galardón trata d
 e destacar aquellos trabajos que capturen la esencia del deporte. 
SUMMARY:III Premio de Periodismo "Langarita"
END:VEVENT
BEGIN:VEVENT
DTSTAMP:20260423T031639Z
UID:event-21979-2026-04-14-2026-04-14
DTSTART;VALUE=DATE:20260414
DTEND;VALUE=DATE:20260414
DESCRIPTION:Además de rendir homenaje a 'Langarita'\, el galardón trata d
 e destacar aquellos trabajos que capturen la esencia del deporte. 
SUMMARY:III Premio de Periodismo "Langarita"
END:VEVENT
BEGIN:VEVENT
DTSTAMP:20260423T031639Z
UID:event-21979-2026-04-15-2026-04-15
DTSTART;VALUE=DATE:20260415
DTEND;VALUE=DATE:20260415
DESCRIPTION:Además de rendir homenaje a 'Langarita'\, el galardón trata d
 e destacar aquellos trabajos que capturen la esencia del deporte. 
SUMMARY:III Premio de Periodismo "Langarita"
END:VEVENT
BEGIN:VEVENT
DTSTAMP:20260423T031639Z
UID:event-21979-2026-04-16-2026-04-16
DTSTART;VALUE=DATE:20260416
DTEND;VALUE=DATE:20260416
DESCRIPTION:Además de rendir homenaje a 'Langarita'\, el galardón trata d
 e destacar aquellos trabajos que capturen la esencia del deporte. 
SUMMARY:III Premio de Periodismo "Langarita"
END:VEVENT
BEGIN:VEVENT
DTSTAMP:20260423T031639Z
UID:event-21979-2026-04-17-2026-04-17
DTSTART;VALUE=DATE:20260417
DTEND;VALUE=DATE:20260417
DESCRIPTION:Además de rendir homenaje a 'Langarita'\, el galardón trata d
 e destacar aquellos trabajos que capturen la esencia del deporte. 
SUMMARY:III Premio de Periodismo "Langarita"
END:VEVENT
BEGIN:VEVENT
DTSTAMP:20260423T031639Z
UID:event-21979-2026-04-18-2026-04-18
DTSTART;VALUE=DATE:20260418
DTEND;VALUE=DATE:20260418
DESCRIPTION:Además de rendir homenaje a 'Langarita'\, el galardón trata d
 e destacar aquellos trabajos que capturen la esencia del deporte. 
SUMMARY:III Premio de Periodismo "Langarita"
END:VEVENT
BEGIN:VEVENT
DTSTAMP:20260423T031639Z
UID:event-21979-2026-04-19-2026-04-19
DTSTART;VALUE=DATE:20260419
DTEND;VALUE=DATE:20260419
DESCRIPTION:Además de rendir homenaje a 'Langarita'\, el galardón trata d
 e destacar aquellos trabajos que capturen la esencia del deporte. 
SUMMARY:III Premio de Periodismo "Langarita"
END:VEVENT
BEGIN:VEVENT
DTSTAMP:20260423T031639Z
UID:event-21979-2026-04-20-2026-04-20
DTSTART;VALUE=DATE:20260420
DTEND;VALUE=DATE:20260420
DESCRIPTION:Además de rendir homenaje a 'Langarita'\, el galardón trata d
 e destacar aquellos trabajos que capturen la esencia del deporte. 
SUMMARY:III Premio de Periodismo "Langarita"
END:VEVENT
BEGIN:VEVENT
DTSTAMP:20260423T031639Z
UID:event-21979-2026-04-21-2026-04-21
DTSTART;VALUE=DATE:20260421
DTEND;VALUE=DATE:20260421
DESCRIPTION:Además de rendir homenaje a 'Langarita'\, el galardón trata d
 e destacar aquellos trabajos que capturen la esencia del deporte. 
SUMMARY:III Premio de Periodismo "Langarita"
END:VEVENT
BEGIN:VEVENT
DTSTAMP:20260423T031639Z
UID:event-21979-2026-04-22-2026-04-22
DTSTART;VALUE=DATE:20260422
DTEND;VALUE=DATE:20260422
DESCRIPTION:Además de rendir homenaje a 'Langarita'\, el galardón trata d
 e destacar aquellos trabajos que capturen la esencia del deporte. 
SUMMARY:III Premio de Periodismo "Langarita"
END:VEVENT
BEGIN:VEVENT
DTSTAMP:20260423T031639Z
UID:event-21979-2026-04-23-2026-04-23
DTSTART;VALUE=DATE:20260423
DTEND;VALUE=DATE:20260423
DESCRIPTION:Además de rendir homenaje a 'Langarita'\, el galardón trata d
 e destacar aquellos trabajos que capturen la esencia del deporte. 
SUMMARY:III Premio de Periodismo "Langarita"
END:VEVENT
BEGIN:VEVENT
DTSTAMP:20260423T031639Z
UID:event-21979-2026-04-24-2026-04-24
DTSTART;VALUE=DATE:20260424
DTEND;VALUE=DATE:20260424
DESCRIPTION:Además de rendir homenaje a 'Langarita'\, el galardón trata d
 e destacar aquellos trabajos que capturen la esencia del deporte. 
SUMMARY:III Premio de Periodismo "Langarita"
END:VEVENT
BEGIN:VEVENT
DTSTAMP:20260423T031639Z
UID:event-21979-2026-04-25-2026-04-25
DTSTART;VALUE=DATE:20260425
DTEND;VALUE=DATE:20260425
DESCRIPTION:Además de rendir homenaje a 'Langarita'\, el galardón trata d
 e destacar aquellos trabajos que capturen la esencia del deporte. 
SUMMARY:III Premio de Periodismo "Langarita"
END:VEVENT
BEGIN:VEVENT
DTSTAMP:20260423T031639Z
UID:event-21979-2026-04-26-2026-04-26
DTSTART;VALUE=DATE:20260426
DTEND;VALUE=DATE:20260426
DESCRIPTION:Además de rendir homenaje a 'Langarita'\, el galardón trata d
 e destacar aquellos trabajos que capturen la esencia del deporte. 
SUMMARY:III Premio de Periodismo "Langarita"
END:VEVENT
BEGIN:VEVENT
DTSTAMP:20260423T031639Z
UID:event-21979-2026-04-27-2026-04-27
DTSTART;VALUE=DATE:20260427
DTEND;VALUE=DATE:20260427
DESCRIPTION:Además de rendir homenaje a 'Langarita'\, el galardón trata d
 e destacar aquellos trabajos que capturen la esencia del deporte. 
SUMMARY:III Premio de Periodismo "Langarita"
END:VEVENT
BEGIN:VEVENT
DTSTAMP:20260423T031639Z
UID:event-21979-2026-04-28-2026-04-28
DTSTART;VALUE=DATE:20260428
DTEND;VALUE=DATE:20260428
DESCRIPTION:Además de rendir homenaje a 'Langarita'\, el galardón trata d
 e destacar aquellos trabajos que capturen la esencia del deporte. 
SUMMARY:III Premio de Periodismo "Langarita"
END:VEVENT
BEGIN:VEVENT
DTSTAMP:20260423T031639Z
UID:event-21979-2026-04-29-2026-04-29
DTSTART;VALUE=DATE:20260429
DTEND;VALUE=DATE:20260429
DESCRIPTION:Además de rendir homenaje a 'Langarita'\, el galardón trata d
 e destacar aquellos trabajos que capturen la esencia del deporte. 
SUMMARY:III Premio de Periodismo "Langarita"
END:VEVENT
BEGIN:VEVENT
DTSTAMP:20260423T031639Z
UID:event-21979-2026-04-30-2026-04-30
DTSTART;VALUE=DATE:20260430
DTEND;VALUE=DATE:20260430
DESCRIPTION:Además de rendir homenaje a 'Langarita'\, el galardón trata d
 e destacar aquellos trabajos que capturen la esencia del deporte. 
SUMMARY:III Premio de Periodismo "Langarita"
END:VEVENT
BEGIN:VEVENT
DTSTAMP:20260423T031639Z
UID:event-21979-2026-05-01-2026-05-01
DTSTART;VALUE=DATE:20260501
DTEND;VALUE=DATE:20260501
DESCRIPTION:Además de rendir homenaje a 'Langarita'\, el galardón trata d
 e destacar aquellos trabajos que capturen la esencia del deporte. 
SUMMARY:III Premio de Periodismo "Langarita"
END:VEVENT
BEGIN:VEVENT
DTSTAMP:20260423T031639Z
UID:event-21979-2026-05-02-2026-05-02
DTSTART;VALUE=DATE:20260502
DTEND;VALUE=DATE:20260502
DESCRIPTION:Además de rendir homenaje a 'Langarita'\, el galardón trata d
 e destacar aquellos trabajos que capturen la esencia del deporte. 
SUMMARY:III Premio de Periodismo "Langarita"
END:VEVENT
BEGIN:VEVENT
DTSTAMP:20260423T031639Z
UID:event-21979-2026-05-03-2026-05-03
DTSTART;VALUE=DATE:20260503
DTEND;VALUE=DATE:20260503
DESCRIPTION:Además de rendir homenaje a 'Langarita'\, el galardón trata d
 e destacar aquellos trabajos que capturen la esencia del deporte. 
SUMMARY:III Premio de Periodismo "Langarita"
END:VEVENT
BEGIN:VEVENT
DTSTAMP:20260423T031639Z
UID:event-21979-2026-05-04-2026-05-04
DTSTART;VALUE=DATE:20260504
DTEND;VALUE=DATE:20260504
DESCRIPTION:Además de rendir homenaje a 'Langarita'\, el galardón trata d
 e destacar aquellos trabajos que capturen la esencia del deporte. 
SUMMARY:III Premio de Periodismo "Langarita"
END:VEVENT
BEGIN:VEVENT
DTSTAMP:20260423T031639Z
UID:event-21979-2026-05-05-2026-05-05
DTSTART;VALUE=DATE:20260505
DTEND;VALUE=DATE:20260505
DESCRIPTION:Además de rendir homenaje a 'Langarita'\, el galardón trata d
 e destacar aquellos trabajos que capturen la esencia del deporte. 
SUMMARY:III Premio de Periodismo "Langarita"
END:VEVENT
BEGIN:VEVENT
DTSTAMP:20260423T031639Z
UID:event-21979-2026-05-06-2026-05-06
DTSTART;VALUE=DATE:20260506
DTEND;VALUE=DATE:20260506
DESCRIPTION:Además de rendir homenaje a 'Langarita'\, el galardón trata d
 e destacar aquellos trabajos que capturen la esencia del deporte. 
SUMMARY:III Premio de Periodismo "Langarita"
END:VEVENT
BEGIN:VEVENT
DTSTAMP:20260423T031639Z
UID:event-21979-2026-05-07-2026-05-07
DTSTART;VALUE=DATE:20260507
DTEND;VALUE=DATE:20260507
DESCRIPTION:Además de rendir homenaje a 'Langarita'\, el galardón trata d
 e destacar aquellos trabajos que capturen la esencia del deporte. 
SUMMARY:III Premio de Periodismo "Langarita"
END:VEVENT
BEGIN:VEVENT
DTSTAMP:20260423T031639Z
UID:event-21979-2026-05-08-2026-05-08
DTSTART;VALUE=DATE:20260508
DTEND;VALUE=DATE:20260508
DESCRIPTION:Además de rendir homenaje a 'Langarita'\, el galardón trata d
 e destacar aquellos trabajos que capturen la esencia del deporte. 
SUMMARY:III Premio de Periodismo "Langarita"
END:VEVENT
BEGIN:VEVENT
DTSTAMP:20260423T031639Z
UID:event-21979-2026-05-09-2026-05-09
DTSTART;VALUE=DATE:20260509
DTEND;VALUE=DATE:20260509
DESCRIPTION:Además de rendir homenaje a 'Langarita'\, el galardón trata d
 e destacar aquellos trabajos que capturen la esencia del deporte. 
SUMMARY:III Premio de Periodismo "Langarita"
END:VEVENT
BEGIN:VEVENT
DTSTAMP:20260423T031639Z
UID:event-21979-2026-05-10-2026-05-10
DTSTART;VALUE=DATE:20260510
DTEND;VALUE=DATE:20260510
DESCRIPTION:Además de rendir homenaje a 'Langarita'\, el galardón trata d
 e destacar aquellos trabajos que capturen la esencia del deporte. 
SUMMARY:III Premio de Periodismo "Langarita"
END:VEVENT
BEGIN:VEVENT
DTSTAMP:20260423T031639Z
UID:event-21979-2026-05-11-2026-05-11
DTSTART;VALUE=DATE:20260511
DTEND;VALUE=DATE:20260511
DESCRIPTION:Además de rendir homenaje a 'Langarita'\, el galardón trata d
 e destacar aquellos trabajos que capturen la esencia del deporte. 
SUMMARY:III Premio de Periodismo "Langarita"
END:VEVENT
BEGIN:VEVENT
DTSTAMP:20260423T031639Z
UID:event-21979-2026-05-12-2026-05-12
DTSTART;VALUE=DATE:20260512
DTEND;VALUE=DATE:20260512
DESCRIPTION:Además de rendir homenaje a 'Langarita'\, el galardón trata d
 e destacar aquellos trabajos que capturen la esencia del deporte. 
SUMMARY:III Premio de Periodismo "Langarita"
END:VEVENT
BEGIN:VEVENT
DTSTAMP:20260423T031639Z
UID:event-21979-2026-05-13-2026-05-13
DTSTART;VALUE=DATE:20260513
DTEND;VALUE=DATE:20260513
DESCRIPTION:Además de rendir homenaje a 'Langarita'\, el galardón trata d
 e destacar aquellos trabajos que capturen la esencia del deporte. 
SUMMARY:III Premio de Periodismo "Langarita"
END:VEVENT
BEGIN:VEVENT
DTSTAMP:20260423T031639Z
UID:event-21979-2026-05-14-2026-05-14
DTSTART;VALUE=DATE:20260514
DTEND;VALUE=DATE:20260514
DESCRIPTION:Además de rendir homenaje a 'Langarita'\, el galardón trata d
 e destacar aquellos trabajos que capturen la esencia del deporte. 
SUMMARY:III Premio de Periodismo "Langarita"
END:VEVENT
BEGIN:VEVENT
DTSTAMP:20260423T031639Z
UID:event-21979-2026-05-15-2026-05-15
DTSTART;VALUE=DATE:20260515
DTEND;VALUE=DATE:20260515
DESCRIPTION:Además de rendir homenaje a 'Langarita'\, el galardón trata d
 e destacar aquellos trabajos que capturen la esencia del deporte. 
SUMMARY:III Premio de Periodismo "Langarita"
END:VEVENT
BEGIN:VEVENT
DTSTAMP:20260423T031639Z
UID:event-21979-2026-05-16-2026-05-16
DTSTART;VALUE=DATE:20260516
DTEND;VALUE=DATE:20260516
DESCRIPTION:Además de rendir homenaje a 'Langarita'\, el galardón trata d
 e destacar aquellos trabajos que capturen la esencia del deporte. 
SUMMARY:III Premio de Periodismo "Langarita"
END:VEVENT
BEGIN:VEVENT
DTSTAMP:20260423T031639Z
UID:event-21979-2026-05-17-2026-05-17
DTSTART;VALUE=DATE:20260517
DTEND;VALUE=DATE:20260517
DESCRIPTION:Además de rendir homenaje a 'Langarita'\, el galardón trata d
 e destacar aquellos trabajos que capturen la esencia del deporte. 
SUMMARY:III Premio de Periodismo "Langarita"
END:VEVENT
BEGIN:VEVENT
DTSTAMP:20260423T031639Z
UID:event-21979-2026-05-18-2026-05-18
DTSTART;VALUE=DATE:20260518
DTEND;VALUE=DATE:20260518
DESCRIPTION:Además de rendir homenaje a 'Langarita'\, el galardón trata d
 e destacar aquellos trabajos que capturen la esencia del deporte. 
SUMMARY:III Premio de Periodismo "Langarita"
END:VEVENT
BEGIN:VEVENT
DTSTAMP:20260423T031639Z
UID:event-21979-2026-05-19-2026-05-19
DTSTART;VALUE=DATE:20260519
DTEND;VALUE=DATE:20260519
DESCRIPTION:Además de rendir homenaje a 'Langarita'\, el galardón trata d
 e destacar aquellos trabajos que capturen la esencia del deporte. 
SUMMARY:III Premio de Periodismo "Langarita"
END:VEVENT
BEGIN:VEVENT
DTSTAMP:20260423T031639Z
UID:event-21979-2026-05-20-2026-05-20
DTSTART;VALUE=DATE:20260520
DTEND;VALUE=DATE:20260520
DESCRIPTION:Además de rendir homenaje a 'Langarita'\, el galardón trata d
 e destacar aquellos trabajos que capturen la esencia del deporte. 
SUMMARY:III Premio de Periodismo "Langarita"
END:VEVENT
END:VCALENDAR
