BEGIN:VCALENDAR
VERSION:2.0
PRODID:icalendar-ruby
CALSCALE:GREGORIAN
METHOD:PUBLISH
BEGIN:VEVENT
DTSTAMP:20260423T054005Z
UID:event-21983-2026-04-30T20:00:00+02:00-none
DTSTART;TZID=Europe/Madrid:20260430T200000
DESCRIPTION:A finales de la II Guerra Mundial (1939-1945)\, a un selecto gr
 upo de historiadores\, directores de museos y expertos en arte\, tanto bri
 tánicos como norteamericanos\, se les encomienda la misión de recuperar 
 las obras de arte robadas.
SUMMARY:Filmoteca Universitaria: "The Monuments Men"\, de George Clooney (V
 .O.S.E.)
END:VEVENT
END:VCALENDAR
