BEGIN:VCALENDAR
VERSION:2.0
PRODID:icalendar-ruby
CALSCALE:GREGORIAN
METHOD:PUBLISH
BEGIN:VEVENT
DTSTAMP:20260421T191549Z
UID:event-21995-2026-04-15T16:00:00+02:00-none
DTSTART;TZID=Europe/Madrid:20260415T160000
DESCRIPTION:María Ángeles (Carmen Maura) es una española de 79 años que
  vive sola en Tánger\, en el norte de Marruecos\, donde disfruta de su ci
 udad y de su vida diaria. Su vida da un giro cuando su hija Clara (Marta E
 tura) llega desde Madrid...
SUMMARY:"Calle Málaga"\, de Maryam Touzani
END:VEVENT
BEGIN:VEVENT
DTSTAMP:20260421T191549Z
UID:event-21995-2026-04-15T20:15:00+02:00-none
DTSTART;TZID=Europe/Madrid:20260415T201500
DESCRIPTION:María Ángeles (Carmen Maura) es una española de 79 años que
  vive sola en Tánger\, en el norte de Marruecos\, donde disfruta de su ci
 udad y de su vida diaria. Su vida da un giro cuando su hija Clara (Marta E
 tura) llega desde Madrid...
SUMMARY:"Calle Málaga"\, de Maryam Touzani
END:VEVENT
BEGIN:VEVENT
DTSTAMP:20260421T191549Z
UID:event-21995-2026-04-15T22:15:00+02:00-none
DTSTART;TZID=Europe/Madrid:20260415T221500
DESCRIPTION:María Ángeles (Carmen Maura) es una española de 79 años que
  vive sola en Tánger\, en el norte de Marruecos\, donde disfruta de su ci
 udad y de su vida diaria. Su vida da un giro cuando su hija Clara (Marta E
 tura) llega desde Madrid...
SUMMARY:"Calle Málaga"\, de Maryam Touzani
END:VEVENT
BEGIN:VEVENT
DTSTAMP:20260421T191549Z
UID:event-21995-2026-04-16T17:30:00+02:00-none
DTSTART;TZID=Europe/Madrid:20260416T173000
DESCRIPTION:María Ángeles (Carmen Maura) es una española de 79 años que
  vive sola en Tánger\, en el norte de Marruecos\, donde disfruta de su ci
 udad y de su vida diaria. Su vida da un giro cuando su hija Clara (Marta E
 tura) llega desde Madrid...
SUMMARY:"Calle Málaga"\, de Maryam Touzani
END:VEVENT
BEGIN:VEVENT
DTSTAMP:20260421T191549Z
UID:event-21995-2026-04-17T17:45:00+02:00-none
DTSTART;TZID=Europe/Madrid:20260417T174500
DESCRIPTION:María Ángeles (Carmen Maura) es una española de 79 años que
  vive sola en Tánger\, en el norte de Marruecos\, donde disfruta de su ci
 udad y de su vida diaria. Su vida da un giro cuando su hija Clara (Marta E
 tura) llega desde Madrid...
SUMMARY:"Calle Málaga"\, de Maryam Touzani
END:VEVENT
BEGIN:VEVENT
DTSTAMP:20260421T191549Z
UID:event-21995-2026-04-18T18:00:00+02:00-none
DTSTART;TZID=Europe/Madrid:20260418T180000
DESCRIPTION:María Ángeles (Carmen Maura) es una española de 79 años que
  vive sola en Tánger\, en el norte de Marruecos\, donde disfruta de su ci
 udad y de su vida diaria. Su vida da un giro cuando su hija Clara (Marta E
 tura) llega desde Madrid...
SUMMARY:"Calle Málaga"\, de Maryam Touzani
END:VEVENT
BEGIN:VEVENT
DTSTAMP:20260421T191549Z
UID:event-21995-2026-04-19T20:25:00+02:00-none
DTSTART;TZID=Europe/Madrid:20260419T202500
DESCRIPTION:María Ángeles (Carmen Maura) es una española de 79 años que
  vive sola en Tánger\, en el norte de Marruecos\, donde disfruta de su ci
 udad y de su vida diaria. Su vida da un giro cuando su hija Clara (Marta E
 tura) llega desde Madrid...
SUMMARY:"Calle Málaga"\, de Maryam Touzani
END:VEVENT
BEGIN:VEVENT
DTSTAMP:20260421T191549Z
UID:event-21995-2026-04-20T17:30:00+02:00-none
DTSTART;TZID=Europe/Madrid:20260420T173000
DESCRIPTION:María Ángeles (Carmen Maura) es una española de 79 años que
  vive sola en Tánger\, en el norte de Marruecos\, donde disfruta de su ci
 udad y de su vida diaria. Su vida da un giro cuando su hija Clara (Marta E
 tura) llega desde Madrid...
SUMMARY:"Calle Málaga"\, de Maryam Touzani
END:VEVENT
BEGIN:VEVENT
DTSTAMP:20260421T191549Z
UID:event-21995-2026-04-21T16:00:00+02:00-none
DTSTART;TZID=Europe/Madrid:20260421T160000
DESCRIPTION:María Ángeles (Carmen Maura) es una española de 79 años que
  vive sola en Tánger\, en el norte de Marruecos\, donde disfruta de su ci
 udad y de su vida diaria. Su vida da un giro cuando su hija Clara (Marta E
 tura) llega desde Madrid...
SUMMARY:"Calle Málaga"\, de Maryam Touzani
END:VEVENT
BEGIN:VEVENT
DTSTAMP:20260421T191549Z
UID:event-21995-2026-04-21T22:30:00+02:00-none
DTSTART;TZID=Europe/Madrid:20260421T223000
DESCRIPTION:María Ángeles (Carmen Maura) es una española de 79 años que
  vive sola en Tánger\, en el norte de Marruecos\, donde disfruta de su ci
 udad y de su vida diaria. Su vida da un giro cuando su hija Clara (Marta E
 tura) llega desde Madrid...
SUMMARY:"Calle Málaga"\, de Maryam Touzani
END:VEVENT
BEGIN:VEVENT
DTSTAMP:20260421T191549Z
UID:event-21995-2026-04-22T18:00:00+02:00-none
DTSTART;TZID=Europe/Madrid:20260422T180000
DESCRIPTION:María Ángeles (Carmen Maura) es una española de 79 años que
  vive sola en Tánger\, en el norte de Marruecos\, donde disfruta de su ci
 udad y de su vida diaria. Su vida da un giro cuando su hija Clara (Marta E
 tura) llega desde Madrid...
SUMMARY:"Calle Málaga"\, de Maryam Touzani
END:VEVENT
BEGIN:VEVENT
DTSTAMP:20260421T191549Z
UID:event-21995-2026-04-23T19:45:00+02:00-none
DTSTART;TZID=Europe/Madrid:20260423T194500
DESCRIPTION:María Ángeles (Carmen Maura) es una española de 79 años que
  vive sola en Tánger\, en el norte de Marruecos\, donde disfruta de su ci
 udad y de su vida diaria. Su vida da un giro cuando su hija Clara (Marta E
 tura) llega desde Madrid...
SUMMARY:"Calle Málaga"\, de Maryam Touzani
END:VEVENT
END:VCALENDAR
