BEGIN:VCALENDAR
VERSION:2.0
PRODID:icalendar-ruby
CALSCALE:GREGORIAN
METHOD:PUBLISH
BEGIN:VEVENT
DTSTAMP:20260421T204543Z
UID:event-21997-2026-04-15T22:15:00+02:00-none
DTSTART;TZID=Europe/Madrid:20260415T221500
DESCRIPTION:Mariano De Santis\, presidente (ficticio) de la República ital
 iana\, es un veterano político demócrata\, humanista y católico\, que d
 e repente comienza a dudar sobre varias importantes decisiones que debe to
 mar...
SUMMARY:"La Grazia"\, de Paolo Sorrentino (V.O.S.E.)
END:VEVENT
BEGIN:VEVENT
DTSTAMP:20260421T204543Z
UID:event-21997-2026-04-16T19:45:00+02:00-none
DTSTART;TZID=Europe/Madrid:20260416T194500
DESCRIPTION:Mariano De Santis\, presidente (ficticio) de la República ital
 iana\, es un veterano político demócrata\, humanista y católico\, que d
 e repente comienza a dudar sobre varias importantes decisiones que debe to
 mar...
SUMMARY:"La Grazia"\, de Paolo Sorrentino (V.O.S.E.)
END:VEVENT
BEGIN:VEVENT
DTSTAMP:20260421T204543Z
UID:event-21997-2026-04-17T20:00:00+02:00-none
DTSTART;TZID=Europe/Madrid:20260417T200000
DESCRIPTION:Mariano De Santis\, presidente (ficticio) de la República ital
 iana\, es un veterano político demócrata\, humanista y católico\, que d
 e repente comienza a dudar sobre varias importantes decisiones que debe to
 mar...
SUMMARY:"La Grazia"\, de Paolo Sorrentino (V.O.S.E.)
END:VEVENT
BEGIN:VEVENT
DTSTAMP:20260421T204543Z
UID:event-21997-2026-04-18T22:30:00+02:00-none
DTSTART;TZID=Europe/Madrid:20260418T223000
DESCRIPTION:Mariano De Santis\, presidente (ficticio) de la República ital
 iana\, es un veterano político demócrata\, humanista y católico\, que d
 e repente comienza a dudar sobre varias importantes decisiones que debe to
 mar...
SUMMARY:"La Grazia"\, de Paolo Sorrentino (V.O.S.E.)
END:VEVENT
BEGIN:VEVENT
DTSTAMP:20260421T204543Z
UID:event-21997-2026-04-20T21:45:00+02:00-none
DTSTART;TZID=Europe/Madrid:20260420T214500
DESCRIPTION:Mariano De Santis\, presidente (ficticio) de la República ital
 iana\, es un veterano político demócrata\, humanista y católico\, que d
 e repente comienza a dudar sobre varias importantes decisiones que debe to
 mar...
SUMMARY:"La Grazia"\, de Paolo Sorrentino (V.O.S.E.)
END:VEVENT
BEGIN:VEVENT
DTSTAMP:20260421T204543Z
UID:event-21997-2026-04-22T22:30:00+02:00-none
DTSTART;TZID=Europe/Madrid:20260422T223000
DESCRIPTION:Mariano De Santis\, presidente (ficticio) de la República ital
 iana\, es un veterano político demócrata\, humanista y católico\, que d
 e repente comienza a dudar sobre varias importantes decisiones que debe to
 mar...
SUMMARY:"La Grazia"\, de Paolo Sorrentino (V.O.S.E.)
END:VEVENT
BEGIN:VEVENT
DTSTAMP:20260421T204543Z
UID:event-21997-2026-04-23T21:45:00+02:00-none
DTSTART;TZID=Europe/Madrid:20260423T214500
DESCRIPTION:Mariano De Santis\, presidente (ficticio) de la República ital
 iana\, es un veterano político demócrata\, humanista y católico\, que d
 e repente comienza a dudar sobre varias importantes decisiones que debe to
 mar...
SUMMARY:"La Grazia"\, de Paolo Sorrentino (V.O.S.E.)
END:VEVENT
END:VCALENDAR
