BEGIN:VCALENDAR
VERSION:2.0
PRODID:icalendar-ruby
CALSCALE:GREGORIAN
METHOD:PUBLISH
BEGIN:VEVENT
DTSTAMP:20260422T234322Z
UID:event-22000-2026-04-22T15:45:00+02:00-none
DTSTART;TZID=Europe/Madrid:20260422T154500
DESCRIPTION:Alicia y Gonzalo\, una pareja de clase media\, se encuentran co
 n la oportunidad de matricular a su hijo Fer en un colegio laico de élite
 . Para los padres supone asomar la cabeza en la clase alta\, nuevas amista
 des\, mayores ingresos...
SUMMARY:"Altas capacidades"\, de Victor García León
END:VEVENT
BEGIN:VEVENT
DTSTAMP:20260422T234322Z
UID:event-22000-2026-04-25T16:00:00+02:00-none
DTSTART;TZID=Europe/Madrid:20260425T160000
DESCRIPTION:Alicia y Gonzalo\, una pareja de clase media\, se encuentran co
 n la oportunidad de matricular a su hijo Fer en un colegio laico de élite
 . Para los padres supone asomar la cabeza en la clase alta\, nuevas amista
 des\, mayores ingresos...
SUMMARY:"Altas capacidades"\, de Victor García León
END:VEVENT
BEGIN:VEVENT
DTSTAMP:20260422T234322Z
UID:event-22000-2026-04-26T16:00:00+02:00-none
DTSTART;TZID=Europe/Madrid:20260426T160000
DESCRIPTION:Alicia y Gonzalo\, una pareja de clase media\, se encuentran co
 n la oportunidad de matricular a su hijo Fer en un colegio laico de élite
 . Para los padres supone asomar la cabeza en la clase alta\, nuevas amista
 des\, mayores ingresos...
SUMMARY:"Altas capacidades"\, de Victor García León
END:VEVENT
BEGIN:VEVENT
DTSTAMP:20260422T234322Z
UID:event-22000-2026-04-28T15:45:00+02:00-none
DTSTART;TZID=Europe/Madrid:20260428T154500
DESCRIPTION:Alicia y Gonzalo\, una pareja de clase media\, se encuentran co
 n la oportunidad de matricular a su hijo Fer en un colegio laico de élite
 . Para los padres supone asomar la cabeza en la clase alta\, nuevas amista
 des\, mayores ingresos...
SUMMARY:"Altas capacidades"\, de Victor García León
END:VEVENT
BEGIN:VEVENT
DTSTAMP:20260422T234322Z
UID:event-22000-2026-04-29T15:45:00+02:00-none
DTSTART;TZID=Europe/Madrid:20260429T154500
DESCRIPTION:Alicia y Gonzalo\, una pareja de clase media\, se encuentran co
 n la oportunidad de matricular a su hijo Fer en un colegio laico de élite
 . Para los padres supone asomar la cabeza en la clase alta\, nuevas amista
 des\, mayores ingresos...
SUMMARY:"Altas capacidades"\, de Victor García León
END:VEVENT
END:VCALENDAR
