BEGIN:VCALENDAR
VERSION:2.0
PRODID:icalendar-ruby
CALSCALE:GREGORIAN
METHOD:PUBLISH
BEGIN:VEVENT
DTSTAMP:20260419T202435Z
UID:event-22144-2026-05-08T20:30:00+02:00-none
DTSTART;TZID=Europe/Madrid:20260508T203000
DESCRIPTION:Producciones Tudancas celebra su XV aniversario con dos noches 
 de conciertos en la sala Rock Beer the New. La primera cita será el viern
 es 8 de mayo\, a partir de las 20:30h\, con las bandas Medussa\, Agujero y
  Bañaperros.
SUMMARY:XV Aniversario de Producciones Tudancas: Medussa\, Agujero y Bañap
 erros
END:VEVENT
END:VCALENDAR
