BEGIN:VCALENDAR
VERSION:2.0
PRODID:icalendar-ruby
CALSCALE:GREGORIAN
METHOD:PUBLISH
BEGIN:VEVENT
DTSTAMP:20260419T203242Z
UID:event-22145-2026-05-09T20:30:00+02:00-none
DTSTART;TZID=Europe/Madrid:20260509T203000
DESCRIPTION:La segunda cita será el sábado 9 de mayo\, a partir de las 20
 :30h\, con las bandas Caballo Muerte\, Doctrina e Ídolos del Extrarradio.
SUMMARY:XV Aniversario de Producciones Tudancas: Caballo Muerte\, Doctrina 
 e Ídolos del Extrarradio
END:VEVENT
END:VCALENDAR
