BEGIN:VCALENDAR
VERSION:2.0
PRODID:icalendar-ruby
CALSCALE:GREGORIAN
METHOD:PUBLISH
BEGIN:VEVENT
DTSTAMP:20260423T004101Z
UID:event-22272-2026-04-22T17:40:00+02:00-none
DTSTART;TZID=Europe/Madrid:20260422T174000
DESCRIPTION:Muestra el viaje de Michael Jackson más allá de la música\, 
 desde el descubrimiento de su extraordinario talento como líder de los Ja
 ckson Five hasta convertirse en una visionaria estrella.
SUMMARY:"Michael"\, dirigida por Antoine Fuqua
END:VEVENT
BEGIN:VEVENT
DTSTAMP:20260423T004101Z
UID:event-22272-2026-04-23T17:10:00+02:00-none
DTSTART;TZID=Europe/Madrid:20260423T171000
DESCRIPTION:Muestra el viaje de Michael Jackson más allá de la música\, 
 desde el descubrimiento de su extraordinario talento como líder de los Ja
 ckson Five hasta convertirse en una visionaria estrella.
SUMMARY:"Michael"\, dirigida por Antoine Fuqua
END:VEVENT
BEGIN:VEVENT
DTSTAMP:20260423T004101Z
UID:event-22272-2026-04-24T17:30:00+02:00-none
DTSTART;TZID=Europe/Madrid:20260424T173000
DESCRIPTION:Muestra el viaje de Michael Jackson más allá de la música\, 
 desde el descubrimiento de su extraordinario talento como líder de los Ja
 ckson Five hasta convertirse en una visionaria estrella.
SUMMARY:"Michael"\, dirigida por Antoine Fuqua
END:VEVENT
BEGIN:VEVENT
DTSTAMP:20260423T004101Z
UID:event-22272-2026-04-25T17:30:00+02:00-none
DTSTART;TZID=Europe/Madrid:20260425T173000
DESCRIPTION:Muestra el viaje de Michael Jackson más allá de la música\, 
 desde el descubrimiento de su extraordinario talento como líder de los Ja
 ckson Five hasta convertirse en una visionaria estrella.
SUMMARY:"Michael"\, dirigida por Antoine Fuqua
END:VEVENT
BEGIN:VEVENT
DTSTAMP:20260423T004101Z
UID:event-22272-2026-04-25T19:55:00+02:00-none
DTSTART;TZID=Europe/Madrid:20260425T195500
DESCRIPTION:Muestra el viaje de Michael Jackson más allá de la música\, 
 desde el descubrimiento de su extraordinario talento como líder de los Ja
 ckson Five hasta convertirse en una visionaria estrella.
SUMMARY:"Michael"\, dirigida por Antoine Fuqua
END:VEVENT
BEGIN:VEVENT
DTSTAMP:20260423T004101Z
UID:event-22272-2026-04-26T17:30:00+02:00-none
DTSTART;TZID=Europe/Madrid:20260426T173000
DESCRIPTION:Muestra el viaje de Michael Jackson más allá de la música\, 
 desde el descubrimiento de su extraordinario talento como líder de los Ja
 ckson Five hasta convertirse en una visionaria estrella.
SUMMARY:"Michael"\, dirigida por Antoine Fuqua
END:VEVENT
BEGIN:VEVENT
DTSTAMP:20260423T004102Z
UID:event-22272-2026-04-27T17:30:00+02:00-none
DTSTART;TZID=Europe/Madrid:20260427T173000
DESCRIPTION:Muestra el viaje de Michael Jackson más allá de la música\, 
 desde el descubrimiento de su extraordinario talento como líder de los Ja
 ckson Five hasta convertirse en una visionaria estrella.
SUMMARY:"Michael"\, dirigida por Antoine Fuqua
END:VEVENT
BEGIN:VEVENT
DTSTAMP:20260423T004102Z
UID:event-22272-2026-04-28T17:20:00+02:00-none
DTSTART;TZID=Europe/Madrid:20260428T172000
DESCRIPTION:Muestra el viaje de Michael Jackson más allá de la música\, 
 desde el descubrimiento de su extraordinario talento como líder de los Ja
 ckson Five hasta convertirse en una visionaria estrella.
SUMMARY:"Michael"\, dirigida por Antoine Fuqua
END:VEVENT
BEGIN:VEVENT
DTSTAMP:20260423T004102Z
UID:event-22272-2026-04-28T19:45:00+02:00-none
DTSTART;TZID=Europe/Madrid:20260428T194500
DESCRIPTION:Muestra el viaje de Michael Jackson más allá de la música\, 
 desde el descubrimiento de su extraordinario talento como líder de los Ja
 ckson Five hasta convertirse en una visionaria estrella.
SUMMARY:"Michael"\, dirigida por Antoine Fuqua
END:VEVENT
BEGIN:VEVENT
DTSTAMP:20260423T004102Z
UID:event-22272-2026-04-29T17:40:00+02:00-none
DTSTART;TZID=Europe/Madrid:20260429T174000
DESCRIPTION:Muestra el viaje de Michael Jackson más allá de la música\, 
 desde el descubrimiento de su extraordinario talento como líder de los Ja
 ckson Five hasta convertirse en una visionaria estrella.
SUMMARY:"Michael"\, dirigida por Antoine Fuqua
END:VEVENT
BEGIN:VEVENT
DTSTAMP:20260423T004102Z
UID:event-22272-2026-04-30T17:30:00+02:00-none
DTSTART;TZID=Europe/Madrid:20260430T173000
DESCRIPTION:Muestra el viaje de Michael Jackson más allá de la música\, 
 desde el descubrimiento de su extraordinario talento como líder de los Ja
 ckson Five hasta convertirse en una visionaria estrella.
SUMMARY:"Michael"\, dirigida por Antoine Fuqua
END:VEVENT
END:VCALENDAR
