BEGIN:VCALENDAR
VERSION:2.0
PRODID:icalendar-ruby
CALSCALE:GREGORIAN
METHOD:PUBLISH
BEGIN:VEVENT
DTSTAMP:20260423T004113Z
UID:event-22273-2026-04-22T20:05:00+02:00-none
DTSTART;TZID=Europe/Madrid:20260422T200500
DESCRIPTION:Muestra el viaje de Michael Jackson más allá de la música\, 
 desde el descubrimiento de su extraordinario talento como líder de los Ja
 ckson Five hasta convertirse en una visionaria estrella.
SUMMARY:"Michael"\, dirigida por Antoine Fuqua (V.O.S.E.)
END:VEVENT
BEGIN:VEVENT
DTSTAMP:20260423T004113Z
UID:event-22273-2026-04-22T22:30:00+02:00-none
DTSTART;TZID=Europe/Madrid:20260422T223000
DESCRIPTION:Muestra el viaje de Michael Jackson más allá de la música\, 
 desde el descubrimiento de su extraordinario talento como líder de los Ja
 ckson Five hasta convertirse en una visionaria estrella.
SUMMARY:"Michael"\, dirigida por Antoine Fuqua (V.O.S.E.)
END:VEVENT
BEGIN:VEVENT
DTSTAMP:20260423T004113Z
UID:event-22273-2026-04-23T21:30:00+02:00-none
DTSTART;TZID=Europe/Madrid:20260423T213000
DESCRIPTION:Muestra el viaje de Michael Jackson más allá de la música\, 
 desde el descubrimiento de su extraordinario talento como líder de los Ja
 ckson Five hasta convertirse en una visionaria estrella.
SUMMARY:"Michael"\, dirigida por Antoine Fuqua (V.O.S.E.)
END:VEVENT
BEGIN:VEVENT
DTSTAMP:20260423T004113Z
UID:event-22273-2026-04-24T19:55:00+02:00-none
DTSTART;TZID=Europe/Madrid:20260424T195500
DESCRIPTION:Muestra el viaje de Michael Jackson más allá de la música\, 
 desde el descubrimiento de su extraordinario talento como líder de los Ja
 ckson Five hasta convertirse en una visionaria estrella.
SUMMARY:"Michael"\, dirigida por Antoine Fuqua (V.O.S.E.)
END:VEVENT
BEGIN:VEVENT
DTSTAMP:20260423T004113Z
UID:event-22273-2026-04-24T22:20:00+02:00-none
DTSTART;TZID=Europe/Madrid:20260424T222000
DESCRIPTION:Muestra el viaje de Michael Jackson más allá de la música\, 
 desde el descubrimiento de su extraordinario talento como líder de los Ja
 ckson Five hasta convertirse en una visionaria estrella.
SUMMARY:"Michael"\, dirigida por Antoine Fuqua (V.O.S.E.)
END:VEVENT
BEGIN:VEVENT
DTSTAMP:20260423T004113Z
UID:event-22273-2026-04-25T22:20:00+02:00-none
DTSTART;TZID=Europe/Madrid:20260425T222000
DESCRIPTION:Muestra el viaje de Michael Jackson más allá de la música\, 
 desde el descubrimiento de su extraordinario talento como líder de los Ja
 ckson Five hasta convertirse en una visionaria estrella.
SUMMARY:"Michael"\, dirigida por Antoine Fuqua (V.O.S.E.)
END:VEVENT
BEGIN:VEVENT
DTSTAMP:20260423T004113Z
UID:event-22273-2026-04-26T19:55:00+02:00-none
DTSTART;TZID=Europe/Madrid:20260426T195500
DESCRIPTION:Muestra el viaje de Michael Jackson más allá de la música\, 
 desde el descubrimiento de su extraordinario talento como líder de los Ja
 ckson Five hasta convertirse en una visionaria estrella.
SUMMARY:"Michael"\, dirigida por Antoine Fuqua (V.O.S.E.)
END:VEVENT
BEGIN:VEVENT
DTSTAMP:20260423T004113Z
UID:event-22273-2026-04-27T21:30:00+02:00-none
DTSTART;TZID=Europe/Madrid:20260427T213000
DESCRIPTION:Muestra el viaje de Michael Jackson más allá de la música\, 
 desde el descubrimiento de su extraordinario talento como líder de los Ja
 ckson Five hasta convertirse en una visionaria estrella.
SUMMARY:"Michael"\, dirigida por Antoine Fuqua (V.O.S.E.)
END:VEVENT
BEGIN:VEVENT
DTSTAMP:20260423T004114Z
UID:event-22273-2026-04-28T22:10:00+02:00-none
DTSTART;TZID=Europe/Madrid:20260428T221000
DESCRIPTION:Muestra el viaje de Michael Jackson más allá de la música\, 
 desde el descubrimiento de su extraordinario talento como líder de los Ja
 ckson Five hasta convertirse en una visionaria estrella.
SUMMARY:"Michael"\, dirigida por Antoine Fuqua (V.O.S.E.)
END:VEVENT
BEGIN:VEVENT
DTSTAMP:20260423T004114Z
UID:event-22273-2026-04-29T20:05:00+02:00-none
DTSTART;TZID=Europe/Madrid:20260429T200500
DESCRIPTION:Muestra el viaje de Michael Jackson más allá de la música\, 
 desde el descubrimiento de su extraordinario talento como líder de los Ja
 ckson Five hasta convertirse en una visionaria estrella.
SUMMARY:"Michael"\, dirigida por Antoine Fuqua (V.O.S.E.)
END:VEVENT
BEGIN:VEVENT
DTSTAMP:20260423T004114Z
UID:event-22273-2026-04-29T22:15:00+02:00-none
DTSTART;TZID=Europe/Madrid:20260429T221500
DESCRIPTION:Muestra el viaje de Michael Jackson más allá de la música\, 
 desde el descubrimiento de su extraordinario talento como líder de los Ja
 ckson Five hasta convertirse en una visionaria estrella.
SUMMARY:"Michael"\, dirigida por Antoine Fuqua (V.O.S.E.)
END:VEVENT
BEGIN:VEVENT
DTSTAMP:20260423T004114Z
UID:event-22273-2026-04-30T21:30:00+02:00-none
DTSTART;TZID=Europe/Madrid:20260430T213000
DESCRIPTION:Muestra el viaje de Michael Jackson más allá de la música\, 
 desde el descubrimiento de su extraordinario talento como líder de los Ja
 ckson Five hasta convertirse en una visionaria estrella.
SUMMARY:"Michael"\, dirigida por Antoine Fuqua (V.O.S.E.)
END:VEVENT
END:VCALENDAR
