BEGIN:VCALENDAR
VERSION:2.0
PRODID:icalendar-ruby
CALSCALE:GREGORIAN
METHOD:PUBLISH
BEGIN:VEVENT
DTSTAMP:20260423T021242Z
UID:event-22283-2026-04-23T19:30:00+02:00-none
DTSTART;TZID=Europe/Madrid:20260423T193000
DESCRIPTION:MilVelas organiza una nueva cita en el Real Club de Regatas de 
 Santander. En esta ocasión\, Enrique Serrano Cañadas nos hablará acerca
  de "Groenlandia: modos de vida y poblamiento de una isla en la encrucijad
 a".
SUMMARY:"Groenlandia: modos de vida y poblamiento de una isla en la encruci
 jada"\, por Enrique Serrano
END:VEVENT
END:VCALENDAR
