BEGIN:VCALENDAR
VERSION:2.0
PRODID:icalendar-ruby
CALSCALE:GREGORIAN
METHOD:PUBLISH
BEGIN:VEVENT
DTSTAMP:20260421T193352Z
UID:event-22287-2026-04-23T19:30:00+02:00-none
DTSTART;TZID=Europe/Madrid:20260423T193000
DESCRIPTION:Antes de que los Estados Unidos entren en la guerra en 1917\, F
 rederick\, un periodista norteamericano\, se alista como voluntario en el 
 Cuerpo de Ambulancias italiano para poder seguir de cerca los acontecimien
 tos. 
SUMMARY:Ciclo Frank Borzage: "A Farewell to Arms" (V.O.S.E.)
END:VEVENT
END:VCALENDAR
