BEGIN:VCALENDAR
VERSION:2.0
PRODID:icalendar-ruby
CALSCALE:GREGORIAN
METHOD:PUBLISH
BEGIN:VEVENT
DTSTAMP:20260423T014658Z
UID:event-22302-2026-04-23T10:00:00+02:00-2026-04-23T18:00:00+02:00
DTSTART;TZID=Europe/Madrid:20260423T100000
DTEND;TZID=Europe/Madrid:20260423T180000
DESCRIPTION:En el vestíbulo del museo encontrarás libros que podrás llev
 arte gratis para practicar el bookcrossing. Elige un libro\, llévatelo\, 
 disfrútalo y luego libéralo para que siga teniendo más vidas.
SUMMARY:Bookcrossing en el MMC por el Día del Libro
END:VEVENT
BEGIN:VEVENT
DTSTAMP:20260423T014658Z
UID:event-22302-2026-04-24T10:00:00+02:00-2026-04-24T18:00:00+02:00
DTSTART;TZID=Europe/Madrid:20260424T100000
DTEND;TZID=Europe/Madrid:20260424T180000
DESCRIPTION:En el vestíbulo del museo encontrarás libros que podrás llev
 arte gratis para practicar el bookcrossing. Elige un libro\, llévatelo\, 
 disfrútalo y luego libéralo para que siga teniendo más vidas.
SUMMARY:Bookcrossing en el MMC por el Día del Libro
END:VEVENT
BEGIN:VEVENT
DTSTAMP:20260423T014658Z
UID:event-22302-2026-04-25T10:00:00+02:00-2026-04-25T18:00:00+02:00
DTSTART;TZID=Europe/Madrid:20260425T100000
DTEND;TZID=Europe/Madrid:20260425T180000
DESCRIPTION:En el vestíbulo del museo encontrarás libros que podrás llev
 arte gratis para practicar el bookcrossing. Elige un libro\, llévatelo\, 
 disfrútalo y luego libéralo para que siga teniendo más vidas.
SUMMARY:Bookcrossing en el MMC por el Día del Libro
END:VEVENT
BEGIN:VEVENT
DTSTAMP:20260423T014658Z
UID:event-22302-2026-04-26T10:00:00+02:00-2026-04-26T18:00:00+02:00
DTSTART;TZID=Europe/Madrid:20260426T100000
DTEND;TZID=Europe/Madrid:20260426T180000
DESCRIPTION:En el vestíbulo del museo encontrarás libros que podrás llev
 arte gratis para practicar el bookcrossing. Elige un libro\, llévatelo\, 
 disfrútalo y luego libéralo para que siga teniendo más vidas.
SUMMARY:Bookcrossing en el MMC por el Día del Libro
END:VEVENT
END:VCALENDAR
