BEGIN:VCALENDAR
VERSION:2.0
PRODID:icalendar-ruby
CALSCALE:GREGORIAN
METHOD:PUBLISH
BEGIN:VEVENT
DTSTAMP:20260423T034141Z
UID:event-22350-2026-04-23T10:00:00+02:00-2026-04-23T14:00:00+02:00
DTSTART;TZID=Europe/Madrid:20260423T100000
DTEND;TZID=Europe/Madrid:20260423T140000
DESCRIPTION:En el museo encontrarás libros que podrás llevarte\, leer y l
 iberar en otros espacios públicos.
SUMMARY:Bookcrossing en el MUPAC por el Día del Libro
END:VEVENT
BEGIN:VEVENT
DTSTAMP:20260423T034141Z
UID:event-22350-2026-04-23T17:00:00+02:00-2026-04-23T19:30:00+02:00
DTSTART;TZID=Europe/Madrid:20260423T170000
DTEND;TZID=Europe/Madrid:20260423T193000
DESCRIPTION:En el museo encontrarás libros que podrás llevarte\, leer y l
 iberar en otros espacios públicos.
SUMMARY:Bookcrossing en el MUPAC por el Día del Libro
END:VEVENT
END:VCALENDAR
