BEGIN:VCALENDAR
VERSION:2.0
PRODID:icalendar-ruby
CALSCALE:GREGORIAN
METHOD:PUBLISH
BEGIN:VEVENT
DTSTAMP:20260423T053355Z
UID:event-22374-2026-05-03T11:00:00+02:00-2026-05-03T14:00:00+02:00
DTSTART;TZID=Europe/Madrid:20260503T110000
DTEND;TZID=Europe/Madrid:20260503T140000
DESCRIPTION:El taller consistirá en la creación de tu propio bichillo con
  arcilla polimérica. Aprenderás a diseñar un personaje desde cero y a t
 raducirlo al 3D.
SUMMARY:Taller de creación de figuras con arcilla polimérica
END:VEVENT
END:VCALENDAR
