BEGIN:VCALENDAR
VERSION:2.0
PRODID:icalendar-ruby
CALSCALE:GREGORIAN
METHOD:PUBLISH
BEGIN:VEVENT
DTSTAMP:20260422T021900Z
UID:event-22381-2026-04-22T17:00:00+02:00-none
DTSTART;TZID=Europe/Madrid:20260422T170000
DESCRIPTION:Tras ser estafado por un banco\, Tony Kiritsis se presenta en s
 us oficinas y secuestra al hijo del presidente de la compañía atándole 
 al cuello un dispositivo mortal con un alambre conectado al gatillo de una
  escopeta.
SUMMARY:“Prime Crime: A true Story”\, de Gus Van Sant
END:VEVENT
BEGIN:VEVENT
DTSTAMP:20260422T021900Z
UID:event-22381-2026-04-22T19:30:00+02:00-none
DTSTART;TZID=Europe/Madrid:20260422T193000
DESCRIPTION:Tras ser estafado por un banco\, Tony Kiritsis se presenta en s
 us oficinas y secuestra al hijo del presidente de la compañía atándole 
 al cuello un dispositivo mortal con un alambre conectado al gatillo de una
  escopeta.
SUMMARY:“Prime Crime: A true Story”\, de Gus Van Sant
END:VEVENT
BEGIN:VEVENT
DTSTAMP:20260422T021900Z
UID:event-22381-2026-04-23T17:00:00+02:00-none
DTSTART;TZID=Europe/Madrid:20260423T170000
DESCRIPTION:Tras ser estafado por un banco\, Tony Kiritsis se presenta en s
 us oficinas y secuestra al hijo del presidente de la compañía atándole 
 al cuello un dispositivo mortal con un alambre conectado al gatillo de una
  escopeta.
SUMMARY:“Prime Crime: A true Story”\, de Gus Van Sant
END:VEVENT
BEGIN:VEVENT
DTSTAMP:20260422T021900Z
UID:event-22381-2026-04-25T16:30:00+02:00-none
DTSTART;TZID=Europe/Madrid:20260425T163000
DESCRIPTION:Tras ser estafado por un banco\, Tony Kiritsis se presenta en s
 us oficinas y secuestra al hijo del presidente de la compañía atándole 
 al cuello un dispositivo mortal con un alambre conectado al gatillo de una
  escopeta.
SUMMARY:“Prime Crime: A true Story”\, de Gus Van Sant
END:VEVENT
BEGIN:VEVENT
DTSTAMP:20260422T021900Z
UID:event-22381-2026-04-26T16:45:00+02:00-none
DTSTART;TZID=Europe/Madrid:20260426T164500
DESCRIPTION:Tras ser estafado por un banco\, Tony Kiritsis se presenta en s
 us oficinas y secuestra al hijo del presidente de la compañía atándole 
 al cuello un dispositivo mortal con un alambre conectado al gatillo de una
  escopeta.
SUMMARY:“Prime Crime: A true Story”\, de Gus Van Sant
END:VEVENT
END:VCALENDAR
