BEGIN:VCALENDAR
VERSION:2.0
PRODID:icalendar-ruby
CALSCALE:GREGORIAN
METHOD:PUBLISH
BEGIN:VEVENT
DTSTAMP:20260423T021242Z
UID:event-22384-2026-04-23T20:30:00+02:00-none
DTSTART;TZID=Europe/Madrid:20260423T203000
DESCRIPTION:Adrián Buenaga es de Torrelavega. Empezó con el saxofón a lo
 s 10 años y a los 15 ya estaba en Oklahoma estudiando con uno de los mejo
 res profesores de jazz del país. 
SUMMARY:"El error más bonito del mundo". Jazz con Adrián Buenaga
END:VEVENT
END:VCALENDAR
