BEGIN:VCALENDAR
VERSION:2.0
PRODID:icalendar-ruby
CALSCALE:GREGORIAN
METHOD:PUBLISH
BEGIN:VEVENT
DTSTAMP:20260422T220956Z
UID:event-22385-2026-04-22T18:00:00+02:00-none
DTSTART;TZID=Europe/Madrid:20260422T180000
DESCRIPTION:El evento contará con la lectura de poemas a cargo de Emilia F
 ernández.
SUMMARY:"La vida en un caleidoscopio". Encuentro con Carmen Mora González
END:VEVENT
END:VCALENDAR
