BEGIN:VCALENDAR
VERSION:2.0
PRODID:icalendar-ruby
CALSCALE:GREGORIAN
METHOD:PUBLISH
BEGIN:VEVENT
DTSTAMP:20260421T190558Z
UID:event-22392-2026-05-04T20:00:00+02:00-none
DTSTART;TZID=Europe/Madrid:20260504T200000
DESCRIPTION:Se propone una aproximación al papel central de este gran comp
 ositor en la modernidad musical española del primer tercio del siglo XX.
SUMMARY:"Alrededor de Falla en su 150 aniversario"\, con el Ensemble Instru
 mental de Cantabria
END:VEVENT
END:VCALENDAR
