BEGIN:VCALENDAR
VERSION:2.0
PRODID:icalendar-ruby
CALSCALE:GREGORIAN
METHOD:PUBLISH
BEGIN:VEVENT
DTSTAMP:20260421T185843Z
UID:event-22402-2026-05-29T20:30:00+02:00-none
DTSTART;TZID=Europe/Madrid:20260529T203000
DESCRIPTION:Un particular universo flamenco\, lleno de fantasía y absoluto
  embrujo\, que recorre el género atravesando el cante y la vanguardia\, d
 e manera inteligente\, sensible y poderosa.
SUMMARY:Ángeles Toledano presenta "Sangre Sucia" en formato dúo
END:VEVENT
END:VCALENDAR
