BEGIN:VCALENDAR
VERSION:2.0
PRODID:icalendar-ruby
CALSCALE:GREGORIAN
METHOD:PUBLISH
BEGIN:VEVENT
DTSTAMP:20260421T190250Z
UID:event-22403-2026-05-30T10:00:00+02:00-2026-05-30T14:00:00+02:00
DTSTART;TZID=Europe/Madrid:20260530T100000
DTEND;TZID=Europe/Madrid:20260530T140000
DESCRIPTION:Tras visionar vídeos de diversas danzas del mundo\, el grupo c
 reará pequeñas coreografías para la calle y el escenario\, entendiendo 
 en este proceso las diferentes lógicas espaciales y contextuales de ambos
  lugares.
SUMMARY:Taller de danza: "Escenas\, calle\, escenario\, pantalla"
END:VEVENT
END:VCALENDAR
