BEGIN:VCALENDAR
VERSION:2.0
PRODID:icalendar-ruby
CALSCALE:GREGORIAN
METHOD:PUBLISH
BEGIN:VEVENT
DTSTAMP:20260424T153126Z
UID:event-22406-2026-04-25T19:30:00+02:00-none
DTSTART;TZID=Europe/Madrid:20260425T193000
DESCRIPTION:La Vorágine cumple en este 2026 la friolera de 13 años en los
  que han construido procesos sostenidos\, lugares compartidos\, (des)apren
 dizajes\, formaciones políticas\, posicionamientos críticos. 
SUMMARY:La Vorágine celebra su 13 cumpleaños con la música de Los Castos
END:VEVENT
END:VCALENDAR
